Workbook

Sheet Data
A1: Week | C1: Week | D1: Team | E1: Opp | F1: Game | H1: TEAM# | I1: NAME | J1: Re columns I and J, from season to season, as necessary: 1) change each team's name and 2) move it to the row that corresponds to its team number for the new season WITH THE SYMBOL in column J.
A2: 5 | C2: 1 | D2: 1 | E2: 10 | F2: A | H2: 1 | I2: Chili's Dawgs | J2: 🚨
C3: 1 | D3: 1 | E3: 7 | F3: B | H3: 2 | I3: Rough Rodgers Goes Riding | J3: 😇
C4: 1 | D4: 2 | E4: 6 | F4: A | H4: 3 | I4: Jeantymen's Club | J4: 🥇
C5: 1 | D5: 2 | E5: 3 | F5: B | H5: 4 | I5: On these Brocks I will ... | J5: 𝕏
C6: 1 | D6: 3 | E6: 5 | F6: A | H6: 5 | I6: Shmall Boto | J6: 🤙
C7: 1 | D7: 3 | E7: 2 | F7: B | H7: 6 | I7: Nacua Matata | J7: 🍆
C8: 1 | D8: 4 | E8: 9 | F8: A | H8: 7 | I8: Bitch-Slapped by my Bi'Johnson | J8: 🤑
C9: 1 | D9: 4 | E9: 10 | F9: B | H9: 8 | I9: Ctrl Alt Defeat | J9: 🤖
C10: 1 | D10: 5 | E10: 3 | F10: A | H10: 9 | I10: Runnin' It Back... Again | J10: 🧐
C11: 1 | D11: 5 | E11: 6 | F11: B | H11: 10 | I11: Sekundeez | J11: 🏝
C12: 1 | D12: 6 | E12: 2 | F12: A
C13: 1 | D13: 6 | E13: 5 | F13: B
C14: 1 | D14: 7 | E14: 8 | F14: A
C15: 1 | D15: 7 | E15: 1 | F15: B
C16: 1 | D16: 8 | E16: 7 | F16: A
C17: 1 | D17: 8 | E17: 9 | F17: B
C18: 1 | D18: 9 | E18: 4 | F18: A
C19: 1 | D19: 9 | E19: 8 | F19: B
C20: 1 | D20: 10 | E20: 1 | F20: A
C21: 1 | D21: 10 | E21: 4 | F21: B
C22: 2 | D22: 1 | E22: 4 | F22: A
C23: 2 | D23: 1 | E23: 2 | F23: B
... C271: 17 | D271: 10 | E271: 8 | F271: A
C272: 18 | D272: TBD | E272: TBD
C273: 18 | D273: TBD | E273: TBD
C274: 18 | D274: TBD | E274: TBD
C275: 18 | D275: TBD | E275: TBD
C276: 18 | D276: TBD | E276: TBD
C277: 18 | D277: TBD | E277: TBD
C278: 18 | D278: TBD | E278: TBD
C279: 18 | D279: TBD | E279: TBD
C280: 18 | D280: TBD | E280: TBD
C281: 18 | D281: TBD | E281: TBD
C282: 18 | D282: TBD | E282: TBD
C283: 18 | D283: TBD | E283: TBD
... C291: 18 | D291: TBD | E291: TBD

Sheet Weekly Stats
A1: Team Name | B1: TNAME Code | C1: Sack | D1: FumL | E1: Int | F1: ToYd | G1: Pts. Allowed | H1: Safety | I1: St2Pt | J1: TDs | K1: Pts. Scored (Calculated) | W1: TNAME Code | X1: Team Name | AA1: TEAM | AB1: HC | AC1: TM PTS | AD1: OPP PTS
A2: =VLOOKUP(B2,$W$1:$X$34,2,0) -> No Defense | B2: NOD | F2: 999 | G2: 99 | K2: =($H2*2)+($I2*2)+($J2*6) -> 0 | W2: ARI | X2: Arizona Cardinals | AA2: ARI | AB2: Mike LaFleur | AC2: 21 | AD2: 45
A3: =INDEX(X:X,MATCH(B3,W:W,0)) -> Arizona Cardinals | B3: ARI | C3: 3 | D3: 0 | E3: 0 | F3: 412 | G3: 45 | H3: 0 | I3: 0 | J3: 0 | K3: =(H3*2)+(I3*2)+(J3*6) -> 0 | W3: ATL | X3: Atlanta Falcons | AA3: ATL | AB3: Kevin Stefanski | AC3: 23 | AD3: 30
A4: =INDEX(X:X,MATCH(B4,W:W,0)) -> Atlanta Falcons | B4: ATL | C4: 4 | D4: 1 | E4: 0 | F4: 391 | G4: 30 | H4: 0 | I4: 0 | J4: 1 | K4: =(H4*2)+(I4*2)+(J4*6) -> 6 | W4: BAL | X4: Baltimore Ravens | AA4: BAL | AB4: Jesse Minter | AC4: 30 | AD4: 23
A5: =INDEX(X:X,MATCH(B5,W:W,0)) -> Baltimore Ravens | B5: BAL | C5: 3 | D5: 0 | E5: 1 | F5: 367 | G5: 23 | H5: 0 | I5: 0 | J5: 0 | K5: =(H5*2)+(I5*2)+(J5*6) -> 0 | W5: BUF | X5: Buffalo Bills | AA5: BUF | AB5: Joe Brady | AC5: 37 | AD5: 34
A6: =INDEX(X:X,MATCH(B6,W:W,0)) -> Buffalo Bills | B6: BUF | C6: 1 | D6: 0 | E6: 0 | F6: 454 | G6: 34 | H6: 0 | I6: 0 | J6: 0 | K6: =(H6*2)+(I6*2)+(J6*6) -> 0 | W6: CAR | X6: Carolina Panthers | AA6: CHI | AB6: Ben Johnson | AC6: 7 | AD6: 31
A7: =INDEX(X:X,MATCH(B7,W:W,0)) -> Chicago Bears | B7: CHI | C7: 2 | D7: 0 | E7: 0 | F7: 428 | G7: 31 | H7: 0 | I7: 0 | J7: 0 | K7: =(H7*2)+(I7*2)+(J7*6) -> 0 | W7: CHI | X7: Chicago Bears | AA7: CIN | AB7: Zac Taylor | AC7: 31 | AD7: 24
A8: =INDEX(X:X,MATCH(B8,W:W,0)) -> Cincinnati Bengals | B8: CIN | C8: 3 | D8: 1 | E8: 2 | F8: 331 | G8: 24 | H8: 0 | I8: 0 | J8: 0 | K8: =(H8*2)+(I8*2)+(J8*6) -> 0 | W8: CIN | X8: Cincinnati Bengals | AA8: CLE | AB8: Todd Monken | AC8: 12 | AD8: 17
A9: =INDEX(X:X,MATCH(B9,W:W,0)) -> Cleveland Browns | B9: CLE | C9: 4 | D9: 2 | E9: 0 | F9: 276 | G9: 17 | H9: 0 | I9: 0 | J9: 0 | K9: =(H9*2)+(I9*2)+(J9*6) -> 0 | W9: CLE | X9: Cleveland Browns | AA9: DAL | AB9: Brian Schottenheimer | AC9: 16 | AD9: 24
A10: =INDEX(X:X,MATCH(B10,W:W,0)) -> Dallas Cowboys | B10: DAL | C10: 1 | D10: 0 | E10: 0 | F10: 419 | G10: 24 | H10: 0 | I10: 0 | J10: 0 | K10: =(H10*2)+(I10*2)+(J10*6) -> 0 | W10: DAL | X10: Dallas Cowboys | AA10: DEN | AB10: Sean Payton | AC10: 23 | AD10: 17
A11: =INDEX(X:X,MATCH(B11,W:W,0)) -> Denver Broncos | B11: DEN | C11: 5 | D11: 2 | E11: 1 | F11: 237 | G11: 17 | H11: 0 | I11: 0 | J11: 0 | K11: =(H11*2)+(I11*2)+(J11*6) -> 0 | W11: DEN | X11: Denver Broncos | AA11: DET | AB11: Dan Campbell | AC11: 45 | AD11: 21
A12: =INDEX(X:X,MATCH(B12,W:W,0)) -> Detroit Lions | B12: DET | C12: 5 | D12: 0 | E12: 1 | F12: 327 | G12: 21 | H12: 0 | I12: 0 | J12: 0 | K12: =(H12*2)+(I12*2)+(J12*6) -> 0 | W12: DET | X12: Detroit Lions | AA12: GNB | AB12: Matt LaFleur | AC12: 31 | AD12: 7
A13: =INDEX(X:X,MATCH(B13,W:W,0)) -> Green Bay Packers | B13: GNB | C13: 4 | D13: 2 | E13: 3 | F13: 246 | G13: 7 | H13: 0 | I13: 0 | J13: 0 | K13: =(H13*2)+(I13*2)+(J13*6) -> 0 | W13: GNB | X13: Green Bay Packers | AA13: HOU | AB13: DeMeco Ryans | AC13: 26 | AD13: 3
A14: =INDEX(X:X,MATCH(B14,W:W,0)) -> Houston Texans | B14: HOU | C14: 4 | D14: 1 | E14: 1 | F14: 187 | G14: 3 | H14: 0 | I14: 0 | J14: 0 | K14: =(H14*2)+(I14*2)+(J14*6) -> 0 | W14: HOU | X14: Houston Texans | AA14: IND | AB14: Shane Steichen | AC14: 22 | AD14: 34
... A31: =INDEX(X:X,MATCH(B31,W:W,0)) -> Tennessee Titans | B31: TEN | C31: 2 | D31: 0 | E31: 0 | F31: 329 | G31: 26 | H31: 0 | I31: 0 | J31: 0 | K31: =(H31*2)+(I31*2)+(J31*6) -> 0 | W31: TAM | X31: Tampa Bay Buccaneers | AA31: WAS | AB31: Dan Quinn | AC31: 27 | AD31: 27
A32: =INDEX(X:X,MATCH(B32,W:W,0)) -> Washington Commanders | B32: WAS | C32: 2 | D32: 2 | E32: 0 | F32: 408 | G32: 27 | H32: 0 | I32: 0 | J32: 0 | K32: =(H32*2)+(I32*2)+(J32*6) -> 0 | W32: TEN | X32: Tennessee Titans
W33: WAS | X33: Washington Commanders
W34: NOD | X34: No Defense | AB34: No Body | AC34: 0 | AD34: 99
K35: This column is calculated =
A45: Name | B45: Comp | C45: ATT | D45: PaYD | E45: PaTD | F45: Intc | G45: Rush | H45: RuYD | I45: RuTD | J45: Rcpt | K45: ReYD | L45: ReTD | M45: FL | N45: 2Pt | O45: FG | P45: FG30 | Q45: FG40 | R45: FG50 | S45: FG60 | T45: XP
A46: Andre Szmyt | B46: 0 | C46: 0 | D46: 0 | E46: 0 | F46: 0 | G46: 0 | H46: 0 | I46: 0 | J46: 0 | K46: 0 | L46: 0 | M46: 0 | N46: 0 | O46: 2 | P46: 1 | Q46: 1 | R46: 0 | S46: 0 | T46: 0
A47: Andy Borregales | B47: 0 | C47: 0 | D47: 0 | E47: 0 | F47: 0 | G47: 0 | H47: 0 | I47: 0 | J47: 0 | K47: 0 | L47: 0 | M47: 0 | N47: 0 | O47: 1 | P47: 1 | Q47: 0 | R47: 0 | S47: 0 | T47: 6
A48: Brandon Aubrey | B48: 0 | C48: 0 | D48: 0 | E48: 0 | F48: 0 | G48: 0 | H48: 0 | I48: 0 | J48: 0 | K48: 0 | L48: 0 | M48: 0 | N48: 0 | O48: 1 | P48: 0 | Q48: 1 | R48: 0 | S48: 0 | T48: 1
A49: Cairo Santos | B49: 0 | C49: 0 | D49: 0 | E49: 0 | F49: 0 | G49: 0 | H49: 0 | I49: 0 | J49: 0 | K49: 0 | L49: 0 | M49: 0 | N49: 0 | O49: 0 | P49: 0 | Q49: 0 | R49: 0 | S49: 0 | T49: 1
A50: Cam Little | B50: 0 | C50: 0 | D50: 0 | E50: 0 | F50: 0 | G50: 0 | H50: 0 | I50: 0 | J50: 0 | K50: 0 | L50: 0 | M50: 0 | N50: 0 | O50: 2 | P50: 1 | Q50: 0 | R50: 1 | S50: 0 | T50: 1
A51: Cameron Dicker | B51: 0 | C51: 0 | D51: 0 | E51: 0 | F51: 0 | G51: 0 | H51: 0 | I51: 0 | J51: 0 | K51: 0 | L51: 0 | M51: 0 | N51: 0 | O51: 1 | P51: 0 | Q51: 1 | R51: 0 | S51: 0 | T51: 2
A52: Chad Ryland | B52: 0 | C52: 0 | D52: 0 | E52: 0 | F52: 0 | G52: 0 | H52: 0 | I52: 0 | J52: 0 | K52: 0 | L52: 0 | M52: 0 | N52: 0 | O52: 0 | P52: 0 | Q52: 0 | R52: 0 | S52: 0 | T52: 3
A53: Chase McLaughlin | B53: 0 | C53: 0 | D53: 0 | E53: 0 | F53: 0 | G53: 0 | H53: 0 | I53: 0 | J53: 0 | K53: 0 | L53: 0 | M53: 0 | N53: 0 | O53: 1 | P53: 0 | Q53: 1 | R53: 0 | S53: 0 | T53: 3
A54: Chris Boswell | B54: 0 | C54: 0 | D54: 0 | E54: 0 | F54: 0 | G54: 0 | H54: 0 | I54: 0 | J54: 0 | K54: 0 | L54: 0 | M54: 0 | N54: 0 | O54: 2 | P54: 0 | Q54: 1 | R54: 1 | S54: 0 | T54: 4
A55: Daniel Carlson | B55: 0 | C55: 0 | D55: 0 | E55: 0 | F55: 0 | G55: 0 | H55: 0 | I55: 0 | J55: 0 | K55: 0 | L55: 0 | M55: 0 | N55: 0 | O55: 0 | P55: 0 | Q55: 0 | R55: 0 | S55: 0 | T55: 1
A56: Dominic Zvada | B56: 0 | C56: 0 | D56: 0 | E56: 0 | F56: 0 | G56: 0 | H56: 0 | I56: 0 | J56: 0 | K56: 0 | L56: 0 | M56: 0 | N56: 0 | O56: 2 | P56: 0 | Q56: 0 | R56: 2 | S56: 0 | T56: 3
A57: Drew Stevens | B57: 0 | C57: 0 | D57: 0 | E57: 0 | F57: 0 | G57: 0 | H57: 0 | I57: 0 | J57: 0 | K57: 0 | L57: 0 | M57: 0 | N57: 0 | O57: 2 | P57: 1 | Q57: 1 | R57: 0 | S57: 0 | T57: 1
... A75: Will Reichard | B75: 0 | C75: 0 | D75: 0 | E75: 0 | F75: 0 | G75: 0 | H75: 0 | I75: 0 | J75: 0 | K75: 0 | L75: 0 | M75: 0 | N75: 0 | O75: 3 | P75: 0 | Q75: 1 | R75: 2 | S75: 0 | T75: 2
A88: Name | B88: Comp | C88: ATT | D88: PaYD | E88: PaTD | F88: Intc | G88: Rush | H88: RuYD | I88: RuTD | J88: Rcpt | K88: ReYD | L88: ReTD | M88: FL | N88: 2Pt
A89: Aaron Jones | B89: 0 | C89: 0 | D89: 0 | E89: 0 | F89: 0 | G89: 25 | H89: 113 | I89: 1 | J89: 3 | K89: 4 | L89: 0 | M89: 1 | N89: 0
A90: Aaron Rodgers | B90: 22 | C90: 31 | D90: 235 | E90: 3 | F90: 0 | G90: 1 | H90: 6 | I90: 0 | J90: 0 | K90: 0 | L90: 0 | M90: 0 | N90: 0
A91: Adam Prentice | B91: 0 | C91: 0 | D91: 0 | E91: 0 | F91: 0 | G91: 1 | H91: 3 | I91: 0 | J91: 0 | K91: 0 | L91: 0 | M91: 0 | N91: 0
A92: AJ Barner | B92: 0 | C92: 0 | D92: 0 | E92: 0 | F92: 0 | G92: 0 | H92: 0 | I92: 0 | J92: 3 | K92: 20 | L92: 0 | M92: 0 | N92: 0
A93: Alvin Kamara | B93: 0 | C93: 0 | D93: 0 | E93: 0 | F93: 0 | G93: 3 | H93: 12 | I93: 0 | J93: 2 | K93: -6 | L93: 0 | M93: 0 | N93: 0
A94: Amon-Ra St. Brown | B94: 0 | C94: 0 | D94: 0 | E94: 0 | F94: 0 | G94: 0 | H94: 0 | I94: 0 | J94: 6 | K94: 69 | L94: 0 | M94: 0 | N94: 0
A95: Andrew Ogletree | B95: 0 | C95: 0 | D95: 0 | E95: 0 | F95: 0 | G95: 0 | H95: 0 | I95: 0 | J95: 1 | K95: 4 | L95: 0 | M95: 0 | N95: 0
A96: Antonio Williams | B96: 0 | C96: 0 | D96: 0 | E96: 0 | F96: 0 | G96: 0 | H96: 0 | I96: 0 | J96: 3 | K96: 31 | L96: 0 | M96: 0 | N96: 0
A97: Ashton Jeanty | B97: 0 | C97: 0 | D97: 0 | E97: 0 | F97: 0 | G97: 10 | H97: 27 | I97: 0 | J97: 3 | K97: 50 | L97: 0 | M97: 0 | N97: 0
A98: Austin Ekeler | B98: 0 | C98: 0 | D98: 0 | E98: 0 | F98: 0 | G98: 3 | H98: -1 | I98: 0 | J98: 1 | K98: 15 | L98: 0 | M98: 0 | N98: 0
A99: Ben Yurosek | B99: 0 | C99: 0 | D99: 0 | E99: 0 | F99: 0 | G99: 0 | H99: 0 | I99: 0 | J99: 1 | K99: 10 | L99: 0 | M99: 0 | N99: 0
A100: Bhayshul Tuten | B100: 0 | C100: 0 | D100: 0 | E100: 0 | F100: 0 | G100: 22 | H100: 72 | I100: 0 | J100: 2 | K100: 24 | L100: 0 | M100: 0 | N100: 0
... A363: Zonovan Knight | B363: 0 | C363: 0 | D363: 0 | E363: 0 | F363: 0 | G363: 1 | H363: 8 | I363: 0 | J363: 0 | K363: 0 | L363: 0 | M363: 0 | N363: 0

Sheet Lineups
A1: On these Brocks I will ... | B1: Coach: | C1: Sean Payton | D1: Sean Payton | E1: Sean Payton | H1: Z Commissioner's override column
A2: On these Brocks I will ... | B2: A_QB1: | C2: Trevor Lawrence | D2: Trevor Lawrence | E2: Trevor Lawrence | F2: Trevor Lawrence
A3: On these Brocks I will ... | B3: A_QB2: | C3: Sam Darnold | D3: Sam Darnold | E3: Sam Darnold | F3: Sam Darnold
A4: On these Brocks I will ... | B4: A_QB3: | C4: Brock Purdy | D4: Brock Purdy | E4: Brock Purdy
A5: On these Brocks I will ... | B5: A_QB4: | C5: Malik Willis | D5: Malik Willis | E5: Malik Willis
A6: On these Brocks I will ... | B6: A_QB5: | C6: Shedeur Sanders | D6: No Body
A7: On these Brocks I will ... | B7: A_QB6: | C7: N/A | D7: No Body
A8: On these Brocks I will ... | B8: A_Other_QBs: | D8: No Body
A9: On these Brocks I will ... | B9: A_RB1: | C9: Derrick Henry | D9: Derrick Henry | E9: Derrick Henry | F9: Derrick Henry
A10: On these Brocks I will ... | B10: A_RB2: | C10: Jacory Croskey-Merritt | D10: Jacory Croskey-Merritt | E10: Jacory Croskey-Merritt | F10: Jacory Croskey-Merritt
A11: On these Brocks I will ... | B11: A_RB3: | C11: Emanuel Wilson | D11: J.K. Dobbins | F11: J.K. Dobbins
A12: On these Brocks I will ... | B12: A_RB4: | C12: J.K. Dobbins | D12: Chris Rodriguez | E12: J.K. Dobbins
A13: On these Brocks I will ... | B13: A_RB5: | C13: Chris Rodriguez | D13: No Body | E13: Chris Rodriguez
A14: On these Brocks I will ... | B14: A_RB6: | C14: Will Shipley | D14: No Body
A15: On these Brocks I will ... | B15: A_RB7: | C15: Kenneth Walker III | D15: No Body
A16: On these Brocks I will ... | B16: A_Other_RBs: | D16: No Body
A17: On these Brocks I will ... | B17: A_RC1: | C17: Brock Bowers | D17: Brock Bowers | E17: Brock Bowers | F17: Garrett Wilson
A18: On these Brocks I will ... | B18: A_RC2: | C18: Garrett Wilson | D18: Garrett Wilson | E18: Garrett Wilson | F18: Garrett Wilson
A19: On these Brocks I will ... | B19: A_RC3: | C19: (First Free-agent RC Picked Up) | D19: George Kittle | F19: George Kittle
A20: On these Brocks I will ... | B20: A_RC4: | C20: (Second Free-agent RC Picked Up) | D20: No Body
A21: On these Brocks I will ... | B21: A_RC5: | C21: Ladd McConkey | D21: No Body
A22: On these Brocks I will ... | B22: A_RC6: | C22: Alec Pierce | D22: No Body
A23: On these Brocks I will ... | B23: A_RC7: | C23: De'Zhaun Stribling | D23: No Body
A24: On these Brocks I will ... | B24: A_Other_RCs: | D24: No Body
A25: On these Brocks I will ... | B25: A_PK1: | C25: Tyler Loop | D25: Tyler Loop | E25: Tyler Loop | F25: Tyler Loop
A26: On these Brocks I will ... | B26: A_PK2: | C26: N/A | D26: No Body
A27: On these Brocks I will ... | B27: A_Other_PKs: | D27: No Body
A28: On these Brocks I will ... | B28: A_DU1: | C28: Chicago Bears | D28: Chicago Bears | E28: Chicago Bears | F28: New York Jets
A29: On these Brocks I will ... | B29: A_DU2: | C29: New York Jets | D29: New York Jets | E29: New York Jets
A30: On these Brocks I will ... | B30: A_DU3: | C30: N/A | D30: No Defense
A31: On these Brocks I will ... | B31: A_Other_DUs: | D31: No Defense
A32: On these Brocks I will ... | B32: B_QB1: | C32: Trevor Lawrence | D32: Trevor Lawrence | E32: Trevor Lawrence | F32: Trevor Lawrence
A33: On these Brocks I will ... | B33: B_QB2: | C33: Brock Purdy | D33: Brock Purdy | E33: Brock Purdy | F33: Sam Darnold
A34: On these Brocks I will ... | B34: B_QB3: | C34: Sam Darnold | D34: Sam Darnold | E34: Sam Darnold
A35: On these Brocks I will ... | B35: B_QB4: | C35: Malik Willis | D35: Malik Willis | E35: Malik Willis
A36: On these Brocks I will ... | B36: B_QB5: | C36: Shedeur Sanders | D36: No Body
A37: On these Brocks I will ... | B37: B_QB6: | C37: N/A | D37: No Body
A38: On these Brocks I will ... | B38: B_Other_QBs: | D38: No Body
A39: On these Brocks I will ... | B39: B_RB1: | C39: Derrick Henry | D39: Derrick Henry | E39: Derrick Henry | F39: Derrick Henry
A40: On these Brocks I will ... | B40: B_RB2: | C40: Jacory Croskey-Merritt | D40: Jacory Croskey-Merritt | E40: Jacory Croskey-Merritt | F40: Jacory Croskey-Merritt
A41: On these Brocks I will ... | B41: B_RB3: | C41: Will Shipley | D41: J.K. Dobbins | F41: J.K. Dobbins
A42: On these Brocks I will ... | B42: B_RB4: | C42: Emanuel Wilson | D42: Chris Rodriguez
A43: On these Brocks I will ... | B43: B_RB5: | C43: J.K. Dobbins | D43: No Body | E43: J.K. Dobbins
A44: On these Brocks I will ... | B44: B_RB6: | C44: Chris Rodriguez | D44: No Body | E44: Chris Rodriguez
A45: On these Brocks I will ... | B45: B_RB7: | C45: Kenneth Walker III | D45: No Body
A46: On these Brocks I will ... | B46: B_Other_RBs: | D46: No Body
A47: On these Brocks I will ... | B47: B_RC1: | C47: Brock Bowers | D47: Brock Bowers | E47: Brock Bowers | F47: Garrett Wilson
A48: On these Brocks I will ... | B48: B_RC2: | C48: Garrett Wilson | D48: Garrett Wilson | E48: Garrett Wilson | F48: Garrett Wilson
A49: On these Brocks I will ... | B49: B_RC3: | C49: (First Free-agent RC Picked Up) | D49: George Kittle | F49: George Kittle
A50: On these Brocks I will ... | B50: B_RC4: | C50: (Second Free-agent RC Picked Up) | D50: No Body
A51: On these Brocks I will ... | B51: B_RC5: | C51: Ladd McConkey | D51: No Body
A52: On these Brocks I will ... | B52: B_RC6: | C52: Alec Pierce | D52: No Body
A53: On these Brocks I will ... | B53: B_RC7: | C53: De'Zhaun Stribling | D53: No Body
A54: On these Brocks I will ... | B54: B_Other_RCs: | D54: No Body
A55: On these Brocks I will ... | B55: B_PK1: | C55: Tyler Loop | D55: Tyler Loop | E55: Tyler Loop | F55: Tyler Loop
A56: On these Brocks I will ... | B56: B_PK2: | C56: N/A | D56: No Body
A57: On these Brocks I will ... | B57: B_Other_PKs: | D57: No Body
A58: On these Brocks I will ... | B58: B_DU1: | C58: Chicago Bears | D58: Chicago Bears | E58: Chicago Bears | F58: New York Jets
A59: On these Brocks I will ... | B59: B_DU2: | C59: New York Jets | D59: New York Jets | E59: New York Jets
A60: On these Brocks I will ... | B60: B_DU3: | C60: N/A | D60: No Defense
A61: On these Brocks I will ... | B61: B_Other_DUs: | D61: No Defense
A62: Nacua Matata | B62: Coach: | C62: John Harbaugh | D62: John Harbaugh | E62: John Harbaugh
A63: Nacua Matata | B63: A_QB1: | C63: Justin Herbert | D63: Justin Herbert | E63: Justin Herbert | F63: Justin Herbert
A64: Nacua Matata | B64: A_QB2: | C64: Cam Ward | D64: Cam Ward | E64: Cam Ward | F64: Cam Ward
A65: Nacua Matata | B65: A_QB3: | C65: Carson Beck | D65: No Body
A66: Nacua Matata | B66: A_QB4: | C66: Anthony Richardson Sr. | D66: No Body
A67: Nacua Matata | B67: A_QB5: | C67: N/A | D67: No Body
A68: Nacua Matata | B68: A_QB6: | C68: N/A | D68: No Body
A69: Nacua Matata | B69: A_Other_QBs: | D69: No Body
A70: Nacua Matata | B70: A_RB1: | C70: Cam Skattebo | D70: Cam Skattebo | E70: Cam Skattebo | F70: Rhamondre Stevenson
A71: Nacua Matata | B71: A_RB2: | C71: David Montgomery | D71: David Montgomery | E71: David Montgomery | F71: Rhamondre Stevenson
A72: Nacua Matata | B72: A_RB3: | C72: Rhamondre Stevenson | D72: Rhamondre Stevenson | E72: Rhamondre Stevenson | F72: Rhamondre Stevenson
A73: Nacua Matata | B73: A_RB4: | C73: Rico Dowdle | D73: Mike Washington Jr.
A74: Nacua Matata | B74: A_RB5: | C74: Mike Washington Jr. | D74: No Body | E74: Mike Washington Jr.
A75: Nacua Matata | B75: A_RB6: | C75: N/A | D75: No Body
A76: Nacua Matata | B76: A_RB7: | C76: N/A | D76: No Body
A77: Nacua Matata | B77: A_Other_RBs: | D77: No Body
A78: Nacua Matata | B78: A_RC1: | C78: Puka Nacua | D78: Puka Nacua | E78: Puka Nacua | F78: Tee Higgins
A79: Nacua Matata | B79: A_RC2: | C79: Zay Flowers | D79: Zay Flowers | E79: Zay Flowers | F79: Tee Higgins
A80: Nacua Matata | B80: A_RC3: | C80: Tee Higgins | D80: Tee Higgins | E80: Tee Higgins | F80: Tee Higgins
A81: Nacua Matata | B81: A_RC4: | C81: Carnell Tate | D81: Carnell Tate | E81: Carnell Tate
A82: Nacua Matata | B82: A_RC5: | C82: Devaughn Vele | D82: Devaughn Vele | E82: Devaughn Vele
A83: Nacua Matata | B83: A_RC6: | C83: Keenan Allen | D83: Keenan Allen | E83: Keenan Allen
A84: Nacua Matata | B84: A_RC7: | C84: Brian Thomas | D84: No Body
A85: Nacua Matata | B85: A_Other_RCs: | D85: No Body
A86: Nacua Matata | B86: A_PK1: | C86: Brandon Aubrey | D86: Brandon Aubrey | E86: Brandon Aubrey | F86: Brandon Aubrey
A87: Nacua Matata | B87: A_PK2: | C87: N/A | D87: No Body
A88: Nacua Matata | B88: A_Other_PKs: | D88: No Body
A89: Nacua Matata | B89: A_DU1: | C89: Jacksonville Jaguars | D89: Jacksonville Jaguars | E89: Jacksonville Jaguars | F89: Jacksonville Jaguars
A90: Nacua Matata | B90: A_DU2: | C90: New York Giants | D90: New York Giants | E90: New York Giants
A91: Nacua Matata | B91: A_DU3: | C91: N/A | D91: No Defense
A92: Nacua Matata | B92: A_Other_DUs: | D92: No Defense
A93: Nacua Matata | B93: B_QB1: | C93: Justin Herbert | D93: Justin Herbert | E93: Justin Herbert | F93: Justin Herbert
A94: Nacua Matata | B94: B_QB2: | C94: Cam Ward | D94: Cam Ward | E94: Cam Ward
A95: Nacua Matata | B95: B_QB3: | C95: Carson Beck | D95: No Body
A96: Nacua Matata | B96: B_QB4: | C96: Anthony Richardson Sr. | D96: No Body
A97: Nacua Matata | B97: B_QB5: | C97: N/A | D97: No Body
A98: Nacua Matata | B98: B_QB6: | C98: N/A | D98: No Body
A99: Nacua Matata | B99: B_Other_QBs: | D99: No Body
A100: Nacua Matata | B100: B_RB1: | C100: Cam Skattebo | D100: Cam Skattebo | E100: Cam Skattebo | F100: Rhamondre Stevenson
...

Sheet Chili's Dawgs
C1: GBRFL | E1: Back to Results | G1: Rosters | H1: Standings | I1: Schedule | J1: Rules/Scoring | K1: Lineups | L1: Transactions
A2: 1 | B2: =IFERROR(INDEX(Data!I:I,MATCH(A2,Data!H:H,0)),"") -> Chili's Dawgs
C3: Player | D3: Completions | E3: Passes | F3: Yards | G3: TD's | H3: INT's | I3: Rushes | J3: Yards | K3: TD's | L3: Receptions | M3: Yards | N3: TD's | O3: Fum Lost | P3: 2Pt | Q3: FG's Made | R3: ="10-39" -> 10-39 | S3: 40-49 | T3: 50+ | U3: 60+ | V3: Extra pts. | W3: Total pts. | X3: Comp. % | Y3: Yards/Rush | Z3: Yards/Rec.
B4: A_QB1: | C4: {=IFERROR(INDEX(Lineups!D:D,MATCH(B$2&B4,Lineups!A:A&Lineups!B:B,0)),"")} -> Jordan Love | D4: =IFERROR(INDEX('Weekly Stats'!B:B,MATCH($C4,'Weekly Stats'!$A:$A,0)),"") -> 25 | E4: =IFERROR(INDEX('Weekly Stats'!C:C,MATCH($C4,'Weekly Stats'!$A:$A,0)),"") -> 31 | F4: =IFERROR(INDEX('Weekly Stats'!D:D,MATCH($C4,'Weekly Stats'!$A:$A,0)),"") -> 367 | G4: =IFERROR(INDEX('Weekly Stats'!E:E,MATCH($C4,'Weekly Stats'!$A:$A,0)),"") -> 2 | H4: =IFERROR(INDEX('Weekly Stats'!F:F,MATCH($C4,'Weekly Stats'!$A:$A,0)),"") -> 0 | I4: =IFERROR(INDEX('Weekly Stats'!G:G,MATCH($C4,'Weekly Stats'!$A:$A,0)),"") -> 1 | J4: =IFERROR(INDEX('Weekly Stats'!H:H,MATCH($C4,'Weekly Stats'!$A:$A,0)),"") -> 6 | K4: =IFERROR(INDEX('Weekly Stats'!I:I,MATCH($C4,'Weekly Stats'!$A:$A,0)),"") -> 0 | L4: =IFERROR(INDEX('Weekly Stats'!J:J,MATCH($C4,'Weekly Stats'!$A:$A,0)),"") -> 0 | M4: =IFERROR(INDEX('Weekly Stats'!K:K,MATCH($C4,'Weekly Stats'!$A:$A,0)),"") -> 0 | N4: =IFERROR(INDEX('Weekly Stats'!L:L,MATCH($C4,'Weekly Stats'!$A:$A,0)),"") -> 0 | O4: =IFERROR(INDEX('Weekly Stats'!M:M,MATCH($C4,'Weekly Stats'!$A:$A,0)),"") -> 0 | P4: =IFERROR(INDEX('Weekly Stats'!N:N,MATCH($C4,'Weekly Stats'!$A:$A,0)),"") -> 1 | Q4: =IFERROR(INDEX('Weekly Stats'!O:O,MATCH($C4,'Weekly Stats'!$A:$A,0)),"") -> 0 | R4: =IFERROR(INDEX('Weekly Stats'!P:P,MATCH($C4,'Weekly Stats'!$A:$A,0)),"") -> 0 | S4: =IFERROR(INDEX('Weekly Stats'!Q:Q,MATCH($C4,'Weekly Stats'!$A:$A,0)),"") -> 0 | T4: =IFERROR(INDEX('Weekly Stats'!R:R,MATCH($C4,'Weekly Stats'!$A:$A,0)),"") -> 0 | U4: =IFERROR(INDEX('Weekly Stats'!S:S,MATCH($C4,'Weekly Stats'!$A:$A,0)),"") -> 0 | V4: =IFERROR(INDEX('Weekly Stats'!T:T,MATCH($C4,'Weekly Stats'!$A:$A,0)),"") -> 0 | W4: =IFERROR((Q4*3)+V4,0) -> 0 | X4: =IFERROR(ROUND(D4/E4,3),"") -> 0.806 | Y4: =IFERROR(ROUND(J4/I4,2),"") -> 6 | Z4: =IFERROR(ROUND(M4/L4,2),"")
B5: A_QB2: | C5: {=IFERROR(INDEX(Lineups!D:D,MATCH(B$2&B5,Lineups!A:A&Lineups!B:B,0)),"")} -> Drake Maye | D5: =IFERROR(INDEX('Weekly Stats'!B:B,MATCH($C5,'Weekly Stats'!$A:$A,0)),"") -> 26 | E5: =IFERROR(INDEX('Weekly Stats'!C:C,MATCH($C5,'Weekly Stats'!$A:$A,0)),"") -> 34 | F5: =IFERROR(INDEX('Weekly Stats'!D:D,MATCH($C5,'Weekly Stats'!$A:$A,0)),"") -> 374 | G5: =IFERROR(INDEX('Weekly Stats'!E:E,MATCH($C5,'Weekly Stats'!$A:$A,0)),"") -> 4 | H5: =IFERROR(INDEX('Weekly Stats'!F:F,MATCH($C5,'Weekly Stats'!$A:$A,0)),"") -> 0 | I5: =IFERROR(INDEX('Weekly Stats'!G:G,MATCH($C5,'Weekly Stats'!$A:$A,0)),"") -> 7 | J5: =IFERROR(INDEX('Weekly Stats'!H:H,MATCH($C5,'Weekly Stats'!$A:$A,0)),"") -> 25 | K5: =IFERROR(INDEX('Weekly Stats'!I:I,MATCH($C5,'Weekly Stats'!$A:$A,0)),"") -> 1 | L5: =IFERROR(INDEX('Weekly Stats'!J:J,MATCH($C5,'Weekly Stats'!$A:$A,0)),"") -> 0 | M5: =IFERROR(INDEX('Weekly Stats'!K:K,MATCH($C5,'Weekly Stats'!$A:$A,0)),"") -> 0 | N5: =IFERROR(INDEX('Weekly Stats'!L:L,MATCH($C5,'Weekly Stats'!$A:$A,0)),"") -> 0 | O5: =IFERROR(INDEX('Weekly Stats'!M:M,MATCH($C5,'Weekly Stats'!$A:$A,0)),"") -> 0 | P5: =IFERROR(INDEX('Weekly Stats'!N:N,MATCH($C5,'Weekly Stats'!$A:$A,0)),"") -> 0 | Q5: =IFERROR(INDEX('Weekly Stats'!O:O,MATCH($C5,'Weekly Stats'!$A:$A,0)),"") -> 0 | R5: =IFERROR(INDEX('Weekly Stats'!P:P,MATCH($C5,'Weekly Stats'!$A:$A,0)),"") -> 0 | S5: =IFERROR(INDEX('Weekly Stats'!Q:Q,MATCH($C5,'Weekly Stats'!$A:$A,0)),"") -> 0 | T5: =IFERROR(INDEX('Weekly Stats'!R:R,MATCH($C5,'Weekly Stats'!$A:$A,0)),"") -> 0 | U5: =IFERROR(INDEX('Weekly Stats'!S:S,MATCH($C5,'Weekly Stats'!$A:$A,0)),"") -> 0 | V5: =IFERROR(INDEX('Weekly Stats'!T:T,MATCH($C5,'Weekly Stats'!$A:$A,0)),"") -> 0 | W5: =IFERROR((Q5*3)+V5,0) -> 0 | X5: =IFERROR(ROUND(D5/E5,3),"") -> 0.765 | Y5: =IFERROR(ROUND(J5/I5,2),"") -> 3.57 | Z5: =IFERROR(ROUND(M5/L5,2),"")
B6: A_RB1: | C6: {=IFERROR(INDEX(Lineups!D:D,MATCH(B$2&B6,Lineups!A:A&Lineups!B:B,0)),"")} -> D'Andre Swift | D6: =IFERROR(INDEX('Weekly Stats'!B:B,MATCH($C6,'Weekly Stats'!$A:$A,0)),"") -> 0 | E6: =IFERROR(INDEX('Weekly Stats'!C:C,MATCH($C6,'Weekly Stats'!$A:$A,0)),"") -> 0 | F6: =IFERROR(INDEX('Weekly Stats'!D:D,MATCH($C6,'Weekly Stats'!$A:$A,0)),"") -> 0 | G6: =IFERROR(INDEX('Weekly Stats'!E:E,MATCH($C6,'Weekly Stats'!$A:$A,0)),"") -> 0 | H6: =IFERROR(INDEX('Weekly Stats'!F:F,MATCH($C6,'Weekly Stats'!$A:$A,0)),"") -> 0 | I6: =IFERROR(INDEX('Weekly Stats'!G:G,MATCH($C6,'Weekly Stats'!$A:$A,0)),"") -> 9 | J6: =IFERROR(INDEX('Weekly Stats'!H:H,MATCH($C6,'Weekly Stats'!$A:$A,0)),"") -> 43 | K6: =IFERROR(INDEX('Weekly Stats'!I:I,MATCH($C6,'Weekly Stats'!$A:$A,0)),"") -> 1 | L6: =IFERROR(INDEX('Weekly Stats'!J:J,MATCH($C6,'Weekly Stats'!$A:$A,0)),"") -> 4 | M6: =IFERROR(INDEX('Weekly Stats'!K:K,MATCH($C6,'Weekly Stats'!$A:$A,0)),"") -> 30 | N6: =IFERROR(INDEX('Weekly Stats'!L:L,MATCH($C6,'Weekly Stats'!$A:$A,0)),"") -> 0 | O6: =IFERROR(INDEX('Weekly Stats'!M:M,MATCH($C6,'Weekly Stats'!$A:$A,0)),"") -> 0 | P6: =IFERROR(INDEX('Weekly Stats'!N:N,MATCH($C6,'Weekly Stats'!$A:$A,0)),"") -> 0 | Q6: =IFERROR(INDEX('Weekly Stats'!O:O,MATCH($C6,'Weekly Stats'!$A:$A,0)),"") -> 0 | R6: =IFERROR(INDEX('Weekly Stats'!P:P,MATCH($C6,'Weekly Stats'!$A:$A,0)),"") -> 0 | S6: =IFERROR(INDEX('Weekly Stats'!Q:Q,MATCH($C6,'Weekly Stats'!$A:$A,0)),"") -> 0 | T6: =IFERROR(INDEX('Weekly Stats'!R:R,MATCH($C6,'Weekly Stats'!$A:$A,0)),"") -> 0 | U6: =IFERROR(INDEX('Weekly Stats'!S:S,MATCH($C6,'Weekly Stats'!$A:$A,0)),"") -> 0 | V6: =IFERROR(INDEX('Weekly Stats'!T:T,MATCH($C6,'Weekly Stats'!$A:$A,0)),"") -> 0 | W6: =IFERROR((Q6*3)+V6,0) -> 0 | X6: =IFERROR(ROUND(D6/E6,3),"") | Y6: =IFERROR(ROUND(J6/I6,2),"") -> 4.78 | Z6: =IFERROR(ROUND(M6/L6,2),"") -> 7.5
B7: A_RB2: | C7: {=IFERROR(INDEX(Lineups!D:D,MATCH(B$2&B7,Lineups!A:A&Lineups!B:B,0)),"")} -> Quinshon Judkins | D7: =IFERROR(INDEX('Weekly Stats'!B:B,MATCH($C7,'Weekly Stats'!$A:$A,0)),"") -> 0 | E7: =IFERROR(INDEX('Weekly Stats'!C:C,MATCH($C7,'Weekly Stats'!$A:$A,0)),"") -> 0 | F7: =IFERROR(INDEX('Weekly Stats'!D:D,MATCH($C7,'Weekly Stats'!$A:$A,0)),"") -> 0 | G7: =IFERROR(INDEX('Weekly Stats'!E:E,MATCH($C7,'Weekly Stats'!$A:$A,0)),"") -> 0 | H7: =IFERROR(INDEX('Weekly Stats'!F:F,MATCH($C7,'Weekly Stats'!$A:$A,0)),"") -> 0 | I7: =IFERROR(INDEX('Weekly Stats'!G:G,MATCH($C7,'Weekly Stats'!$A:$A,0)),"") -> 14 | J7: =IFERROR(INDEX('Weekly Stats'!H:H,MATCH($C7,'Weekly Stats'!$A:$A,0)),"") -> 44 | K7: =IFERROR(INDEX('Weekly Stats'!I:I,MATCH($C7,'Weekly Stats'!$A:$A,0)),"") -> 0 | L7: =IFERROR(INDEX('Weekly Stats'!J:J,MATCH($C7,'Weekly Stats'!$A:$A,0)),"") -> 3 | M7: =IFERROR(INDEX('Weekly Stats'!K:K,MATCH($C7,'Weekly Stats'!$A:$A,0)),"") -> 6 | N7: =IFERROR(INDEX('Weekly Stats'!L:L,MATCH($C7,'Weekly Stats'!$A:$A,0)),"") -> 0 | O7: =IFERROR(INDEX('Weekly Stats'!M:M,MATCH($C7,'Weekly Stats'!$A:$A,0)),"") -> 0 | P7: =IFERROR(INDEX('Weekly Stats'!N:N,MATCH($C7,'Weekly Stats'!$A:$A,0)),"") -> 0 | Q7: =IFERROR(INDEX('Weekly Stats'!O:O,MATCH($C7,'Weekly Stats'!$A:$A,0)),"") -> 0 | R7: =IFERROR(INDEX('Weekly Stats'!P:P,MATCH($C7,'Weekly Stats'!$A:$A,0)),"") -> 0 | S7: =IFERROR(INDEX('Weekly Stats'!Q:Q,MATCH($C7,'Weekly Stats'!$A:$A,0)),"") -> 0 | T7: =IFERROR(INDEX('Weekly Stats'!R:R,MATCH($C7,'Weekly Stats'!$A:$A,0)),"") -> 0 | U7: =IFERROR(INDEX('Weekly Stats'!S:S,MATCH($C7,'Weekly Stats'!$A:$A,0)),"") -> 0 | V7: =IFERROR(INDEX('Weekly Stats'!T:T,MATCH($C7,'Weekly Stats'!$A:$A,0)),"") -> 0 | W7: =IFERROR((Q7*3)+V7,0) -> 0 | X7: =IFERROR(ROUND(D7/E7,3),"") | Y7: =IFERROR(ROUND(J7/I7,2),"") -> 3.14 | Z7: =IFERROR(ROUND(M7/L7,2),"") -> 2
B8: A_RB3: | C8: {=IFERROR(INDEX(Lineups!D:D,MATCH(B$2&B8,Lineups!A:A&Lineups!B:B,0)),"")} -> Alvin Kamara | D8: =IFERROR(INDEX('Weekly Stats'!B:B,MATCH($C8,'Weekly Stats'!$A:$A,0)),"") -> 0 | E8: =IFERROR(INDEX('Weekly Stats'!C:C,MATCH($C8,'Weekly Stats'!$A:$A,0)),"") -> 0 | F8: =IFERROR(INDEX('Weekly Stats'!D:D,MATCH($C8,'Weekly Stats'!$A:$A,0)),"") -> 0 | G8: =IFERROR(INDEX('Weekly Stats'!E:E,MATCH($C8,'Weekly Stats'!$A:$A,0)),"") -> 0 | H8: =IFERROR(INDEX('Weekly Stats'!F:F,MATCH($C8,'Weekly Stats'!$A:$A,0)),"") -> 0 | I8: =IFERROR(INDEX('Weekly Stats'!G:G,MATCH($C8,'Weekly Stats'!$A:$A,0)),"") -> 3 | J8: =IFERROR(INDEX('Weekly Stats'!H:H,MATCH($C8,'Weekly Stats'!$A:$A,0)),"") -> 12 | K8: =IFERROR(INDEX('Weekly Stats'!I:I,MATCH($C8,'Weekly Stats'!$A:$A,0)),"") -> 0 | L8: =IFERROR(INDEX('Weekly Stats'!J:J,MATCH($C8,'Weekly Stats'!$A:$A,0)),"") -> 2 | M8: =IFERROR(INDEX('Weekly Stats'!K:K,MATCH($C8,'Weekly Stats'!$A:$A,0)),"") -> -6 | N8: =IFERROR(INDEX('Weekly Stats'!L:L,MATCH($C8,'Weekly Stats'!$A:$A,0)),"") -> 0 | O8: =IFERROR(INDEX('Weekly Stats'!M:M,MATCH($C8,'Weekly Stats'!$A:$A,0)),"") -> 0 | P8: =IFERROR(INDEX('Weekly Stats'!N:N,MATCH($C8,'Weekly Stats'!$A:$A,0)),"") -> 0 | Q8: =IFERROR(INDEX('Weekly Stats'!O:O,MATCH($C8,'Weekly Stats'!$A:$A,0)),"") -> 0 | R8: =IFERROR(INDEX('Weekly Stats'!P:P,MATCH($C8,'Weekly Stats'!$A:$A,0)),"") -> 0 | S8: =IFERROR(INDEX('Weekly Stats'!Q:Q,MATCH($C8,'Weekly Stats'!$A:$A,0)),"") -> 0 | T8: =IFERROR(INDEX('Weekly Stats'!R:R,MATCH($C8,'Weekly Stats'!$A:$A,0)),"") -> 0 | U8: =IFERROR(INDEX('Weekly Stats'!S:S,MATCH($C8,'Weekly Stats'!$A:$A,0)),"") -> 0 | V8: =IFERROR(INDEX('Weekly Stats'!T:T,MATCH($C8,'Weekly Stats'!$A:$A,0)),"") -> 0 | W8: =IFERROR((Q8*3)+V8,0) -> 0 | X8: =IFERROR(ROUND(D8/E8,3),"") | Y8: =IFERROR(ROUND(J8/I8,2),"") -> 4 | Z8: =IFERROR(ROUND(M8/L8,2),"") -> -3
B9: A_RC1: | C9: {=IFERROR(INDEX(Lineups!D:D,MATCH(B$2&B9,Lineups!A:A&Lineups!B:B,0)),"")} -> Jaxon Smith-Njigba | D9: =IFERROR(INDEX('Weekly Stats'!B:B,MATCH($C9,'Weekly Stats'!$A:$A,0)),"") -> 0 | E9: =IFERROR(INDEX('Weekly Stats'!C:C,MATCH($C9,'Weekly Stats'!$A:$A,0)),"") -> 0 | F9: =IFERROR(INDEX('Weekly Stats'!D:D,MATCH($C9,'Weekly Stats'!$A:$A,0)),"") -> 0 | G9: =IFERROR(INDEX('Weekly Stats'!E:E,MATCH($C9,'Weekly Stats'!$A:$A,0)),"") -> 0 | H9: =IFERROR(INDEX('Weekly Stats'!F:F,MATCH($C9,'Weekly Stats'!$A:$A,0)),"") -> 0 | I9: =IFERROR(INDEX('Weekly Stats'!G:G,MATCH($C9,'Weekly Stats'!$A:$A,0)),"") -> 1 | J9: =IFERROR(INDEX('Weekly Stats'!H:H,MATCH($C9,'Weekly Stats'!$A:$A,0)),"") -> 16 | K9: =IFERROR(INDEX('Weekly Stats'!I:I,MATCH($C9,'Weekly Stats'!$A:$A,0)),"") -> 0 | L9: =IFERROR(INDEX('Weekly Stats'!J:J,MATCH($C9,'Weekly Stats'!$A:$A,0)),"") -> 5 | M9: =IFERROR(INDEX('Weekly Stats'!K:K,MATCH($C9,'Weekly Stats'!$A:$A,0)),"") -> 102 | N9: =IFERROR(INDEX('Weekly Stats'!L:L,MATCH($C9,'Weekly Stats'!$A:$A,0)),"") -> 1 | O9: =IFERROR(INDEX('Weekly Stats'!M:M,MATCH($C9,'Weekly Stats'!$A:$A,0)),"") -> 0 | P9: =IFERROR(INDEX('Weekly Stats'!N:N,MATCH($C9,'Weekly Stats'!$A:$A,0)),"") -> 0 | Q9: =IFERROR(INDEX('Weekly Stats'!O:O,MATCH($C9,'Weekly Stats'!$A:$A,0)),"") -> 0 | R9: =IFERROR(INDEX('Weekly Stats'!P:P,MATCH($C9,'Weekly Stats'!$A:$A,0)),"") -> 0 | S9: =IFERROR(INDEX('Weekly Stats'!Q:Q,MATCH($C9,'Weekly Stats'!$A:$A,0)),"") -> 0 | T9: =IFERROR(INDEX('Weekly Stats'!R:R,MATCH($C9,'Weekly Stats'!$A:$A,0)),"") -> 0 | U9: =IFERROR(INDEX('Weekly Stats'!S:S,MATCH($C9,'Weekly Stats'!$A:$A,0)),"") -> 0 | V9: =IFERROR(INDEX('Weekly Stats'!T:T,MATCH($C9,'Weekly Stats'!$A:$A,0)),"") -> 0 | W9: =IFERROR((Q9*3)+V9,0) -> 0 | X9: =IFERROR(ROUND(D9/E9,3),"") | Y9: =IFERROR(ROUND(J9/I9,2),"") -> 16 | Z9: =IFERROR(ROUND(M9/L9,2),"") -> 20.4
B10: A_RC2: | C10: {=IFERROR(INDEX(Lineups!D:D,MATCH(B$2&B10,Lineups!A:A&Lineups!B:B,0)),"")} -> Malik Nabers | D10: =IFERROR(INDEX('Weekly Stats'!B:B,MATCH($C10,'Weekly Stats'!$A:$A,0)),"") -> 0 | E10: =IFERROR(INDEX('Weekly Stats'!C:C,MATCH($C10,'Weekly Stats'!$A:$A,0)),"") -> 0 | F10: =IFERROR(INDEX('Weekly Stats'!D:D,MATCH($C10,'Weekly Stats'!$A:$A,0)),"") -> 0 | G10: =IFERROR(INDEX('Weekly Stats'!E:E,MATCH($C10,'Weekly Stats'!$A:$A,0)),"") -> 0 | H10: =IFERROR(INDEX('Weekly Stats'!F:F,MATCH($C10,'Weekly Stats'!$A:$A,0)),"") -> 0 | I10: =IFERROR(INDEX('Weekly Stats'!G:G,MATCH($C10,'Weekly Stats'!$A:$A,0)),"") -> 0 | J10: =IFERROR(INDEX('Weekly Stats'!H:H,MATCH($C10,'Weekly Stats'!$A:$A,0)),"") -> 0 | K10: =IFERROR(INDEX('Weekly Stats'!I:I,MATCH($C10,'Weekly Stats'!$A:$A,0)),"") -> 0 | L10: =IFERROR(INDEX('Weekly Stats'!J:J,MATCH($C10,'Weekly Stats'!$A:$A,0)),"") -> 11 | M10: =IFERROR(INDEX('Weekly Stats'!K:K,MATCH($C10,'Weekly Stats'!$A:$A,0)),"") -> 121 | N10: =IFERROR(INDEX('Weekly Stats'!L:L,MATCH($C10,'Weekly Stats'!$A:$A,0)),"") -> 1 | O10: =IFERROR(INDEX('Weekly Stats'!M:M,MATCH($C10,'Weekly Stats'!$A:$A,0)),"") -> 0 | P10: =IFERROR(INDEX('Weekly Stats'!N:N,MATCH($C10,'Weekly Stats'!$A:$A,0)),"") -> 0 | Q10: =IFERROR(INDEX('Weekly Stats'!O:O,MATCH($C10,'Weekly Stats'!$A:$A,0)),"") -> 0 | R10: =IFERROR(INDEX('Weekly Stats'!P:P,MATCH($C10,'Weekly Stats'!$A:$A,0)),"") -> 0 | S10: =IFERROR(INDEX('Weekly Stats'!Q:Q,MATCH($C10,'Weekly Stats'!$A:$A,0)),"") -> 0 | T10: =IFERROR(INDEX('Weekly Stats'!R:R,MATCH($C10,'Weekly Stats'!$A:$A,0)),"") -> 0 | U10: =IFERROR(INDEX('Weekly Stats'!S:S,MATCH($C10,'Weekly Stats'!$A:$A,0)),"") -> 0 | V10: =IFERROR(INDEX('Weekly Stats'!T:T,MATCH($C10,'Weekly Stats'!$A:$A,0)),"") -> 0 | W10: =IFERROR((Q10*3)+V10,0) -> 0 | X10: =IFERROR(ROUND(D10/E10,3),"") | Y10: =IFERROR(ROUND(J10/I10,2),"") | Z10: =IFERROR(ROUND(M10/L10,2),"") -> 11
B11: A_RC3: | C11: {=IFERROR(INDEX(Lineups!D:D,MATCH(B$2&B11,Lineups!A:A&Lineups!B:B,0)),"")} -> Davante Adams | D11: =IFERROR(INDEX('Weekly Stats'!B:B,MATCH($C11,'Weekly Stats'!$A:$A,0)),"") -> 0 | E11: =IFERROR(INDEX('Weekly Stats'!C:C,MATCH($C11,'Weekly Stats'!$A:$A,0)),"") -> 0 | F11: =IFERROR(INDEX('Weekly Stats'!D:D,MATCH($C11,'Weekly Stats'!$A:$A,0)),"") -> 0 | G11: =IFERROR(INDEX('Weekly Stats'!E:E,MATCH($C11,'Weekly Stats'!$A:$A,0)),"") -> 0 | H11: =IFERROR(INDEX('Weekly Stats'!F:F,MATCH($C11,'Weekly Stats'!$A:$A,0)),"") -> 0 | I11: =IFERROR(INDEX('Weekly Stats'!G:G,MATCH($C11,'Weekly Stats'!$A:$A,0)),"") -> 0 | J11: =IFERROR(INDEX('Weekly Stats'!H:H,MATCH($C11,'Weekly Stats'!$A:$A,0)),"") -> 0 | K11: =IFERROR(INDEX('Weekly Stats'!I:I,MATCH($C11,'Weekly Stats'!$A:$A,0)),"") -> 0 | L11: =IFERROR(INDEX('Weekly Stats'!J:J,MATCH($C11,'Weekly Stats'!$A:$A,0)),"") -> 5 | M11: =IFERROR(INDEX('Weekly Stats'!K:K,MATCH($C11,'Weekly Stats'!$A:$A,0)),"") -> 51 | N11: =IFERROR(INDEX('Weekly Stats'!L:L,MATCH($C11,'Weekly Stats'!$A:$A,0)),"") -> 2 | O11: =IFERROR(INDEX('Weekly Stats'!M:M,MATCH($C11,'Weekly Stats'!$A:$A,0)),"") -> 0 | P11: =IFERROR(INDEX('Weekly Stats'!N:N,MATCH($C11,'Weekly Stats'!$A:$A,0)),"") -> 0 | Q11: =IFERROR(INDEX('Weekly Stats'!O:O,MATCH($C11,'Weekly Stats'!$A:$A,0)),"") -> 0 | R11: =IFERROR(INDEX('Weekly Stats'!P:P,MATCH($C11,'Weekly Stats'!$A:$A,0)),"") -> 0 | S11: =IFERROR(INDEX('Weekly Stats'!Q:Q,MATCH($C11,'Weekly Stats'!$A:$A,0)),"") -> 0 | T11: =IFERROR(INDEX('Weekly Stats'!R:R,MATCH($C11,'Weekly Stats'!$A:$A,0)),"") -> 0 | U11: =IFERROR(INDEX('Weekly Stats'!S:S,MATCH($C11,'Weekly Stats'!$A:$A,0)),"") -> 0 | V11: =IFERROR(INDEX('Weekly Stats'!T:T,MATCH($C11,'Weekly Stats'!$A:$A,0)),"") -> 0 | W11: =IFERROR((Q11*3)+V11,0) -> 0 | X11: =IFERROR(ROUND(D11/E11,3),"") | Y11: =IFERROR(ROUND(J11/I11,2),"") | Z11: =IFERROR(ROUND(M11/L11,2),"") -> 10.2
B12: A_PK1: | C12: {=IFERROR(INDEX(Lineups!D:D,MATCH(B$2&B12,Lineups!A:A&Lineups!B:B,0)),"")} -> No Body | D12: =IFERROR(INDEX('Weekly Stats'!B:B,MATCH($C12,'Weekly Stats'!$A:$A,0)),"") | E12: =IFERROR(INDEX('Weekly Stats'!C:C,MATCH($C12,'Weekly Stats'!$A:$A,0)),"") | F12: =IFERROR(INDEX('Weekly Stats'!D:D,MATCH($C12,'Weekly Stats'!$A:$A,0)),"") | G12: =IFERROR(INDEX('Weekly Stats'!E:E,MATCH($C12,'Weekly Stats'!$A:$A,0)),"") | H12: =IFERROR(INDEX('Weekly Stats'!F:F,MATCH($C12,'Weekly Stats'!$A:$A,0)),"") | I12: =IFERROR(INDEX('Weekly Stats'!G:G,MATCH($C12,'Weekly Stats'!$A:$A,0)),"") | J12: =IFERROR(INDEX('Weekly Stats'!H:H,MATCH($C12,'Weekly Stats'!$A:$A,0)),"") | K12: =IFERROR(INDEX('Weekly Stats'!I:I,MATCH($C12,'Weekly Stats'!$A:$A,0)),"") | L12: =IFERROR(INDEX('Weekly Stats'!J:J,MATCH($C12,'Weekly Stats'!$A:$A,0)),"") | M12: =IFERROR(INDEX('Weekly Stats'!K:K,MATCH($C12,'Weekly Stats'!$A:$A,0)),"") | N12: =IFERROR(INDEX('Weekly Stats'!L:L,MATCH($C12,'Weekly Stats'!$A:$A,0)),"") | O12: =IFERROR(INDEX('Weekly Stats'!M:M,MATCH($C12,'Weekly Stats'!$A:$A,0)),"") | P12: =IFERROR(INDEX('Weekly Stats'!N:N,MATCH($C12,'Weekly Stats'!$A:$A,0)),"") | Q12: =IFERROR(INDEX('Weekly Stats'!O:O,MATCH($C12,'Weekly Stats'!$A:$A,0)),"") | R12: =IFERROR(INDEX('Weekly Stats'!P:P,MATCH($C12,'Weekly Stats'!$A:$A,0)),"") | S12: =IFERROR(INDEX('Weekly Stats'!Q:Q,MATCH($C12,'Weekly Stats'!$A:$A,0)),"") | T12: =IFERROR(INDEX('Weekly Stats'!R:R,MATCH($C12,'Weekly Stats'!$A:$A,0)),"") | U12: =IFERROR(INDEX('Weekly Stats'!S:S,MATCH($C12,'Weekly Stats'!$A:$A,0)),"") | V12: =IFERROR(INDEX('Weekly Stats'!T:T,MATCH($C12,'Weekly Stats'!$A:$A,0)),"") | W12: =IFERROR((Q12*3)+V12,0) -> 0 | X12: =IFERROR(ROUND(D12/E12,3),"") | Y12: =IFERROR(ROUND(J12/I12,2),"") | Z12: =IFERROR(ROUND(M12/L12,2),"")
C13: Totals | D13: =SUM(D4:D12) -> 51 | E13: =SUM(E4:E12) -> 65 | F13: =SUM(F4:F12) -> 741 | G13: =SUM(G4:G12) -> 6 | H13: =SUM(H4:H12) -> 0 | I13: =SUM(I4:I12) -> 35 | J13: =SUM(J4:J12) -> 146 | K13: =SUM(K4:K12) -> 2 | ... W13: =SUM(W4:W12) -> 0 | X13: =IFERROR(ROUND(D13/E13,3),0) -> 0.785 | Y13: =IFERROR(ROUND(J13/I13,2),0) -> 4.17 | Z13: =IFERROR(ROUND(M13/L13,2),0) -> 10.13
C14: Team | D14: Sacks | E14: Fumble Rec. | F14: Interceptions | G14: Yards Allowed | H14: Pts. Scored | I14: Pts. Allowed
B15: A_DU1: | C15: {=IFERROR(INDEX(Lineups!D:D,MATCH(B$2&B15,Lineups!A:A&Lineups!B:B,0)),"")} -> Cincinnati Bengals | D15: =IFERROR(INDEX('Weekly Stats'!C:C,MATCH($C15,'Weekly Stats'!$A:$A,0)),"") -> 3 | E15: =IFERROR(INDEX('Weekly Stats'!D:D,MATCH($C15,'Weekly Stats'!$A:$A,0)),"") -> 1 | F15: =IFERROR(INDEX('Weekly Stats'!E:E,MATCH($C15,'Weekly Stats'!$A:$A,0)),"") -> 2 | G15: =IFERROR(INDEX('Weekly Stats'!F:F,MATCH($C15,'Weekly Stats'!$A:$A,0)),"") -> 331 | H15: =IFERROR(INDEX('Weekly Stats'!K:K,MATCH($C15,'Weekly Stats'!$A:$A,0)),"") -> 0 | I15: =IFERROR(INDEX('Weekly Stats'!G:G,MATCH($C15,'Weekly Stats'!$A:$A,0)),"") -> 24
C16: Head Coach | D16: Pts. Differential
B17: Coach: | C17: {=IFERROR(INDEX(Lineups!D:D,MATCH(B$2&B17,Lineups!A:A&Lineups!B:B,0)),"")} -> Jim Harbaugh | D17: =IFERROR(INDEX('Weekly Stats'!AC:AC,MATCH(C17,'Weekly Stats'!AB:AB,0))-INDEX('Weekly Stats'!AD:AD,MATCH(C17,'Weekly Stats'!AB:AB,0)),"") -> -6
D19: Passing | H19: Rushing | K19: Receiving | O19: Other | Q19: Kicking | V19: Defense
C20: Total | D20: =SUM(D21:D22) -> 4 | E20: =SUM(E21:E22) -> 8 | F20: =SUM(F21:F22) -> 8 | G20: =SUM(G21:G22) -> 2 | H20: =SUM(H21:H22) -> 0 | I20: =SUM(I21:I22) -> 0 | J20: =SUM(J21:J22) -> 3 | K20: =SUM(K21:K22) -> 6 | ... AA20: =SUM(AA21:AA22) -> 0 | AB20: =SUM(D20:AA20) -> 30 | AC20: =IF(AB20=AB25,IF(D17>D42,AB20+3,AB20+0),0) -> 0 | AD20: =IF(AB20=AB25,IF(AC20=AC25,IF(G13+K13+N13>G38+K38+N38, AC20+3,AC20)),0) -> 0 | AE20: =IF(AB20=AB25,IF(AC20=AC25,IF(AD20=AD25,IF(F13+J13+M13>F38+J38+M38, AD20+3,AD20))),0) -> 0 | AF20: =IF(AB20=AB25,IF(AC20=AC25,IF(AD20=AD25,IF(AE20=AE25,AB20,AE20),AD20),AC20),IF(AB20<0,0,IF(AB25<0,AB20-AB25,AB20))) -> 30
C21: Bonus | D21: =IFERROR(IF(X13>=0.69,2,0),0) -> 2 | E21: =IF(F13>=575,2,0) -> 2 | F21: =IF(G13>=6,2,0) -> 2 | G21: X | H21: =IF(J13>=250,3,0) -> 0 | I21: =IF(K13>=4,2,0) -> 0 | J21: =IFERROR(IF(Y13>=4.5,2,0),0) -> 0 | K21: =IF(M13>=325,3,0) -> 0 | L21: =IF(N13>=4,2,0) -> 2 | M21: =IFERROR(IF(Z13>=12,2,0),0) -> 0 | N21: =IF(L13>=30,2,0) -> 2 | O21: X | P21: X | Q21: =IFERROR(IF(W13>=12,2,0),0) -> 0 | R21: X | S21: X | T21: =IF(T13>=2,1,0) -> 0 | U21: =IF(U13>=1,2,0) -> 0 | V21: =IF(I40<=14,-2,0) -> -2 | W21: =IF(G40<=275,-2,0) -> -2 | X21: =IF(B27="",0,IF(D40>=5,-1,0)) -> 0 | Y21: =IF(B27="",0,IF(E40>=3,-1,0)) -> 0 | Z21: =IF(B27="",0,IF(F40>=3,-1,0)) -> 0 | AA21: =IF(B27="",0,IF(H40>=8,-2,0)) -> 0 | AF21: =IF(AF20>AF25,"WIN!",IF(AF20=AF25,"Tie","Loss")) -> WIN!
C22: Head-to-Head | D22: =IFERROR(IF(X13>X38,2,0),0) -> 2 | E22: =IF(F13>F38,6,0) -> 6 | F22: =IF(G13>G38,6,0) -> 6 | G22: =IF(H13<H38,2,0) -> 2 | H22: =IF(J13>J38,6,0) -> 0 | I22: =IF(K13>K38,6,0) -> 0 | J22: =IFERROR(IF(Y13>Y38,3,0),0) -> 3 | K22: =IF(M13>M38,6,0) -> 6 | L22: =IF(N13>N38,6,0) -> 6 | M22: =IFERROR(IF(Z13>Z38,2,0),0) -> 0 | N22: =IF(L13>L38,2,0) -> 2 | O22: =IF(P13>P38,2,0) -> 2 | P22: =IF(O13<O38,3,0) -> 0 | Q22: =IFERROR(IF(W13>W38,3,0),0) -> 0 | R22: =IF(R13>R38,1,0) -> 0 | S22: =IF(S13>S38,2,0) -> 0 | T22: =IF((T13+U13)>(T38+U38),3,0) -> 0 | U22: X | V22: =IF(I15<=I40,0,-6) -> -6 | W22: =IF(G15<=G40,0,-3) -> -3 | X22: =IF(D15>=D40,0,-2) -> -2 | Y22: =IF(E15>=E40,0,-2) -> 0 | Z22: =IF(F15>=F40,0,-2) -> 0 | AA22: =IF(H15>=H40,0,-5) -> 0
C23: Head-to-Head | D23: =IFERROR(IF(X38>X13,2,0),0) -> 0 | E23: =IF(F38>F13,6,0) -> 0 | F23: =IF(G38>G13,6,0) -> 0 | G23: =IF(H38<H13,2,0) -> 0 | H23: =IF(J38>J13,6,0) -> 6 | I23: =IF(K38>K13,6,0) -> 0 | J23: =IFERROR(IF(Y38>Y13,3,0),0) -> 0 | K23: =IF(M38>M13,6,0) -> 0 | L23: =IF(N38>N13,6,0) -> 0 | M23: =IFERROR(IF(Z38>Z13,2,0),0) -> 2 | N23: =IF(L38>L13,2,0) -> 0 | O23: =IF(P38>P13,2,0) -> 0 | P23: =IF(O38<O13,3,0) -> 0 | Q23: =IFERROR(IF(W38>W13,3,0),0) -> 3 | R23: =IF(R38>R13,1,0) -> 0 | S23: =IF(S38>S13,2,0) -> 2 | T23: =IF((T38+U38)>(T13+U13),3,0) -> 0 | U23: X | V23: =IF(I40<=I15,0,-6) -> 0 | W23: =IF(G40<=G15,0,-3) -> 0 | X23: =IF(D40>=D15,0,-2) -> 0 | Y23: =IF(E40>=E15,0,-2) -> 0 | Z23: =IF(F40>=F15,0,-2) -> -2 | AA23: =IF(H40>=H15,0,-5) -> 0
C24: Bonus | D24: =IFERROR(IF(X38>=0.69,2,0),0) -> 0 | E24: =IF(F38>=575,2,0) -> 0 | F24: =IF(G38>=6,2,0) -> 0 | G24: X | H24: =IF(J38>=250,3,0) -> 0 | I24: =IF(K38>=4,2,0) -> 0 | J24: =IFERROR(IF(Y38>=4.5,2,0),0) -> 0 | K24: =IF(M38>=325,3,0) -> 0 | L24: =IF(N38>=4,2,0) -> 0 | M24: =IFERROR(IF(Z38>=12,2,0),0) -> 0 | N24: =IF(L38>=30,2,0) -> 0 | O24: X | P24: X | Q24: =IFERROR(IF(W38>=12,2,0),0) -> 0 | R24: X | S24: X | T24: =IF(T38>=2,1,0) -> 0 | U24: =IF(U38>=1,2,0) -> 0 | V24: =IF(I15<=14,-2,0) -> 0 | W24: =IF(G15<=275,-2,0) -> 0 | X24: =IF(B2="",0,IF(D15>=5,-1,0)) -> 0 | Y24: =IF(B2="",0,IF(E15>=3,-1,0)) -> 0 | Z24: =IF(B2="",0,IF(F15>=3,-1,0)) -> 0 | AA24: =IF(B2="",0,IF(H15>=8,-2,0)) -> 0 | AF24: =IF(AF25>AF20,"WIN!",IF(AF25=AF20,"Tie","Loss")) -> Loss
C25: Total | D25: =SUM(D23:D24) -> 0 | E25: =SUM(E23:E24) -> 0 | F25: =SUM(F23:F24) -> 0 | G25: =SUM(G23:G24) -> 0 | H25: =SUM(H23:H24) -> 6 | I25: =SUM(I23:I24) -> 0 | J25: =SUM(J23:J24) -> 0 | K25: =SUM(K23:K24) -> 0 | ... AA25: =SUM(AA23:AA24) -> 0 | AB25: =SUM(D25:AA25) -> 11 | AC25: =IF(AB25=AB20,IF(D42>D17,AB25+3,AB25+0),0) -> 0 | AD25: =IF(AB25=AB20,IF(AC25=AC20,IF(G38+K38+N38>G13+K13+N13,AC25+3,AC25)),0) -> 0 | AE25: =IF(AB25=AB20,IF(AC25=AC20,IF(AD25=AD20,IF(F38+J38+M38>F13+J13+M13,AD25+3,AD25))),0) -> 0 | AF25: =IF(AB25=AB20,IF(AC25=AC20,IF(AD25=AD20,IF(AE25=AE20,AB25,AE25),AD25),AC25),IF(AB25<0,0,IF(AB20<0,AB25-AB20,AB25))) -> 11
D26: Comp. % | E26: Yards | F26: TD's | G26: INT's | H26: Yards | I26: TD's | J26: Yards/Rush | K26: Yards | L26: TD's | M26: Yards/Rec. | N26: Receptions | O26: 2pt. Con. | P26: Fum Lost | Q26: Total Pts. | R26: ="10-39" -> 10-39 | S26: 40-49 | T26: 50+/50-59 | U26: 60+ | V26: Pts. Allowed | W26: Yards Allowed | X26: Sacks | Y26: Fumble Rec. | Z26: Interceptions | AA26: Pts. Scored | AB26: Raw Score | AC26: Tie-break 1 | AD26: Tie-break 2 | AE26: Tie-break 3 | AF26: Final Score
A27: =_xlfn.MAXIFS(Data!E:E,Data!C:C,Data!A2,Data!D:D,A2,Data!F:F,"A") -> 3 | B27: =IFERROR(INDEX(Data!I:I,MATCH(A27,Data!H:H,0)),"") -> Jeantymen's Club
C28: Player | D28: Completions | E28: Passes | F28: Yards | G28: TD's | H28: INT's | I28: Rushes | J28: Yards | K28: TD's | L28: Receptions | M28: Yards | N28: TD's | O28: Fum Lost | P28: 2Pt | Q28: FG's Made | R28: ="10-39" -> 10-39 | S28: 40-49 | T28: 50+ | U28: 60+ | V28: Extra pts. | W28: Total pts. | X28: Comp. % | Y28: Yards/Rush | Z28: Yards/Rec.
B29: A_QB1: | C29: {=IFERROR(INDEX(Lineups!D:D,MATCH(B$27&B29,Lineups!A:A&Lineups!B:B,0)),"")} -> Tyson Bagent | D29: =IFERROR(INDEX('Weekly Stats'!B:B,MATCH($C29,'Weekly Stats'!$A:$A,0)),"") -> 12 | E29: =IFERROR(INDEX('Weekly Stats'!C:C,MATCH($C29,'Weekly Stats'!$A:$A,0)),"") -> 21 | F29: =IFERROR(INDEX('Weekly Stats'!D:D,MATCH($C29,'Weekly Stats'!$A:$A,0)),"") -> 87 | G29: =IFERROR(INDEX('Weekly Stats'!E:E,MATCH($C29,'Weekly Stats'!$A:$A,0)),"") -> 0 | H29: =IFERROR(INDEX('Weekly Stats'!F:F,MATCH($C29,'Weekly Stats'!$A:$A,0)),"") -> 2 | I29: =IFERROR(INDEX('Weekly Stats'!G:G,MATCH($C29,'Weekly Stats'!$A:$A,0)),"") -> 3 | J29: =IFERROR(INDEX('Weekly Stats'!H:H,MATCH($C29,'Weekly Stats'!$A:$A,0)),"") -> 17 | K29: =IFERROR(INDEX('Weekly Stats'!I:I,MATCH($C29,'Weekly Stats'!$A:$A,0)),"") -> 0 | L29: =IFERROR(INDEX('Weekly Stats'!J:J,MATCH($C29,'Weekly Stats'!$A:$A,0)),"") -> 0 | M29: =IFERROR(INDEX('Weekly Stats'!K:K,MATCH($C29,'Weekly Stats'!$A:$A,0)),"") -> 0 | N29: =IFERROR(INDEX('Weekly Stats'!L:L,MATCH($C29,'Weekly Stats'!$A:$A,0)),"") -> 0 | O29: =IFERROR(INDEX('Weekly Stats'!M:M,MATCH($C29,'Weekly Stats'!$A:$A,0)),"") -> 0 | P29: =IFERROR(INDEX('Weekly Stats'!N:N,MATCH($C29,'Weekly Stats'!$A:$A,0)),"") -> 0 | Q29: =IFERROR(INDEX('Weekly Stats'!O:O,MATCH($C29,'Weekly Stats'!$A:$A,0)),"") -> 0 | R29: =IFERROR(INDEX('Weekly Stats'!P:P,MATCH($C29,'Weekly Stats'!$A:$A,0)),"") -> 0 | S29: =IFERROR(INDEX('Weekly Stats'!Q:Q,MATCH($C29,'Weekly Stats'!$A:$A,0)),"") -> 0 | T29: =IFERROR(INDEX('Weekly Stats'!R:R,MATCH($C29,'Weekly Stats'!$A:$A,0)),"") -> 0 | U29: =IFERROR(INDEX('Weekly Stats'!S:S,MATCH($C29,'Weekly Stats'!$A:$A,0)),"") -> 0 | V29: =IFERROR(INDEX('Weekly Stats'!T:T,MATCH($C29,'Weekly Stats'!$A:$A,0)),"") -> 0 | W29: =IFERROR((Q29*3)+V29,0) -> 0 | X29: =IFERROR(ROUND(D29/E29,3),"") -> 0.571 | Y29: =IFERROR(ROUND(J29/I29,2),"") -> 5.67 | Z29: =IFERROR(ROUND(M29/L29,2),"")
B30: A_QB2: | C30: {=IFERROR(INDEX(Lineups!D:D,MATCH(B$27&B30,Lineups!A:A&Lineups!B:B,0)),"")} -> Jalon Daniels | D30: =IFERROR(INDEX('Weekly Stats'!B:B,MATCH($C30,'Weekly Stats'!$A:$A,0)),"") -> 19 | E30: =IFERROR(INDEX('Weekly Stats'!C:C,MATCH($C30,'Weekly Stats'!$A:$A,0)),"") -> 25 | F30: =IFERROR(INDEX('Weekly Stats'!D:D,MATCH($C30,'Weekly Stats'!$A:$A,0)),"") -> 189 | G30: =IFERROR(INDEX('Weekly Stats'!E:E,MATCH($C30,'Weekly Stats'!$A:$A,0)),"") -> 1 | H30: =IFERROR(INDEX('Weekly Stats'!F:F,MATCH($C30,'Weekly Stats'!$A:$A,0)),"") -> 0 | I30: =IFERROR(INDEX('Weekly Stats'!G:G,MATCH($C30,'Weekly Stats'!$A:$A,0)),"") -> 7 | J30: =IFERROR(INDEX('Weekly Stats'!H:H,MATCH($C30,'Weekly Stats'!$A:$A,0)),"") -> 23 | K30: =IFERROR(INDEX('Weekly Stats'!I:I,MATCH($C30,'Weekly Stats'!$A:$A,0)),"") -> 0 | L30: =IFERROR(INDEX('Weekly Stats'!J:J,MATCH($C30,'Weekly Stats'!$A:$A,0)),"") -> 0 | M30: =IFERROR(INDEX('Weekly Stats'!K:K,MATCH($C30,'Weekly Stats'!$A:$A,0)),"") -> 0 | N30: =IFERROR(INDEX('Weekly Stats'!L:L,MATCH($C30,'Weekly Stats'!$A:$A,0)),"") -> 0 | O30: =IFERROR(INDEX('Weekly Stats'!M:M,MATCH($C30,'Weekly Stats'!$A:$A,0)),"") -> 0 | P30: =IFERROR(INDEX('Weekly Stats'!N:N,MATCH($C30,'Weekly Stats'!$A:$A,0)),"") -> 0 | Q30: =IFERROR(INDEX('Weekly Stats'!O:O,MATCH($C30,'Weekly Stats'!$A:$A,0)),"") -> 0 | R30: =IFERROR(INDEX('Weekly Stats'!P:P,MATCH($C30,'Weekly Stats'!$A:$A,0)),"") -> 0 | S30: =IFERROR(INDEX('Weekly Stats'!Q:Q,MATCH($C30,'Weekly Stats'!$A:$A,0)),"") -> 0 | T30: =IFERROR(INDEX('Weekly Stats'!R:R,MATCH($C30,'Weekly Stats'!$A:$A,0)),"") -> 0 | U30: =IFERROR(INDEX('Weekly Stats'!S:S,MATCH($C30,'Weekly Stats'!$A:$A,0)),"") -> 0 | V30: =IFERROR(INDEX('Weekly Stats'!T:T,MATCH($C30,'Weekly Stats'!$A:$A,0)),"") -> 0 | W30: =IFERROR((Q30*3)+V30,0) -> 0 | X30: =IFERROR(ROUND(D30/E30,3),"") -> 0.76 | Y30: =IFERROR(ROUND(J30/I30,2),"") -> 3.29 | Z30: =IFERROR(ROUND(M30/L30,2),"")
B31: A_RB1: | C31: {=IFERROR(INDEX(Lineups!D:D,MATCH(B$27&B31,Lineups!A:A&Lineups!B:B,0)),"")} -> Javonte Williams | D31: =IFERROR(INDEX('Weekly Stats'!B:B,MATCH($C31,'Weekly Stats'!$A:$A,0)),"") -> 0 | E31: =IFERROR(INDEX('Weekly Stats'!C:C,MATCH($C31,'Weekly Stats'!$A:$A,0)),"") -> 0 | F31: =IFERROR(INDEX('Weekly Stats'!D:D,MATCH($C31,'Weekly Stats'!$A:$A,0)),"") -> 0 | G31: =IFERROR(INDEX('Weekly Stats'!E:E,MATCH($C31,'Weekly Stats'!$A:$A,0)),"") -> 0 | H31: =IFERROR(INDEX('Weekly Stats'!F:F,MATCH($C31,'Weekly Stats'!$A:$A,0)),"") -> 0 | I31: =IFERROR(INDEX('Weekly Stats'!G:G,MATCH($C31,'Weekly Stats'!$A:$A,0)),"") -> 12 | J31: =IFERROR(INDEX('Weekly Stats'!H:H,MATCH($C31,'Weekly Stats'!$A:$A,0)),"") -> 45 | K31: =IFERROR(INDEX('Weekly Stats'!I:I,MATCH($C31,'Weekly Stats'!$A:$A,0)),"") -> 1 | L31: =IFERROR(INDEX('Weekly Stats'!J:J,MATCH($C31,'Weekly Stats'!$A:$A,0)),"") -> 2 | M31: =IFERROR(INDEX('Weekly Stats'!K:K,MATCH($C31,'Weekly Stats'!$A:$A,0)),"") -> 17 | N31: =IFERROR(INDEX('Weekly Stats'!L:L,MATCH($C31,'Weekly Stats'!$A:$A,0)),"") -> 0 | O31: =IFERROR(INDEX('Weekly Stats'!M:M,MATCH($C31,'Weekly Stats'!$A:$A,0)),"") -> 0 | P31: =IFERROR(INDEX('Weekly Stats'!N:N,MATCH($C31,'Weekly Stats'!$A:$A,0)),"") -> 0 | Q31: =IFERROR(INDEX('Weekly Stats'!O:O,MATCH($C31,'Weekly Stats'!$A:$A,0)),"") -> 0 | R31: =IFERROR(INDEX('Weekly Stats'!P:P,MATCH($C31,'Weekly Stats'!$A:$A,0)),"") -> 0 | S31: =IFERROR(INDEX('Weekly Stats'!Q:Q,MATCH($C31,'Weekly Stats'!$A:$A,0)),"") -> 0 | T31: =IFERROR(INDEX('Weekly Stats'!R:R,MATCH($C31,'Weekly Stats'!$A:$A,0)),"") -> 0 | U31: =IFERROR(INDEX('Weekly Stats'!S:S,MATCH($C31,'Weekly Stats'!$A:$A,0)),"") -> 0 | V31: =IFERROR(INDEX('Weekly Stats'!T:T,MATCH($C31,'Weekly Stats'!$A:$A,0)),"") -> 0 | W31: =IFERROR((Q31*3)+V31,0) -> 0 | X31: =IFERROR(ROUND(D31/E31,3),"") | Y31: =IFERROR(ROUND(J31/I31,2),"") -> 3.75 | Z31: =IFERROR(ROUND(M31/L31,2),"") -> 8.5
B32: A_RB2: | C32: {=IFERROR(INDEX(Lineups!D:D,MATCH(B$27&B32,Lineups!A:A&Lineups!B:B,0)),"")} -> Ashton Jeanty | D32: =IFERROR(INDEX('Weekly Stats'!B:B,MATCH($C32,'Weekly Stats'!$A:$A,0)),"") -> 0 | E32: =IFERROR(INDEX('Weekly Stats'!C:C,MATCH($C32,'Weekly Stats'!$A:$A,0)),"") -> 0 | F32: =IFERROR(INDEX('Weekly Stats'!D:D,MATCH($C32,'Weekly Stats'!$A:$A,0)),"") -> 0 | G32: =IFERROR(INDEX('Weekly Stats'!E:E,MATCH($C32,'Weekly Stats'!$A:$A,0)),"") -> 0 | H32: =IFERROR(INDEX('Weekly Stats'!F:F,MATCH($C32,'Weekly Stats'!$A:$A,0)),"") -> 0 | I32: =IFERROR(INDEX('Weekly Stats'!G:G,MATCH($C32,'Weekly Stats'!$A:$A,0)),"") -> 10 | J32: =IFERROR(INDEX('Weekly Stats'!H:H,MATCH($C32,'Weekly Stats'!$A:$A,0)),"") -> 27 | K32: =IFERROR(INDEX('Weekly Stats'!I:I,MATCH($C32,'Weekly Stats'!$A:$A,0)),"") -> 0 | L32: =IFERROR(INDEX('Weekly Stats'!J:J,MATCH($C32,'Weekly Stats'!$A:$A,0)),"") -> 3 | M32: =IFERROR(INDEX('Weekly Stats'!K:K,MATCH($C32,'Weekly Stats'!$A:$A,0)),"") -> 50 | N32: =IFERROR(INDEX('Weekly Stats'!L:L,MATCH($C32,'Weekly Stats'!$A:$A,0)),"") -> 0 | O32: =IFERROR(INDEX('Weekly Stats'!M:M,MATCH($C32,'Weekly Stats'!$A:$A,0)),"") -> 0 | P32: =IFERROR(INDEX('Weekly Stats'!N:N,MATCH($C32,'Weekly Stats'!$A:$A,0)),"") -> 0 | Q32: =IFERROR(INDEX('Weekly Stats'!O:O,MATCH($C32,'Weekly Stats'!$A:$A,0)),"") -> 0 | R32: =IFERROR(INDEX('Weekly Stats'!P:P,MATCH($C32,'Weekly Stats'!$A:$A,0)),"") -> 0 | S32: =IFERROR(INDEX('Weekly Stats'!Q:Q,MATCH($C32,'Weekly Stats'!$A:$A,0)),"") -> 0 | T32: =IFERROR(INDEX('Weekly Stats'!R:R,MATCH($C32,'Weekly Stats'!$A:$A,0)),"") -> 0 | U32: =IFERROR(INDEX('Weekly Stats'!S:S,MATCH($C32,'Weekly Stats'!$A:$A,0)),"") -> 0 | V32: =IFERROR(INDEX('Weekly Stats'!T:T,MATCH($C32,'Weekly Stats'!$A:$A,0)),"") -> 0 | W32: =IFERROR((Q32*3)+V32,0) -> 0 | X32: =IFERROR(ROUND(D32/E32,3),"") | Y32: =IFERROR(ROUND(J32/I32,2),"") -> 2.7 | Z32: =IFERROR(ROUND(M32/L32,2),"") -> 16.67
B33: A_RB3: | C33: {=IFERROR(INDEX(Lineups!D:D,MATCH(B$27&B33,Lineups!A:A&Lineups!B:B,0)),"")} -> Braelon Allen | D33: =IFERROR(INDEX('Weekly Stats'!B:B,MATCH($C33,'Weekly Stats'!$A:$A,0)),"") -> 0 | E33: =IFERROR(INDEX('Weekly Stats'!C:C,MATCH($C33,'Weekly Stats'!$A:$A,0)),"") -> 0 | F33: =IFERROR(INDEX('Weekly Stats'!D:D,MATCH($C33,'Weekly Stats'!$A:$A,0)),"") -> 0 | G33: =IFERROR(INDEX('Weekly Stats'!E:E,MATCH($C33,'Weekly Stats'!$A:$A,0)),"") -> 0 | H33: =IFERROR(INDEX('Weekly Stats'!F:F,MATCH($C33,'Weekly Stats'!$A:$A,0)),"") -> 0 | I33: =IFERROR(INDEX('Weekly Stats'!G:G,MATCH($C33,'Weekly Stats'!$A:$A,0)),"") -> 24 | J33: =IFERROR(INDEX('Weekly Stats'!H:H,MATCH($C33,'Weekly Stats'!$A:$A,0)),"") -> 116 | K33: =IFERROR(INDEX('Weekly Stats'!I:I,MATCH($C33,'Weekly Stats'!$A:$A,0)),"") -> 1 | L33: =IFERROR(INDEX('Weekly Stats'!J:J,MATCH($C33,'Weekly Stats'!$A:$A,0)),"") -> 1 | M33: =IFERROR(INDEX('Weekly Stats'!K:K,MATCH($C33,'Weekly Stats'!$A:$A,0)),"") -> 0 | N33: =IFERROR(INDEX('Weekly Stats'!L:L,MATCH($C33,'Weekly Stats'!$A:$A,0)),"") -> 0 | O33: =IFERROR(INDEX('Weekly Stats'!M:M,MATCH($C33,'Weekly Stats'!$A:$A,0)),"") -> 0 | P33: =IFERROR(INDEX('Weekly Stats'!N:N,MATCH($C33,'Weekly Stats'!$A:$A,0)),"") -> 0 | Q33: =IFERROR(INDEX('Weekly Stats'!O:O,MATCH($C33,'Weekly Stats'!$A:$A,0)),"") -> 0 | R33: =IFERROR(INDEX('Weekly Stats'!P:P,MATCH($C33,'Weekly Stats'!$A:$A,0)),"") -> 0 | S33: =IFERROR(INDEX('Weekly Stats'!Q:Q,MATCH($C33,'Weekly Stats'!$A:$A,0)),"") -> 0 | T33: =IFERROR(INDEX('Weekly Stats'!R:R,MATCH($C33,'Weekly Stats'!$A:$A,0)),"") -> 0 | U33: =IFERROR(INDEX('Weekly Stats'!S:S,MATCH($C33,'Weekly Stats'!$A:$A,0)),"") -> 0 | V33: =IFERROR(INDEX('Weekly Stats'!T:T,MATCH($C33,'Weekly Stats'!$A:$A,0)),"") -> 0 | W33: =IFERROR((Q33*3)+V33,0) -> 0 | X33: =IFERROR(ROUND(D33/E33,3),"") | Y33: =IFERROR(ROUND(J33/I33,2),"") -> 4.83 | Z33: =IFERROR(ROUND(M33/L33,2),"") -> 0
B34: A_RC1: | C34: {=IFERROR(INDEX(Lineups!D:D,MATCH(B$27&B34,Lineups!A:A&Lineups!B:B,0)),"")} -> Chris Olave | D34: =IFERROR(INDEX('Weekly Stats'!B:B,MATCH($C34,'Weekly Stats'!$A:$A,0)),"") -> 0 | E34: =IFERROR(INDEX('Weekly Stats'!C:C,MATCH($C34,'Weekly Stats'!$A:$A,0)),"") -> 0 | F34: =IFERROR(INDEX('Weekly Stats'!D:D,MATCH($C34,'Weekly Stats'!$A:$A,0)),"") -> 0 | G34: =IFERROR(INDEX('Weekly Stats'!E:E,MATCH($C34,'Weekly Stats'!$A:$A,0)),"") -> 0 | H34: =IFERROR(INDEX('Weekly Stats'!F:F,MATCH($C34,'Weekly Stats'!$A:$A,0)),"") -> 0 | I34: =IFERROR(INDEX('Weekly Stats'!G:G,MATCH($C34,'Weekly Stats'!$A:$A,0)),"") -> 0 | J34: =IFERROR(INDEX('Weekly Stats'!H:H,MATCH($C34,'Weekly Stats'!$A:$A,0)),"") -> 0 | K34: =IFERROR(INDEX('Weekly Stats'!I:I,MATCH($C34,'Weekly Stats'!$A:$A,0)),"") -> 0 | L34: =IFERROR(INDEX('Weekly Stats'!J:J,MATCH($C34,'Weekly Stats'!$A:$A,0)),"") -> 4 | M34: =IFERROR(INDEX('Weekly Stats'!K:K,MATCH($C34,'Weekly Stats'!$A:$A,0)),"") -> 46 | N34: =IFERROR(INDEX('Weekly Stats'!L:L,MATCH($C34,'Weekly Stats'!$A:$A,0)),"") -> 0 | O34: =IFERROR(INDEX('Weekly Stats'!M:M,MATCH($C34,'Weekly Stats'!$A:$A,0)),"") -> 0 | P34: =IFERROR(INDEX('Weekly Stats'!N:N,MATCH($C34,'Weekly Stats'!$A:$A,0)),"") -> 0 | Q34: =IFERROR(INDEX('Weekly Stats'!O:O,MATCH($C34,'Weekly Stats'!$A:$A,0)),"") -> 0 | R34: =IFERROR(INDEX('Weekly Stats'!P:P,MATCH($C34,'Weekly Stats'!$A:$A,0)),"") -> 0 | S34: =IFERROR(INDEX('Weekly Stats'!Q:Q,MATCH($C34,'Weekly Stats'!$A:$A,0)),"") -> 0 | T34: =IFERROR(INDEX('Weekly Stats'!R:R,MATCH($C34,'Weekly Stats'!$A:$A,0)),"") -> 0 | U34: =IFERROR(INDEX('Weekly Stats'!S:S,MATCH($C34,'Weekly Stats'!$A:$A,0)),"") -> 0 | V34: =IFERROR(INDEX('Weekly Stats'!T:T,MATCH($C34,'Weekly Stats'!$A:$A,0)),"") -> 0 | W34: =IFERROR((Q34*3)+V34,0) -> 0 | X34: =IFERROR(ROUND(D34/E34,3),"") | Y34: =IFERROR(ROUND(J34/I34,2),"") | Z34: =IFERROR(ROUND(M34/L34,2),"") -> 11.5
B35: A_RC2: | C35: {=IFERROR(INDEX(Lineups!D:D,MATCH(B$27&B35,Lineups!A:A&Lineups!B:B,0)),"")} -> Michael Wilson | D35: =IFERROR(INDEX('Weekly Stats'!B:B,MATCH($C35,'Weekly Stats'!$A:$A,0)),"") -> 1 | E35: =IFERROR(INDEX('Weekly Stats'!C:C,MATCH($C35,'Weekly Stats'!$A:$A,0)),"") -> 1 | F35: =IFERROR(INDEX('Weekly Stats'!D:D,MATCH($C35,'Weekly Stats'!$A:$A,0)),"") -> 7 | G35: =IFERROR(INDEX('Weekly Stats'!E:E,MATCH($C35,'Weekly Stats'!$A:$A,0)),"") -> 0 | H35: =IFERROR(INDEX('Weekly Stats'!F:F,MATCH($C35,'Weekly Stats'!$A:$A,0)),"") -> 0 | I35: =IFERROR(INDEX('Weekly Stats'!G:G,MATCH($C35,'Weekly Stats'!$A:$A,0)),"") -> 0 | J35: =IFERROR(INDEX('Weekly Stats'!H:H,MATCH($C35,'Weekly Stats'!$A:$A,0)),"") -> 0 | K35: =IFERROR(INDEX('Weekly Stats'!I:I,MATCH($C35,'Weekly Stats'!$A:$A,0)),"") -> 0 | L35: =IFERROR(INDEX('Weekly Stats'!J:J,MATCH($C35,'Weekly Stats'!$A:$A,0)),"") -> 4 | M35: =IFERROR(INDEX('Weekly Stats'!K:K,MATCH($C35,'Weekly Stats'!$A:$A,0)),"") -> 30 | N35: =IFERROR(INDEX('Weekly Stats'!L:L,MATCH($C35,'Weekly Stats'!$A:$A,0)),"") -> 0 | O35: =IFERROR(INDEX('Weekly Stats'!M:M,MATCH($C35,'Weekly Stats'!$A:$A,0)),"") -> 0 | P35: =IFERROR(INDEX('Weekly Stats'!N:N,MATCH($C35,'Weekly Stats'!$A:$A,0)),"") -> 0 | Q35: =IFERROR(INDEX('Weekly Stats'!O:O,MATCH($C35,'Weekly Stats'!$A:$A,0)),"") -> 0 | R35: =IFERROR(INDEX('Weekly Stats'!P:P,MATCH($C35,'Weekly Stats'!$A:$A,0)),"") -> 0 | S35: =IFERROR(INDEX('Weekly Stats'!Q:Q,MATCH($C35,'Weekly Stats'!$A:$A,0)),"") -> 0 | T35: =IFERROR(INDEX('Weekly Stats'!R:R,MATCH($C35,'Weekly Stats'!$A:$A,0)),"") -> 0 | U35: =IFERROR(INDEX('Weekly Stats'!S:S,MATCH($C35,'Weekly Stats'!$A:$A,0)),"") -> 0 | V35: =IFERROR(INDEX('Weekly Stats'!T:T,MATCH($C35,'Weekly Stats'!$A:$A,0)),"") -> 0 | W35: =IFERROR((Q35*3)+V35,0) -> 0 | X35: =IFERROR(ROUND(D35/E35,3),"") -> 1 | Y35: =IFERROR(ROUND(J35/I35,2),"") | Z35: =IFERROR(ROUND(M35/L35,2),"") -> 7.5
B36: A_RC3: | C36: {=IFERROR(INDEX(Lineups!D:D,MATCH(B$27&B36,Lineups!A:A&Lineups!B:B,0)),"")} -> Jameson Williams | D36: =IFERROR(INDEX('Weekly Stats'!B:B,MATCH($C36,'Weekly Stats'!$A:$A,0)),"") -> 0 | E36: =IFERROR(INDEX('Weekly Stats'!C:C,MATCH($C36,'Weekly Stats'!$A:$A,0)),"") -> 0 | F36: =IFERROR(INDEX('Weekly Stats'!D:D,MATCH($C36,'Weekly Stats'!$A:$A,0)),"") -> 0 | G36: =IFERROR(INDEX('Weekly Stats'!E:E,MATCH($C36,'Weekly Stats'!$A:$A,0)),"") -> 0 | H36: =IFERROR(INDEX('Weekly Stats'!F:F,MATCH($C36,'Weekly Stats'!$A:$A,0)),"") -> 0 | I36: =IFERROR(INDEX('Weekly Stats'!G:G,MATCH($C36,'Weekly Stats'!$A:$A,0)),"") -> 0 | J36: =IFERROR(INDEX('Weekly Stats'!H:H,MATCH($C36,'Weekly Stats'!$A:$A,0)),"") -> 0 | K36: =IFERROR(INDEX('Weekly Stats'!I:I,MATCH($C36,'Weekly Stats'!$A:$A,0)),"") -> 0 | L36: =IFERROR(INDEX('Weekly Stats'!J:J,MATCH($C36,'Weekly Stats'!$A:$A,0)),"") -> 2 | M36: =IFERROR(INDEX('Weekly Stats'!K:K,MATCH($C36,'Weekly Stats'!$A:$A,0)),"") -> 47 | N36: =IFERROR(INDEX('Weekly Stats'!L:L,MATCH($C36,'Weekly Stats'!$A:$A,0)),"") -> 2 | O36: =IFERROR(INDEX('Weekly Stats'!M:M,MATCH($C36,'Weekly Stats'!$A:$A,0)),"") -> 0 | P36: =IFERROR(INDEX('Weekly Stats'!N:N,MATCH($C36,'Weekly Stats'!$A:$A,0)),"") -> 0 | Q36: =IFERROR(INDEX('Weekly Stats'!O:O,MATCH($C36,'Weekly Stats'!$A:$A,0)),"") -> 0 | R36: =IFERROR(INDEX('Weekly Stats'!P:P,MATCH($C36,'Weekly Stats'!$A:$A,0)),"") -> 0 | S36: =IFERROR(INDEX('Weekly Stats'!Q:Q,MATCH($C36,'Weekly Stats'!$A:$A,0)),"") -> 0 | T36: =IFERROR(INDEX('Weekly Stats'!R:R,MATCH($C36,'Weekly Stats'!$A:$A,0)),"") -> 0 | U36: =IFERROR(INDEX('Weekly Stats'!S:S,MATCH($C36,'Weekly Stats'!$A:$A,0)),"") -> 0 | V36: =IFERROR(INDEX('Weekly Stats'!T:T,MATCH($C36,'Weekly Stats'!$A:$A,0)),"") -> 0 | W36: =IFERROR((Q36*3)+V36,0) -> 0 | X36: =IFERROR(ROUND(D36/E36,3),"") | Y36: =IFERROR(ROUND(J36/I36,2),"") | Z36: =IFERROR(ROUND(M36/L36,2),"") -> 23.5
B37: A_PK1: | C37: {=IFERROR(INDEX(Lineups!D:D,MATCH(B$27&B37,Lineups!A:A&Lineups!B:B,0)),"")} -> Chase McLaughlin | D37: =IFERROR(INDEX('Weekly Stats'!B:B,MATCH($C37,'Weekly Stats'!$A:$A,0)),"") -> 0 | E37: =IFERROR(INDEX('Weekly Stats'!C:C,MATCH($C37,'Weekly Stats'!$A:$A,0)),"") -> 0 | F37: =IFERROR(INDEX('Weekly Stats'!D:D,MATCH($C37,'Weekly Stats'!$A:$A,0)),"") -> 0 | G37: =IFERROR(INDEX('Weekly Stats'!E:E,MATCH($C37,'Weekly Stats'!$A:$A,0)),"") -> 0 | H37: =IFERROR(INDEX('Weekly Stats'!F:F,MATCH($C37,'Weekly Stats'!$A:$A,0)),"") -> 0 | I37: =IFERROR(INDEX('Weekly Stats'!G:G,MATCH($C37,'Weekly Stats'!$A:$A,0)),"") -> 0 | J37: =IFERROR(INDEX('Weekly Stats'!H:H,MATCH($C37,'Weekly Stats'!$A:$A,0)),"") -> 0 | K37: =IFERROR(INDEX('Weekly Stats'!I:I,MATCH($C37,'Weekly Stats'!$A:$A,0)),"") -> 0 | L37: =IFERROR(INDEX('Weekly Stats'!J:J,MATCH($C37,'Weekly Stats'!$A:$A,0)),"") -> 0 | M37: =IFERROR(INDEX('Weekly Stats'!K:K,MATCH($C37,'Weekly Stats'!$A:$A,0)),"") -> 0 | N37: =IFERROR(INDEX('Weekly Stats'!L:L,MATCH($C37,'Weekly Stats'!$A:$A,0)),"") -> 0 | O37: =IFERROR(INDEX('Weekly Stats'!M:M,MATCH($C37,'Weekly Stats'!$A:$A,0)),"") -> 0 | P37: =IFERROR(INDEX('Weekly Stats'!N:N,MATCH($C37,'Weekly Stats'!$A:$A,0)),"") -> 0 | Q37: =IFERROR(INDEX('Weekly Stats'!O:O,MATCH($C37,'Weekly Stats'!$A:$A,0)),"") -> 1 | R37: =IFERROR(INDEX('Weekly Stats'!P:P,MATCH($C37,'Weekly Stats'!$A:$A,0)),"") -> 0 | S37: =IFERROR(INDEX('Weekly Stats'!Q:Q,MATCH($C37,'Weekly Stats'!$A:$A,0)),"") -> 1 | T37: =IFERROR(INDEX('Weekly Stats'!R:R,MATCH($C37,'Weekly Stats'!$A:$A,0)),"") -> 0 | U37: =IFERROR(INDEX('Weekly Stats'!S:S,MATCH($C37,'Weekly Stats'!$A:$A,0)),"") -> 0 | V37: =IFERROR(INDEX('Weekly Stats'!T:T,MATCH($C37,'Weekly Stats'!$A:$A,0)),"") -> 3 | W37: =IFERROR((Q37*3)+V37,0) -> 6 | X37: =IFERROR(ROUND(D37/E37,3),"") | Y37: =IFERROR(ROUND(J37/I37,2),"") | Z37: =IFERROR(ROUND(M37/L37,2),"")
C38: Totals | D38: =SUM(D29:D37) -> 32 | E38: =SUM(E29:E37) -> 47 | F38: =SUM(F29:F37) -> 283 | G38: =SUM(G29:G37) -> 1 | H38: =SUM(H29:H37) -> 2 | I38: =SUM(I29:I37) -> 56 | J38: =SUM(J29:J37) -> 228 | K38: =SUM(K29:K37) -> 2 | ... W38: =SUM(W29:W37) -> 6 | X38: =IFERROR(ROUND(D38/E38,3),0) -> 0.681 | Y38: =IFERROR(ROUND(J38/I38,2),0) -> 4.07 | Z38: =IFERROR(ROUND(M38/L38,2),0) -> 11.88
C39: Team | D39: Sacks | E39: Fumble Rec. | F39: Interceptions | G39: Yards Allowed | H39: Pts. Scored | I39: Pts. Allowed
B40: A_DU1: | C40: {=IFERROR(INDEX(Lineups!D:D,MATCH(B$27&B40,Lineups!A:A&Lineups!B:B,0)),"")} -> Houston Texans | D40: =IFERROR(INDEX('Weekly Stats'!C:C,MATCH($C40,'Weekly Stats'!$A:$A,0)),"") -> 4 | E40: =IFERROR(INDEX('Weekly Stats'!D:D,MATCH($C40,'Weekly Stats'!$A:$A,0)),"") -> 1 | F40: =IFERROR(INDEX('Weekly Stats'!E:E,MATCH($C40,'Weekly Stats'!$A:$A,0)),"") -> 1 | G40: =IFERROR(INDEX('Weekly Stats'!F:F,MATCH($C40,'Weekly Stats'!$A:$A,0)),"") -> 187 | H40: =IFERROR(INDEX('Weekly Stats'!K:K,MATCH($C40,'Weekly Stats'!$A:$A,0)),"") -> 0 | I40: =IFERROR(INDEX('Weekly Stats'!G:G,MATCH($C40,'Weekly Stats'!$A:$A,0)),"") -> 3
C41: Head Coach | D41: Pts. Differential
B42: Coach: | C42: {=IFERROR(INDEX(Lineups!D:D,MATCH(B$27&B42,Lineups!A:A&Lineups!B:B,0)),"")} -> Kevin O'Connell | D42: =IFERROR(INDEX('Weekly Stats'!AC:AC,MATCH(C42,'Weekly Stats'!AB:AB,0))-INDEX('Weekly Stats'!AD:AD,MATCH(C42,'Weekly Stats'!AB:AB,0)),"") -> 10
A46: =IF(COUNTIFS(Data!C:C,Data!A2,Data!D:D,A2)>1,A2,"") -> 1 | B46: =IFERROR(INDEX(Data!I:I,MATCH(A46,Data!H:H,0)),"") -> Chili's Dawgs
C47: Player | D47: Completions | E47: Passes | F47: Yards | G47: TD's | H47: INT's | I47: Rushes | J47: Yards | K47: TD's | L47: Receptions | M47: Yards | N47: TD's | O47: Fum Lost | P47: 2Pt | Q47: FG's Made | R47: ="10-39" -> 10-39 | S47: 40-49 | T47: 50+ | U47: 60+ | V47: Extra pts. | W47: Total pts. | X47: Comp. % | Y47: Yards/Rush | Z47: Yards/Rec.
B48: B_QB1: | C48: {=IFERROR(INDEX(Lineups!D:D,MATCH(B$46&B48,Lineups!A:A&Lineups!B:B,0)),"")} -> Jordan Love | D48: =IFERROR(INDEX('Weekly Stats'!B:B,MATCH($C48,'Weekly Stats'!$A:$A,0)),"") -> 25 | E48: =IFERROR(INDEX('Weekly Stats'!C:C,MATCH($C48,'Weekly Stats'!$A:$A,0)),"") -> 31 | F48: =IFERROR(INDEX('Weekly Stats'!D:D,MATCH($C48,'Weekly Stats'!$A:$A,0)),"") -> 367 | G48: =IFERROR(INDEX('Weekly Stats'!E:E,MATCH($C48,'Weekly Stats'!$A:$A,0)),"") -> 2 | H48: =IFERROR(INDEX('Weekly Stats'!F:F,MATCH($C48,'Weekly Stats'!$A:$A,0)),"") -> 0 | I48: =IFERROR(INDEX('Weekly Stats'!G:G,MATCH($C48,'Weekly Stats'!$A:$A,0)),"") -> 1 | J48: =IFERROR(INDEX('Weekly Stats'!H:H,MATCH($C48,'Weekly Stats'!$A:$A,0)),"") -> 6 | K48: =IFERROR(INDEX('Weekly Stats'!I:I,MATCH($C48,'Weekly Stats'!$A:$A,0)),"") -> 0 | L48: =IFERROR(INDEX('Weekly Stats'!J:J,MATCH($C48,'Weekly Stats'!$A:$A,0)),"") -> 0 | M48: =IFERROR(INDEX('Weekly Stats'!K:K,MATCH($C48,'Weekly Stats'!$A:$A,0)),"") -> 0 | N48: =IFERROR(INDEX('Weekly Stats'!L:L,MATCH($C48,'Weekly Stats'!$A:$A,0)),"") -> 0 | O48: =IFERROR(INDEX('Weekly Stats'!M:M,MATCH($C48,'Weekly Stats'!$A:$A,0)),"") -> 0 | P48: =IFERROR(INDEX('Weekly Stats'!N:N,MATCH($C48,'Weekly Stats'!$A:$A,0)),"") -> 1 | Q48: =IFERROR(INDEX('Weekly Stats'!O:O,MATCH($C48,'Weekly Stats'!$A:$A,0)),"") -> 0 | R48: =IFERROR(INDEX('Weekly Stats'!P:P,MATCH($C48,'Weekly Stats'!$A:$A,0)),"") -> 0 | S48: =IFERROR(INDEX('Weekly Stats'!Q:Q,MATCH($C48,'Weekly Stats'!$A:$A,0)),"") -> 0 | T48: =IFERROR(INDEX('Weekly Stats'!R:R,MATCH($C48,'Weekly Stats'!$A:$A,0)),"") -> 0 | U48: =IFERROR(INDEX('Weekly Stats'!S:S,MATCH($C48,'Weekly Stats'!$A:$A,0)),"") -> 0 | V48: =IFERROR(INDEX('Weekly Stats'!T:T,MATCH($C48,'Weekly Stats'!$A:$A,0)),"") -> 0 | W48: =IFERROR((Q48*3)+V48,0) -> 0 | X48: =IFERROR(ROUND(D48/E48,3),"") -> 0.806 | Y48: =IFERROR(ROUND(J48/I48,2),"") -> 6 | Z48: =IFERROR(ROUND(M48/L48,2),"")
B49: B_QB2: | C49: {=IFERROR(INDEX(Lineups!D:D,MATCH(B$46&B49,Lineups!A:A&Lineups!B:B,0)),"")} -> Drake Maye | D49: =IFERROR(INDEX('Weekly Stats'!B:B,MATCH($C49,'Weekly Stats'!$A:$A,0)),"") -> 26 | E49: =IFERROR(INDEX('Weekly Stats'!C:C,MATCH($C49,'Weekly Stats'!$A:$A,0)),"") -> 34 | F49: =IFERROR(INDEX('Weekly Stats'!D:D,MATCH($C49,'Weekly Stats'!$A:$A,0)),"") -> 374 | G49: =IFERROR(INDEX('Weekly Stats'!E:E,MATCH($C49,'Weekly Stats'!$A:$A,0)),"") -> 4 | H49: =IFERROR(INDEX('Weekly Stats'!F:F,MATCH($C49,'Weekly Stats'!$A:$A,0)),"") -> 0 | I49: =IFERROR(INDEX('Weekly Stats'!G:G,MATCH($C49,'Weekly Stats'!$A:$A,0)),"") -> 7 | J49: =IFERROR(INDEX('Weekly Stats'!H:H,MATCH($C49,'Weekly Stats'!$A:$A,0)),"") -> 25 | K49: =IFERROR(INDEX('Weekly Stats'!I:I,MATCH($C49,'Weekly Stats'!$A:$A,0)),"") -> 1 | L49: =IFERROR(INDEX('Weekly Stats'!J:J,MATCH($C49,'Weekly Stats'!$A:$A,0)),"") -> 0 | M49: =IFERROR(INDEX('Weekly Stats'!K:K,MATCH($C49,'Weekly Stats'!$A:$A,0)),"") -> 0 | N49: =IFERROR(INDEX('Weekly Stats'!L:L,MATCH($C49,'Weekly Stats'!$A:$A,0)),"") -> 0 | O49: =IFERROR(INDEX('Weekly Stats'!M:M,MATCH($C49,'Weekly Stats'!$A:$A,0)),"") -> 0 | P49: =IFERROR(INDEX('Weekly Stats'!N:N,MATCH($C49,'Weekly Stats'!$A:$A,0)),"") -> 0 | Q49: =IFERROR(INDEX('Weekly Stats'!O:O,MATCH($C49,'Weekly Stats'!$A:$A,0)),"") -> 0 | R49: =IFERROR(INDEX('Weekly Stats'!P:P,MATCH($C49,'Weekly Stats'!$A:$A,0)),"") -> 0 | S49: =IFERROR(INDEX('Weekly Stats'!Q:Q,MATCH($C49,'Weekly Stats'!$A:$A,0)),"") -> 0 | T49: =IFERROR(INDEX('Weekly Stats'!R:R,MATCH($C49,'Weekly Stats'!$A:$A,0)),"") -> 0 | U49: =IFERROR(INDEX('Weekly Stats'!S:S,MATCH($C49,'Weekly Stats'!$A:$A,0)),"") -> 0 | V49: =IFERROR(INDEX('Weekly Stats'!T:T,MATCH($C49,'Weekly Stats'!$A:$A,0)),"") -> 0 | W49: =IFERROR((Q49*3)+V49,0) -> 0 | X49: =IFERROR(ROUND(D49/E49,3),"") -> 0.765 | Y49: =IFERROR(ROUND(J49/I49,2),"") -> 3.57 | Z49: =IFERROR(ROUND(M49/L49,2),"")
B50: B_RB1: | C50: {=IFERROR(INDEX(Lineups!D:D,MATCH(B$46&B50,Lineups!A:A&Lineups!B:B,0)),"")} -> D'Andre Swift | D50: =IFERROR(INDEX('Weekly Stats'!B:B,MATCH($C50,'Weekly Stats'!$A:$A,0)),"") -> 0 | E50: =IFERROR(INDEX('Weekly Stats'!C:C,MATCH($C50,'Weekly Stats'!$A:$A,0)),"") -> 0 | F50: =IFERROR(INDEX('Weekly Stats'!D:D,MATCH($C50,'Weekly Stats'!$A:$A,0)),"") -> 0 | G50: =IFERROR(INDEX('Weekly Stats'!E:E,MATCH($C50,'Weekly Stats'!$A:$A,0)),"") -> 0 | H50: =IFERROR(INDEX('Weekly Stats'!F:F,MATCH($C50,'Weekly Stats'!$A:$A,0)),"") -> 0 | I50: =IFERROR(INDEX('Weekly Stats'!G:G,MATCH($C50,'Weekly Stats'!$A:$A,0)),"") -> 9 | J50: =IFERROR(INDEX('Weekly Stats'!H:H,MATCH($C50,'Weekly Stats'!$A:$A,0)),"") -> 43 | K50: =IFERROR(INDEX('Weekly Stats'!I:I,MATCH($C50,'Weekly Stats'!$A:$A,0)),"") -> 1 | L50: =IFERROR(INDEX('Weekly Stats'!J:J,MATCH($C50,'Weekly Stats'!$A:$A,0)),"") -> 4 | M50: =IFERROR(INDEX('Weekly Stats'!K:K,MATCH($C50,'Weekly Stats'!$A:$A,0)),"") -> 30 | N50: =IFERROR(INDEX('Weekly Stats'!L:L,MATCH($C50,'Weekly Stats'!$A:$A,0)),"") -> 0 | O50: =IFERROR(INDEX('Weekly Stats'!M:M,MATCH($C50,'Weekly Stats'!$A:$A,0)),"") -> 0 | P50: =IFERROR(INDEX('Weekly Stats'!N:N,MATCH($C50,'Weekly Stats'!$A:$A,0)),"") -> 0 | Q50: =IFERROR(INDEX('Weekly Stats'!O:O,MATCH($C50,'Weekly Stats'!$A:$A,0)),"") -> 0 | R50: =IFERROR(INDEX('Weekly Stats'!P:P,MATCH($C50,'Weekly Stats'!$A:$A,0)),"") -> 0 | S50: =IFERROR(INDEX('Weekly Stats'!Q:Q,MATCH($C50,'Weekly Stats'!$A:$A,0)),"") -> 0 | T50: =IFERROR(INDEX('Weekly Stats'!R:R,MATCH($C50,'Weekly Stats'!$A:$A,0)),"") -> 0 | U50: =IFERROR(INDEX('Weekly Stats'!S:S,MATCH($C50,'Weekly Stats'!$A:$A,0)),"") -> 0 | V50: =IFERROR(INDEX('Weekly Stats'!T:T,MATCH($C50,'Weekly Stats'!$A:$A,0)),"") -> 0 | W50: =IFERROR((Q50*3)+V50,0) -> 0 | X50: =IFERROR(ROUND(D50/E50,3),"") | Y50: =IFERROR(ROUND(J50/I50,2),"") -> 4.78 | Z50: =IFERROR(ROUND(M50/L50,2),"") -> 7.5
B51: B_RB2: | C51: {=IFERROR(INDEX(Lineups!D:D,MATCH(B$46&B51,Lineups!A:A&Lineups!B:B,0)),"")} -> Quinshon Judkins | D51: =IFERROR(INDEX('Weekly Stats'!B:B,MATCH($C51,'Weekly Stats'!$A:$A,0)),"") -> 0 | E51: =IFERROR(INDEX('Weekly Stats'!C:C,MATCH($C51,'Weekly Stats'!$A:$A,0)),"") -> 0 | F51: =IFERROR(INDEX('Weekly Stats'!D:D,MATCH($C51,'Weekly Stats'!$A:$A,0)),"") -> 0 | G51: =IFERROR(INDEX('Weekly Stats'!E:E,MATCH($C51,'Weekly Stats'!$A:$A,0)),"") -> 0 | H51: =IFERROR(INDEX('Weekly Stats'!F:F,MATCH($C51,'Weekly Stats'!$A:$A,0)),"") -> 0 | I51: =IFERROR(INDEX('Weekly Stats'!G:G,MATCH($C51,'Weekly Stats'!$A:$A,0)),"") -> 14 | J51: =IFERROR(INDEX('Weekly Stats'!H:H,MATCH($C51,'Weekly Stats'!$A:$A,0)),"") -> 44 | K51: =IFERROR(INDEX('Weekly Stats'!I:I,MATCH($C51,'Weekly Stats'!$A:$A,0)),"") -> 0 | L51: =IFERROR(INDEX('Weekly Stats'!J:J,MATCH($C51,'Weekly Stats'!$A:$A,0)),"") -> 3 | M51: =IFERROR(INDEX('Weekly Stats'!K:K,MATCH($C51,'Weekly Stats'!$A:$A,0)),"") -> 6 | N51: =IFERROR(INDEX('Weekly Stats'!L:L,MATCH($C51,'Weekly Stats'!$A:$A,0)),"") -> 0 | O51: =IFERROR(INDEX('Weekly Stats'!M:M,MATCH($C51,'Weekly Stats'!$A:$A,0)),"") -> 0 | P51: =IFERROR(INDEX('Weekly Stats'!N:N,MATCH($C51,'Weekly Stats'!$A:$A,0)),"") -> 0 | Q51: =IFERROR(INDEX('Weekly Stats'!O:O,MATCH($C51,'Weekly Stats'!$A:$A,0)),"") -> 0 | R51: =IFERROR(INDEX('Weekly Stats'!P:P,MATCH($C51,'Weekly Stats'!$A:$A,0)),"") -> 0 | S51: =IFERROR(INDEX('Weekly Stats'!Q:Q,MATCH($C51,'Weekly Stats'!$A:$A,0)),"") -> 0 | T51: =IFERROR(INDEX('Weekly Stats'!R:R,MATCH($C51,'Weekly Stats'!$A:$A,0)),"") -> 0 | U51: =IFERROR(INDEX('Weekly Stats'!S:S,MATCH($C51,'Weekly Stats'!$A:$A,0)),"") -> 0 | V51: =IFERROR(INDEX('Weekly Stats'!T:T,MATCH($C51,'Weekly Stats'!$A:$A,0)),"") -> 0 | W51: =IFERROR((Q51*3)+V51,0) -> 0 | X51: =IFERROR(ROUND(D51/E51,3),"") | Y51: =IFERROR(ROUND(J51/I51,2),"") -> 3.14 | Z51: =IFERROR(ROUND(M51/L51,2),"") -> 2
B52: B_RB3: | C52: {=IFERROR(INDEX(Lineups!D:D,MATCH(B$46&B52,Lineups!A:A&Lineups!B:B,0)),"")} -> Alvin Kamara | D52: =IFERROR(INDEX('Weekly Stats'!B:B,MATCH($C52,'Weekly Stats'!$A:$A,0)),"") -> 0 | E52: =IFERROR(INDEX('Weekly Stats'!C:C,MATCH($C52,'Weekly Stats'!$A:$A,0)),"") -> 0 | F52: =IFERROR(INDEX('Weekly Stats'!D:D,MATCH($C52,'Weekly Stats'!$A:$A,0)),"") -> 0 | G52: =IFERROR(INDEX('Weekly Stats'!E:E,MATCH($C52,'Weekly Stats'!$A:$A,0)),"") -> 0 | H52: =IFERROR(INDEX('Weekly Stats'!F:F,MATCH($C52,'Weekly Stats'!$A:$A,0)),"") -> 0 | I52: =IFERROR(INDEX('Weekly Stats'!G:G,MATCH($C52,'Weekly Stats'!$A:$A,0)),"") -> 3 | J52: =IFERROR(INDEX('Weekly Stats'!H:H,MATCH($C52,'Weekly Stats'!$A:$A,0)),"") -> 12 | K52: =IFERROR(INDEX('Weekly Stats'!I:I,MATCH($C52,'Weekly Stats'!$A:$A,0)),"") -> 0 | L52: =IFERROR(INDEX('Weekly Stats'!J:J,MATCH($C52,'Weekly Stats'!$A:$A,0)),"") -> 2 | M52: =IFERROR(INDEX('Weekly Stats'!K:K,MATCH($C52,'Weekly Stats'!$A:$A,0)),"") -> -6 | N52: =IFERROR(INDEX('Weekly Stats'!L:L,MATCH($C52,'Weekly Stats'!$A:$A,0)),"") -> 0 | O52: =IFERROR(INDEX('Weekly Stats'!M:M,MATCH($C52,'Weekly Stats'!$A:$A,0)),"") -> 0 | P52: =IFERROR(INDEX('Weekly Stats'!N:N,MATCH($C52,'Weekly Stats'!$A:$A,0)),"") -> 0 | Q52: =IFERROR(INDEX('Weekly Stats'!O:O,MATCH($C52,'Weekly Stats'!$A:$A,0)),"") -> 0 | R52: =IFERROR(INDEX('Weekly Stats'!P:P,MATCH($C52,'Weekly Stats'!$A:$A,0)),"") -> 0 | S52: =IFERROR(INDEX('Weekly Stats'!Q:Q,MATCH($C52,'Weekly Stats'!$A:$A,0)),"") -> 0 | T52: =IFERROR(INDEX('Weekly Stats'!R:R,MATCH($C52,'Weekly Stats'!$A:$A,0)),"") -> 0 | U52: =IFERROR(INDEX('Weekly Stats'!S:S,MATCH($C52,'Weekly Stats'!$A:$A,0)),"") -> 0 | V52: =IFERROR(INDEX('Weekly Stats'!T:T,MATCH($C52,'Weekly Stats'!$A:$A,0)),"") -> 0 | W52: =IFERROR((Q52*3)+V52,0) -> 0 | X52: =IFERROR(ROUND(D52/E52,3),"") | Y52: =IFERROR(ROUND(J52/I52,2),"") -> 4 | Z52: =IFERROR(ROUND(M52/L52,2),"") -> -3
B53: B_RC1: | C53: {=IFERROR(INDEX(Lineups!D:D,MATCH(B$46&B53,Lineups!A:A&Lineups!B:B,0)),"")} -> Jaxon Smith-Njigba | D53: =IFERROR(INDEX('Weekly Stats'!B:B,MATCH($C53,'Weekly Stats'!$A:$A,0)),"") -> 0 | E53: =IFERROR(INDEX('Weekly Stats'!C:C,MATCH($C53,'Weekly Stats'!$A:$A,0)),"") -> 0 | F53: =IFERROR(INDEX('Weekly Stats'!D:D,MATCH($C53,'Weekly Stats'!$A:$A,0)),"") -> 0 | G53: =IFERROR(INDEX('Weekly Stats'!E:E,MATCH($C53,'Weekly Stats'!$A:$A,0)),"") -> 0 | H53: =IFERROR(INDEX('Weekly Stats'!F:F,MATCH($C53,'Weekly Stats'!$A:$A,0)),"") -> 0 | I53: =IFERROR(INDEX('Weekly Stats'!G:G,MATCH($C53,'Weekly Stats'!$A:$A,0)),"") -> 1 | J53: =IFERROR(INDEX('Weekly Stats'!H:H,MATCH($C53,'Weekly Stats'!$A:$A,0)),"") -> 16 | K53: =IFERROR(INDEX('Weekly Stats'!I:I,MATCH($C53,'Weekly Stats'!$A:$A,0)),"") -> 0 | L53: =IFERROR(INDEX('Weekly Stats'!J:J,MATCH($C53,'Weekly Stats'!$A:$A,0)),"") -> 5 | M53: =IFERROR(INDEX('Weekly Stats'!K:K,MATCH($C53,'Weekly Stats'!$A:$A,0)),"") -> 102 | N53: =IFERROR(INDEX('Weekly Stats'!L:L,MATCH($C53,'Weekly Stats'!$A:$A,0)),"") -> 1 | O53: =IFERROR(INDEX('Weekly Stats'!M:M,MATCH($C53,'Weekly Stats'!$A:$A,0)),"") -> 0 | P53: =IFERROR(INDEX('Weekly Stats'!N:N,MATCH($C53,'Weekly Stats'!$A:$A,0)),"") -> 0 | Q53: =IFERROR(INDEX('Weekly Stats'!O:O,MATCH($C53,'Weekly Stats'!$A:$A,0)),"") -> 0 | R53: =IFERROR(INDEX('Weekly Stats'!P:P,MATCH($C53,'Weekly Stats'!$A:$A,0)),"") -> 0 | S53: =IFERROR(INDEX('Weekly Stats'!Q:Q,MATCH($C53,'Weekly Stats'!$A:$A,0)),"") -> 0 | T53: =IFERROR(INDEX('Weekly Stats'!R:R,MATCH($C53,'Weekly Stats'!$A:$A,0)),"") -> 0 | U53: =IFERROR(INDEX('Weekly Stats'!S:S,MATCH($C53,'Weekly Stats'!$A:$A,0)),"") -> 0 | V53: =IFERROR(INDEX('Weekly Stats'!T:T,MATCH($C53,'Weekly Stats'!$A:$A,0)),"") -> 0 | W53: =IFERROR((Q53*3)+V53,0) -> 0 | X53: =IFERROR(ROUND(D53/E53,3),"") | Y53: =IFERROR(ROUND(J53/I53,2),"") -> 16 | Z53: =IFERROR(ROUND(M53/L53,2),"") -> 20.4
B54: B_RC2: | C54: {=IFERROR(INDEX(Lineups!D:D,MATCH(B$46&B54,Lineups!A:A&Lineups!B:B,0)),"")} -> Malik Nabers | D54: =IFERROR(INDEX('Weekly Stats'!B:B,MATCH($C54,'Weekly Stats'!$A:$A,0)),"") -> 0 | E54: =IFERROR(INDEX('Weekly Stats'!C:C,MATCH($C54,'Weekly Stats'!$A:$A,0)),"") -> 0 | F54: =IFERROR(INDEX('Weekly Stats'!D:D,MATCH($C54,'Weekly Stats'!$A:$A,0)),"") -> 0 | G54: =IFERROR(INDEX('Weekly Stats'!E:E,MATCH($C54,'Weekly Stats'!$A:$A,0)),"") -> 0 | H54: =IFERROR(INDEX('Weekly Stats'!F:F,MATCH($C54,'Weekly Stats'!$A:$A,0)),"") -> 0 | I54: =IFERROR(INDEX('Weekly Stats'!G:G,MATCH($C54,'Weekly Stats'!$A:$A,0)),"") -> 0 | J54: =IFERROR(INDEX('Weekly Stats'!H:H,MATCH($C54,'Weekly Stats'!$A:$A,0)),"") -> 0 | K54: =IFERROR(INDEX('Weekly Stats'!I:I,MATCH($C54,'Weekly Stats'!$A:$A,0)),"") -> 0 | L54: =IFERROR(INDEX('Weekly Stats'!J:J,MATCH($C54,'Weekly Stats'!$A:$A,0)),"") -> 11 | M54: =IFERROR(INDEX('Weekly Stats'!K:K,MATCH($C54,'Weekly Stats'!$A:$A,0)),"") -> 121 | N54: =IFERROR(INDEX('Weekly Stats'!L:L,MATCH($C54,'Weekly Stats'!$A:$A,0)),"") -> 1 | O54: =IFERROR(INDEX('Weekly Stats'!M:M,MATCH($C54,'Weekly Stats'!$A:$A,0)),"") -> 0 | P54: =IFERROR(INDEX('Weekly Stats'!N:N,MATCH($C54,'Weekly Stats'!$A:$A,0)),"") -> 0 | Q54: =IFERROR(INDEX('Weekly Stats'!O:O,MATCH($C54,'Weekly Stats'!$A:$A,0)),"") -> 0 | R54: =IFERROR(INDEX('Weekly Stats'!P:P,MATCH($C54,'Weekly Stats'!$A:$A,0)),"") -> 0 | S54: =IFERROR(INDEX('Weekly Stats'!Q:Q,MATCH($C54,'Weekly Stats'!$A:$A,0)),"") -> 0 | T54: =IFERROR(INDEX('Weekly Stats'!R:R,MATCH($C54,'Weekly Stats'!$A:$A,0)),"") -> 0 | U54: =IFERROR(INDEX('Weekly Stats'!S:S,MATCH($C54,'Weekly Stats'!$A:$A,0)),"") -> 0 | V54: =IFERROR(INDEX('Weekly Stats'!T:T,MATCH($C54,'Weekly Stats'!$A:$A,0)),"") -> 0 | W54: =IFERROR((Q54*3)+V54,0) -> 0 | X54: =IFERROR(ROUND(D54/E54,3),"") | Y54: =IFERROR(ROUND(J54/I54,2),"") | Z54: =IFERROR(ROUND(M54/L54,2),"") -> 11
B55: B_RC3: | C55: {=IFERROR(INDEX(Lineups!D:D,MATCH(B$46&B55,Lineups!A:A&Lineups!B:B,0)),"")} -> Davante Adams | D55: =IFERROR(INDEX('Weekly Stats'!B:B,MATCH($C55,'Weekly Stats'!$A:$A,0)),"") -> 0 | E55: =IFERROR(INDEX('Weekly Stats'!C:C,MATCH($C55,'Weekly Stats'!$A:$A,0)),"") -> 0 | F55: =IFERROR(INDEX('Weekly Stats'!D:D,MATCH($C55,'Weekly Stats'!$A:$A,0)),"") -> 0 | G55: =IFERROR(INDEX('Weekly Stats'!E:E,MATCH($C55,'Weekly Stats'!$A:$A,0)),"") -> 0 | H55: =IFERROR(INDEX('Weekly Stats'!F:F,MATCH($C55,'Weekly Stats'!$A:$A,0)),"") -> 0 | I55: =IFERROR(INDEX('Weekly Stats'!G:G,MATCH($C55,'Weekly Stats'!$A:$A,0)),"") -> 0 | J55: =IFERROR(INDEX('Weekly Stats'!H:H,MATCH($C55,'Weekly Stats'!$A:$A,0)),"") -> 0 | K55: =IFERROR(INDEX('Weekly Stats'!I:I,MATCH($C55,'Weekly Stats'!$A:$A,0)),"") -> 0 | L55: =IFERROR(INDEX('Weekly Stats'!J:J,MATCH($C55,'Weekly Stats'!$A:$A,0)),"") -> 5 | M55: =IFERROR(INDEX('Weekly Stats'!K:K,MATCH($C55,'Weekly Stats'!$A:$A,0)),"") -> 51 | N55: =IFERROR(INDEX('Weekly Stats'!L:L,MATCH($C55,'Weekly Stats'!$A:$A,0)),"") -> 2 | O55: =IFERROR(INDEX('Weekly Stats'!M:M,MATCH($C55,'Weekly Stats'!$A:$A,0)),"") -> 0 | P55: =IFERROR(INDEX('Weekly Stats'!N:N,MATCH($C55,'Weekly Stats'!$A:$A,0)),"") -> 0 | Q55: =IFERROR(INDEX('Weekly Stats'!O:O,MATCH($C55,'Weekly Stats'!$A:$A,0)),"") -> 0 | R55: =IFERROR(INDEX('Weekly Stats'!P:P,MATCH($C55,'Weekly Stats'!$A:$A,0)),"") -> 0 | S55: =IFERROR(INDEX('Weekly Stats'!Q:Q,MATCH($C55,'Weekly Stats'!$A:$A,0)),"") -> 0 | T55: =IFERROR(INDEX('Weekly Stats'!R:R,MATCH($C55,'Weekly Stats'!$A:$A,0)),"") -> 0 | U55: =IFERROR(INDEX('Weekly Stats'!S:S,MATCH($C55,'Weekly Stats'!$A:$A,0)),"") -> 0 | V55: =IFERROR(INDEX('Weekly Stats'!T:T,MATCH($C55,'Weekly Stats'!$A:$A,0)),"") -> 0 | W55: =IFERROR((Q55*3)+V55,0) -> 0 | X55: =IFERROR(ROUND(D55/E55,3),"") | Y55: =IFERROR(ROUND(J55/I55,2),"") | Z55: =IFERROR(ROUND(M55/L55,2),"") -> 10.2
B56: B_PK1: | C56: {=IFERROR(INDEX(Lineups!D:D,MATCH(B$46&B56,Lineups!A:A&Lineups!B:B,0)),"")} -> No Body | D56: =IFERROR(INDEX('Weekly Stats'!B:B,MATCH($C56,'Weekly Stats'!$A:$A,0)),"") | E56: =IFERROR(INDEX('Weekly Stats'!C:C,MATCH($C56,'Weekly Stats'!$A:$A,0)),"") | F56: =IFERROR(INDEX('Weekly Stats'!D:D,MATCH($C56,'Weekly Stats'!$A:$A,0)),"") | G56: =IFERROR(INDEX('Weekly Stats'!E:E,MATCH($C56,'Weekly Stats'!$A:$A,0)),"") | H56: =IFERROR(INDEX('Weekly Stats'!F:F,MATCH($C56,'Weekly Stats'!$A:$A,0)),"") | I56: =IFERROR(INDEX('Weekly Stats'!G:G,MATCH($C56,'Weekly Stats'!$A:$A,0)),"") | J56: =IFERROR(INDEX('Weekly Stats'!H:H,MATCH($C56,'Weekly Stats'!$A:$A,0)),"") | K56: =IFERROR(INDEX('Weekly Stats'!I:I,MATCH($C56,'Weekly Stats'!$A:$A,0)),"") | L56: =IFERROR(INDEX('Weekly Stats'!J:J,MATCH($C56,'Weekly Stats'!$A:$A,0)),"") | M56: =IFERROR(INDEX('Weekly Stats'!K:K,MATCH($C56,'Weekly Stats'!$A:$A,0)),"") | N56: =IFERROR(INDEX('Weekly Stats'!L:L,MATCH($C56,'Weekly Stats'!$A:$A,0)),"") | O56: =IFERROR(INDEX('Weekly Stats'!M:M,MATCH($C56,'Weekly Stats'!$A:$A,0)),"") | P56: =IFERROR(INDEX('Weekly Stats'!N:N,MATCH($C56,'Weekly Stats'!$A:$A,0)),"") | Q56: =IFERROR(INDEX('Weekly Stats'!O:O,MATCH($C56,'Weekly Stats'!$A:$A,0)),"") | R56: =IFERROR(INDEX('Weekly Stats'!P:P,MATCH($C56,'Weekly Stats'!$A:$A,0)),"") | S56: =IFERROR(INDEX('Weekly Stats'!Q:Q,MATCH($C56,'Weekly Stats'!$A:$A,0)),"") | T56: =IFERROR(INDEX('Weekly Stats'!R:R,MATCH($C56,'Weekly Stats'!$A:$A,0)),"") | U56: =IFERROR(INDEX('Weekly Stats'!S:S,MATCH($C56,'Weekly Stats'!$A:$A,0)),"") | V56: =IFERROR(INDEX('Weekly Stats'!T:T,MATCH($C56,'Weekly Stats'!$A:$A,0)),"") | W56: =IFERROR((Q56*3)+V56,0) -> 0 | X56: =IFERROR(ROUND(D56/E56,3),"") | Y56: =IFERROR(ROUND(J56/I56,2),"") | Z56: =IFERROR(ROUND(M56/L56,2),"")
C57: Totals | D57: =SUM(D48:D56) -> 51 | E57: =SUM(E48:E56) -> 65 | F57: =SUM(F48:F56) -> 741 | G57: =SUM(G48:G56) -> 6 | H57: =SUM(H48:H56) -> 0 | I57: =SUM(I48:I56) -> 35 | J57: =SUM(J48:J56) -> 146 | K57: =SUM(K48:K56) -> 2 | ... W57: =SUM(W48:W56) -> 0 | X57: =IFERROR(ROUND(D57/E57,3),0) -> 0.785 | Y57: =IFERROR(ROUND(J57/I57,2),0) -> 4.17 | Z57: =IFERROR(ROUND(M57/L57,2),0) -> 10.13
C58: Team | D58: Sacks | E58: Fumble Rec. | F58: Interceptions | G58: Yards Allowed | H58: Pts. Scored | I58: Pts. Allowed
B59: B_DU1: | C59: {=IFERROR(INDEX(Lineups!D:D,MATCH(B$46&B59,Lineups!A:A&Lineups!B:B,0)),"")} -> Cincinnati Bengals | D59: =IFERROR(INDEX('Weekly Stats'!C:C,MATCH($C59,'Weekly Stats'!$A:$A,0)),"") -> 3 | E59: =IFERROR(INDEX('Weekly Stats'!D:D,MATCH($C59,'Weekly Stats'!$A:$A,0)),"") -> 1 | F59: =IFERROR(INDEX('Weekly Stats'!E:E,MATCH($C59,'Weekly Stats'!$A:$A,0)),"") -> 2 | G59: =IFERROR(INDEX('Weekly Stats'!F:F,MATCH($C59,'Weekly Stats'!$A:$A,0)),"") -> 331 | H59: =IFERROR(INDEX('Weekly Stats'!K:K,MATCH($C59,'Weekly Stats'!$A:$A,0)),"") -> 0 | I59: =IFERROR(INDEX('Weekly Stats'!G:G,MATCH($C59,'Weekly Stats'!$A:$A,0)),"") -> 24
C60: Head Coach | D60: Pts. Differential
B61: Coach: | C61: {=IFERROR(INDEX(Lineups!D:D,MATCH(B$46&B61,Lineups!A:A&Lineups!B:B,0)),"")} -> Jim Harbaugh | D61: =IFERROR(INDEX('Weekly Stats'!AC:AC,MATCH(C61,'Weekly Stats'!AB:AB,0))-INDEX('Weekly Stats'!AD:AD,MATCH(C61,'Weekly Stats'!AB:AB,0)),"") -> -6
D63: Passing | H63: Rushing | K63: Receiving | O63: Other | Q63: Kicking | V63: Defense
C64: Total | D64: =SUM(D65:D66) -> 4 | E64: =SUM(E65:E66) -> 8 | F64: =SUM(F65:F66) -> 8 | G64: =SUM(G65:G66) -> 0 | H64: =SUM(H65:H66) -> 0 | I64: =SUM(I65:I66) -> 0 | J64: =SUM(J65:J66) -> 0 | K64: =SUM(K65:K66) -> 6 | ... AA64: =SUM(AA65:AA66) -> 0 | AB64: =SUM(D64:AA64) -> 27 | AC64: =IF(AB64=AB69,IF(D61>D86,AB64+3,AB64+0),0) -> 0 | AD64: =IF(AB64=AB69,IF(AC64=AC69,IF(G57+K57+N57>G82+K82+N82, AC64+3,AC64)),0) -> 0 | AE64: =IF(AB64=AB69,IF(AC64=AC69,IF(AD64=AD69,IF(F57+J57+M57>F82+J82+M82, AD64+3,AD64))),0) -> 0 | AF64: =IF(AB64=AB69,IF(AC64=AC69,IF(AD64=AD69,IF(AE64=AE69,AB64,AE64),AD64),AC64),IF(AB64<0,0,IF(AB69<0,AB64-AB69,AB64))) -> 27
C65: Bonus | D65: =IFERROR(IF(X57>=0.69,2,0),0) -> 2 | E65: =IF(F57>=575,2,0) -> 2 | F65: =IF(G57>=6,2,0) -> 2 | G65: X | H65: =IF(J57>=250,3,0) -> 0 | I65: =IF(K57>=4,2,0) -> 0 | J65: =IFERROR(IF(Y57>=4.5,2,0),0) -> 0 | K65: =IF(M57>=325,3,0) -> 0 | L65: =IF(N57>=4,2,0) -> 2 | M65: =IFERROR(IF(Z57>=12,2,0),0) -> 0 | N65: =IF(L57>=30,2,0) -> 2 | O65: X | P65: X | Q65: =IFERROR(IF(W57>=12,2,0),0) -> 0 | R65: X | S65: X | T65: =IF(T57>=2,1,0) -> 0 | U65: =IF(U57>=1,2,0) -> 0 | V65: =IF(I84<=14,-2,0) -> -2 | W65: =IF(G84<=275,-2,0) -> -2 | X65: =IF(B71="",0,IF(D84>=5,-1,0)) -> 0 | Y65: =IF(B71="",0,IF(E84>=3,-1,0)) -> 0 | Z65: =IF(B71="",0,IF(F84>=3,-1,0)) -> 0 | AA65: =IF(B71="",0,IF(H84>=8,-2,0)) -> 0 | AF65: =IF(AF64>AF69,"WIN!",IF(AF64=AF69,"Tie","Loss")) -> WIN!
C66: Head-to-Head | D66: =IFERROR(IF(X57>X82,2,0),0) -> 2 | E66: =IF(F57>F82,6,0) -> 6 | F66: =IF(G57>G82,6,0) -> 6 | G66: =IF(H57<H82,2,0) -> 0 | H66: =IF(J57>J82,6,0) -> 0 | I66: =IF(K57>K82,6,0) -> 0 | J66: =IFERROR(IF(Y57>Y82,3,0),0) -> 0 | K66: =IF(M57>M82,6,0) -> 6 | L66: =IF(N57>N82,6,0) -> 6 | M66: =IFERROR(IF(Z57>Z82,2,0),0) -> 0 | N66: =IF(L57>L82,2,0) -> 2 | O66: =IF(P57>P82,2,0) -> 2 | P66: =IF(O57<O82,3,0) -> 0 | Q66: =IFERROR(IF(W57>W82,3,0),0) -> 0 | R66: =IF(R57>R82,1,0) -> 0 | S66: =IF(S57>S82,2,0) -> 0 | T66: =IF((T57+U57)>(T82+U82),3,0) -> 0 | U66: X | V66: =IF(I59<=I84,0,-6) -> -6 | W66: =IF(G59<=G84,0,-3) -> -3 | X66: =IF(D59>=D84,0,-2) -> 0 | Y66: =IF(E59>=E84,0,-2) -> 0 | Z66: =IF(F59>=F84,0,-2) -> 0 | AA66: =IF(H59>=H84,0,-5) -> 0
C67: Head-to-Head | D67: =IFERROR(IF(X82>X57,2,0),0) -> 0 | E67: =IF(F82>F57,6,0) -> 0 | F67: =IF(G82>G57,6,0) -> 0 | G67: =IF(H82<H57,2,0) -> 0 | H67: =IF(J82>J57,6,0) -> 6 | I67: =IF(K82>K57,6,0) -> 0 | J67: =IFERROR(IF(Y82>Y57,3,0),0) -> 3 | K67: =IF(M82>M57,6,0) -> 0 | L67: =IF(N82>N57,6,0) -> 0 | M67: =IFERROR(IF(Z82>Z57,2,0),0) -> 2 | N67: =IF(L82>L57,2,0) -> 0 | O67: =IF(P82>P57,2,0) -> 0 | P67: =IF(O82<O57,3,0) -> 0 | Q67: =IFERROR(IF(W82>W57,3,0),0) -> 3 | R67: =IF(R82>R57,1,0) -> 0 | S67: =IF(S82>S57,2,0) -> 0 | T67: =IF((T82+U82)>(T57+U57),3,0) -> 0 | U67: X | V67: =IF(I84<=I59,0,-6) -> 0 | W67: =IF(G84<=G59,0,-3) -> 0 | X67: =IF(D84>=D59,0,-2) -> -2 | Y67: =IF(E84>=E59,0,-2) -> 0 | Z67: =IF(F84>=F59,0,-2) -> 0 | AA67: =IF(H84>=H59,0,-5) -> 0
C68: Bonus | D68: =IFERROR(IF(X82>=0.69,2,0),0) -> 0 | E68: =IF(F82>=575,2,0) -> 0 | F68: =IF(G82>=6,2,0) -> 0 | G68: X | H68: =IF(J82>=250,3,0) -> 0 | I68: =IF(K82>=4,2,0) -> 0 | J68: =IFERROR(IF(Y82>=4.5,2,0),0) -> 2 | K68: =IF(M82>=325,3,0) -> 0 | L68: =IF(N82>=4,2,0) -> 0 | M68: =IFERROR(IF(Z82>=12,2,0),0) -> 0 | N68: =IF(L82>=30,2,0) -> 0 | O68: X | P68: X | Q68: =IFERROR(IF(W82>=12,2,0),0) -> 0 | R68: X | S68: X | T68: =IF(T82>=2,1,0) -> 0 | U68: =IF(U82>=1,2,0) -> 0 | V68: =IF(I59<=14,-2,0) -> 0 | W68: =IF(G59<=275,-2,0) -> 0 | X68: =IF(B46="",0,IF(D59>=5,-1,0)) -> 0 | Y68: =IF(B46="",0,IF(E59>=3,-1,0)) -> 0 | Z68: =IF(B46="",0,IF(F59>=3,-1,0)) -> 0 | AA68: =IF(B46="",0,IF(H59>=8,-2,0)) -> 0 | AF68: =IF(AF69>AF64,"WIN!",IF(AF69=AF64,"Tie","Loss")) -> Loss
C69: Total | D69: =SUM(D67:D68) -> 0 | E69: =SUM(E67:E68) -> 0 | F69: =SUM(F67:F68) -> 0 | G69: =SUM(G67:G68) -> 0 | H69: =SUM(H67:H68) -> 6 | I69: =SUM(I67:I68) -> 0 | J69: =SUM(J67:J68) -> 5 | K69: =SUM(K67:K68) -> 0 | ... AA69: =SUM(AA67:AA68) -> 0 | AB69: =SUM(D69:AA69) -> 14 | AC69: =IF(AB69=AB64,IF(D86>D61,AB69+3,AB69+0),0) -> 0 | AD69: =IF(AB69=AB64,IF(AC69=AC64,IF(G82+K82+N82>G57+K57+N57,AC69+3,AC69)),0) -> 0 | AE69: =IF(AB69=AB64,IF(AC69=AC64,IF(AD69=AD64,IF(F82+J82+M82>F57+J57+M57,AD69+3,AD69))),0) -> 0 | AF69: =IF(AB69=AB64,IF(AC69=AC64,IF(AD69=AD64,IF(AE69=AE64,AB69,AE69),AD69),AC69),IF(AB69<0,0,IF(AB64<0,AB69-AB64,AB69))) -> 14
D70: Comp. % | E70: Yards | F70: TD's | G70: INT's | H70: Yards | I70: TD's | J70: Yards/Rush | K70: Yards | L70: TD's | M70: Yards/Rec. | N70: Receptions | O70: 2pt. Con. | P70: Fum Lost | Q70: Total Pts. | R70: ="10-39" -> 10-39 | S70: 40-49 | T70: 50+/50-59 | U70: 60+ | V70: Pts. Allowed | W70: Yards Allowed | X70: Sacks | Y70: Fumble Rec. | Z70: Interceptions | AA70: Pts. Scored | AB70: Raw Score | AC70: Tie-break 1 | AD70: Tie-break 2 | AE70: Tie-break 3 | AF70: Final Score
A71: =_xlfn.MAXIFS(Data!E:E,Data!C:C,Data!A2,Data!D:D,A46,Data!F:F,"B") -> 10 | B71: =IFERROR(INDEX(Data!I:I,MATCH(A71,Data!H:H,0)),"") -> Sekundeez
C72: Player | D72: Completions | E72: Passes | F72: Yards | G72: TD's | H72: INT's | I72: Rushes | J72: Yards | K72: TD's | L72: Receptions | M72: Yards | N72: TD's | O72: Fum Lost | P72: 2Pt | Q72: FG's Made | R72: ="10-39" -> 10-39 | S72: 40-49 | T72: 50+ | U72: 60+ | V72: Extra pts. | W72: Total pts. | X72: Comp. % | Y72: Yards/Rush | Z72: Yards/Rec.
B73: B_QB1: | C73: {=IFERROR(INDEX(Lineups!D:D,MATCH(B$71&B73,Lineups!A:A&Lineups!B:B,0)),"")} -> Daniel Jones | D73: =IFERROR(INDEX('Weekly Stats'!B:B,MATCH($C73,'Weekly Stats'!$A:$A,0)),"") -> 24 | E73: =IFERROR(INDEX('Weekly Stats'!C:C,MATCH($C73,'Weekly Stats'!$A:$A,0)),"") -> 44 | F73: =IFERROR(INDEX('Weekly Stats'!D:D,MATCH($C73,'Weekly Stats'!$A:$A,0)),"") -> 267 | G73: =IFERROR(INDEX('Weekly Stats'!E:E,MATCH($C73,'Weekly Stats'!$A:$A,0)),"") -> 0 | H73: =IFERROR(INDEX('Weekly Stats'!F:F,MATCH($C73,'Weekly Stats'!$A:$A,0)),"") -> 0 | I73: =IFERROR(INDEX('Weekly Stats'!G:G,MATCH($C73,'Weekly Stats'!$A:$A,0)),"") -> 3 | J73: =IFERROR(INDEX('Weekly Stats'!H:H,MATCH($C73,'Weekly Stats'!$A:$A,0)),"") -> 4 | K73: =IFERROR(INDEX('Weekly Stats'!I:I,MATCH($C73,'Weekly Stats'!$A:$A,0)),"") -> 0 | L73: =IFERROR(INDEX('Weekly Stats'!J:J,MATCH($C73,'Weekly Stats'!$A:$A,0)),"") -> 0 | M73: =IFERROR(INDEX('Weekly Stats'!K:K,MATCH($C73,'Weekly Stats'!$A:$A,0)),"") -> 0 | N73: =IFERROR(INDEX('Weekly Stats'!L:L,MATCH($C73,'Weekly Stats'!$A:$A,0)),"") -> 0 | O73: =IFERROR(INDEX('Weekly Stats'!M:M,MATCH($C73,'Weekly Stats'!$A:$A,0)),"") -> 0 | P73: =IFERROR(INDEX('Weekly Stats'!N:N,MATCH($C73,'Weekly Stats'!$A:$A,0)),"") -> 0 | Q73: =IFERROR(INDEX('Weekly Stats'!O:O,MATCH($C73,'Weekly Stats'!$A:$A,0)),"") -> 0 | R73: =IFERROR(INDEX('Weekly Stats'!P:P,MATCH($C73,'Weekly Stats'!$A:$A,0)),"") -> 0 | S73: =IFERROR(INDEX('Weekly Stats'!Q:Q,MATCH($C73,'Weekly Stats'!$A:$A,0)),"") -> 0 | T73: =IFERROR(INDEX('Weekly Stats'!R:R,MATCH($C73,'Weekly Stats'!$A:$A,0)),"") -> 0 | U73: =IFERROR(INDEX('Weekly Stats'!S:S,MATCH($C73,'Weekly Stats'!$A:$A,0)),"") -> 0 | V73: =IFERROR(INDEX('Weekly Stats'!T:T,MATCH($C73,'Weekly Stats'!$A:$A,0)),"") -> 0 | W73: =IFERROR((Q73*3)+V73,0) -> 0 | X73: =IFERROR(ROUND(D73/E73,3),"") -> 0.545 | Y73: =IFERROR(ROUND(J73/I73,2),"") -> 1.33 | Z73: =IFERROR(ROUND(M73/L73,2),"")
B74: B_QB2: | C74: {=IFERROR(INDEX(Lineups!D:D,MATCH(B$71&B74,Lineups!A:A&Lineups!B:B,0)),"")} -> No Body | D74: =IFERROR(INDEX('Weekly Stats'!B:B,MATCH($C74,'Weekly Stats'!$A:$A,0)),"") | E74: =IFERROR(INDEX('Weekly Stats'!C:C,MATCH($C74,'Weekly Stats'!$A:$A,0)),"") | F74: =IFERROR(INDEX('Weekly Stats'!D:D,MATCH($C74,'Weekly Stats'!$A:$A,0)),"") | G74: =IFERROR(INDEX('Weekly Stats'!E:E,MATCH($C74,'Weekly Stats'!$A:$A,0)),"") | H74: =IFERROR(INDEX('Weekly Stats'!F:F,MATCH($C74,'Weekly Stats'!$A:$A,0)),"") | I74: =IFERROR(INDEX('Weekly Stats'!G:G,MATCH($C74,'Weekly Stats'!$A:$A,0)),"") | J74: =IFERROR(INDEX('Weekly Stats'!H:H,MATCH($C74,'Weekly Stats'!$A:$A,0)),"") | K74: =IFERROR(INDEX('Weekly Stats'!I:I,MATCH($C74,'Weekly Stats'!$A:$A,0)),"") | L74: =IFERROR(INDEX('Weekly Stats'!J:J,MATCH($C74,'Weekly Stats'!$A:$A,0)),"") | M74: =IFERROR(INDEX('Weekly Stats'!K:K,MATCH($C74,'Weekly Stats'!$A:$A,0)),"") | N74: =IFERROR(INDEX('Weekly Stats'!L:L,MATCH($C74,'Weekly Stats'!$A:$A,0)),"") | O74: =IFERROR(INDEX('Weekly Stats'!M:M,MATCH($C74,'Weekly Stats'!$A:$A,0)),"") | P74: =IFERROR(INDEX('Weekly Stats'!N:N,MATCH($C74,'Weekly Stats'!$A:$A,0)),"") | Q74: =IFERROR(INDEX('Weekly Stats'!O:O,MATCH($C74,'Weekly Stats'!$A:$A,0)),"") | R74: =IFERROR(INDEX('Weekly Stats'!P:P,MATCH($C74,'Weekly Stats'!$A:$A,0)),"") | S74: =IFERROR(INDEX('Weekly Stats'!Q:Q,MATCH($C74,'Weekly Stats'!$A:$A,0)),"") | T74: =IFERROR(INDEX('Weekly Stats'!R:R,MATCH($C74,'Weekly Stats'!$A:$A,0)),"") | U74: =IFERROR(INDEX('Weekly Stats'!S:S,MATCH($C74,'Weekly Stats'!$A:$A,0)),"") | V74: =IFERROR(INDEX('Weekly Stats'!T:T,MATCH($C74,'Weekly Stats'!$A:$A,0)),"") | W74: =IFERROR((Q74*3)+V74,0) -> 0 | X74: =IFERROR(ROUND(D74/E74,3),"") | Y74: =IFERROR(ROUND(J74/I74,2),"") | Z74: =IFERROR(ROUND(M74/L74,2),"")
B75: B_RB1: | C75: {=IFERROR(INDEX(Lineups!D:D,MATCH(B$71&B75,Lineups!A:A&Lineups!B:B,0)),"")} -> Jahmyr Gibbs | D75: =IFERROR(INDEX('Weekly Stats'!B:B,MATCH($C75,'Weekly Stats'!$A:$A,0)),"") -> 0 | E75: =IFERROR(INDEX('Weekly Stats'!C:C,MATCH($C75,'Weekly Stats'!$A:$A,0)),"") -> 0 | F75: =IFERROR(INDEX('Weekly Stats'!D:D,MATCH($C75,'Weekly Stats'!$A:$A,0)),"") -> 0 | G75: =IFERROR(INDEX('Weekly Stats'!E:E,MATCH($C75,'Weekly Stats'!$A:$A,0)),"") -> 0 | H75: =IFERROR(INDEX('Weekly Stats'!F:F,MATCH($C75,'Weekly Stats'!$A:$A,0)),"") -> 0 | I75: =IFERROR(INDEX('Weekly Stats'!G:G,MATCH($C75,'Weekly Stats'!$A:$A,0)),"") -> 25 | J75: =IFERROR(INDEX('Weekly Stats'!H:H,MATCH($C75,'Weekly Stats'!$A:$A,0)),"") -> 151 | K75: =IFERROR(INDEX('Weekly Stats'!I:I,MATCH($C75,'Weekly Stats'!$A:$A,0)),"") -> 2 | L75: =IFERROR(INDEX('Weekly Stats'!J:J,MATCH($C75,'Weekly Stats'!$A:$A,0)),"") -> 5 | M75: =IFERROR(INDEX('Weekly Stats'!K:K,MATCH($C75,'Weekly Stats'!$A:$A,0)),"") -> 56 | N75: =IFERROR(INDEX('Weekly Stats'!L:L,MATCH($C75,'Weekly Stats'!$A:$A,0)),"") -> 0 | O75: =IFERROR(INDEX('Weekly Stats'!M:M,MATCH($C75,'Weekly Stats'!$A:$A,0)),"") -> 0 | P75: =IFERROR(INDEX('Weekly Stats'!N:N,MATCH($C75,'Weekly Stats'!$A:$A,0)),"") -> 0 | Q75: =IFERROR(INDEX('Weekly Stats'!O:O,MATCH($C75,'Weekly Stats'!$A:$A,0)),"") -> 0 | R75: =IFERROR(INDEX('Weekly Stats'!P:P,MATCH($C75,'Weekly Stats'!$A:$A,0)),"") -> 0 | S75: =IFERROR(INDEX('Weekly Stats'!Q:Q,MATCH($C75,'Weekly Stats'!$A:$A,0)),"") -> 0 | T75: =IFERROR(INDEX('Weekly Stats'!R:R,MATCH($C75,'Weekly Stats'!$A:$A,0)),"") -> 0 | U75: =IFERROR(INDEX('Weekly Stats'!S:S,MATCH($C75,'Weekly Stats'!$A:$A,0)),"") -> 0 | V75: =IFERROR(INDEX('Weekly Stats'!T:T,MATCH($C75,'Weekly Stats'!$A:$A,0)),"") -> 0 | W75: =IFERROR((Q75*3)+V75,0) -> 0 | X75: =IFERROR(ROUND(D75/E75,3),"") | Y75: =IFERROR(ROUND(J75/I75,2),"") -> 6.04 | Z75: =IFERROR(ROUND(M75/L75,2),"") -> 11.2
B76: B_RB2: | C76: {=IFERROR(INDEX(Lineups!D:D,MATCH(B$71&B76,Lineups!A:A&Lineups!B:B,0)),"")} -> TreVeyon Henderson | D76: =IFERROR(INDEX('Weekly Stats'!B:B,MATCH($C76,'Weekly Stats'!$A:$A,0)),"") -> 0 | E76: =IFERROR(INDEX('Weekly Stats'!C:C,MATCH($C76,'Weekly Stats'!$A:$A,0)),"") -> 0 | F76: =IFERROR(INDEX('Weekly Stats'!D:D,MATCH($C76,'Weekly Stats'!$A:$A,0)),"") -> 0 | G76: =IFERROR(INDEX('Weekly Stats'!E:E,MATCH($C76,'Weekly Stats'!$A:$A,0)),"") -> 0 | H76: =IFERROR(INDEX('Weekly Stats'!F:F,MATCH($C76,'Weekly Stats'!$A:$A,0)),"") -> 0 | I76: =IFERROR(INDEX('Weekly Stats'!G:G,MATCH($C76,'Weekly Stats'!$A:$A,0)),"") -> 4 | J76: =IFERROR(INDEX('Weekly Stats'!H:H,MATCH($C76,'Weekly Stats'!$A:$A,0)),"") -> 22 | K76: =IFERROR(INDEX('Weekly Stats'!I:I,MATCH($C76,'Weekly Stats'!$A:$A,0)),"") -> 0 | L76: =IFERROR(INDEX('Weekly Stats'!J:J,MATCH($C76,'Weekly Stats'!$A:$A,0)),"") -> 1 | M76: =IFERROR(INDEX('Weekly Stats'!K:K,MATCH($C76,'Weekly Stats'!$A:$A,0)),"") -> 16 | N76: =IFERROR(INDEX('Weekly Stats'!L:L,MATCH($C76,'Weekly Stats'!$A:$A,0)),"") -> 0 | O76: =IFERROR(INDEX('Weekly Stats'!M:M,MATCH($C76,'Weekly Stats'!$A:$A,0)),"") -> 0 | P76: =IFERROR(INDEX('Weekly Stats'!N:N,MATCH($C76,'Weekly Stats'!$A:$A,0)),"") -> 0 | Q76: =IFERROR(INDEX('Weekly Stats'!O:O,MATCH($C76,'Weekly Stats'!$A:$A,0)),"") -> 0 | R76: =IFERROR(INDEX('Weekly Stats'!P:P,MATCH($C76,'Weekly Stats'!$A:$A,0)),"") -> 0 | S76: =IFERROR(INDEX('Weekly Stats'!Q:Q,MATCH($C76,'Weekly Stats'!$A:$A,0)),"") -> 0 | T76: =IFERROR(INDEX('Weekly Stats'!R:R,MATCH($C76,'Weekly Stats'!$A:$A,0)),"") -> 0 | U76: =IFERROR(INDEX('Weekly Stats'!S:S,MATCH($C76,'Weekly Stats'!$A:$A,0)),"") -> 0 | V76: =IFERROR(INDEX('Weekly Stats'!T:T,MATCH($C76,'Weekly Stats'!$A:$A,0)),"") -> 0 | W76: =IFERROR((Q76*3)+V76,0) -> 0 | X76: =IFERROR(ROUND(D76/E76,3),"") | Y76: =IFERROR(ROUND(J76/I76,2),"") -> 5.5 | Z76: =IFERROR(ROUND(M76/L76,2),"") -> 16
B77: B_RB3: | C77: {=IFERROR(INDEX(Lineups!D:D,MATCH(B$71&B77,Lineups!A:A&Lineups!B:B,0)),"")} -> Tyler Allgeier | D77: =IFERROR(INDEX('Weekly Stats'!B:B,MATCH($C77,'Weekly Stats'!$A:$A,0)),"") -> 0 | E77: =IFERROR(INDEX('Weekly Stats'!C:C,MATCH($C77,'Weekly Stats'!$A:$A,0)),"") -> 0 | F77: =IFERROR(INDEX('Weekly Stats'!D:D,MATCH($C77,'Weekly Stats'!$A:$A,0)),"") -> 0 | G77: =IFERROR(INDEX('Weekly Stats'!E:E,MATCH($C77,'Weekly Stats'!$A:$A,0)),"") -> 0 | H77: =IFERROR(INDEX('Weekly Stats'!F:F,MATCH($C77,'Weekly Stats'!$A:$A,0)),"") -> 0 | I77: =IFERROR(INDEX('Weekly Stats'!G:G,MATCH($C77,'Weekly Stats'!$A:$A,0)),"") -> 3 | J77: =IFERROR(INDEX('Weekly Stats'!H:H,MATCH($C77,'Weekly Stats'!$A:$A,0)),"") -> 7 | K77: =IFERROR(INDEX('Weekly Stats'!I:I,MATCH($C77,'Weekly Stats'!$A:$A,0)),"") -> 0 | L77: =IFERROR(INDEX('Weekly Stats'!J:J,MATCH($C77,'Weekly Stats'!$A:$A,0)),"") -> 2 | M77: =IFERROR(INDEX('Weekly Stats'!K:K,MATCH($C77,'Weekly Stats'!$A:$A,0)),"") -> 9 | N77: =IFERROR(INDEX('Weekly Stats'!L:L,MATCH($C77,'Weekly Stats'!$A:$A,0)),"") -> 0 | O77: =IFERROR(INDEX('Weekly Stats'!M:M,MATCH($C77,'Weekly Stats'!$A:$A,0)),"") -> 0 | P77: =IFERROR(INDEX('Weekly Stats'!N:N,MATCH($C77,'Weekly Stats'!$A:$A,0)),"") -> 0 | Q77: =IFERROR(INDEX('Weekly Stats'!O:O,MATCH($C77,'Weekly Stats'!$A:$A,0)),"") -> 0 | R77: =IFERROR(INDEX('Weekly Stats'!P:P,MATCH($C77,'Weekly Stats'!$A:$A,0)),"") -> 0 | S77: =IFERROR(INDEX('Weekly Stats'!Q:Q,MATCH($C77,'Weekly Stats'!$A:$A,0)),"") -> 0 | T77: =IFERROR(INDEX('Weekly Stats'!R:R,MATCH($C77,'Weekly Stats'!$A:$A,0)),"") -> 0 | U77: =IFERROR(INDEX('Weekly Stats'!S:S,MATCH($C77,'Weekly Stats'!$A:$A,0)),"") -> 0 | V77: =IFERROR(INDEX('Weekly Stats'!T:T,MATCH($C77,'Weekly Stats'!$A:$A,0)),"") -> 0 | W77: =IFERROR((Q77*3)+V77,0) -> 0 | X77: =IFERROR(ROUND(D77/E77,3),"") | Y77: =IFERROR(ROUND(J77/I77,2),"") -> 2.33 | Z77: =IFERROR(ROUND(M77/L77,2),"") -> 4.5
B78: B_RC1: | C78: {=IFERROR(INDEX(Lineups!D:D,MATCH(B$71&B78,Lineups!A:A&Lineups!B:B,0)),"")} -> CeeDee Lamb | D78: =IFERROR(INDEX('Weekly Stats'!B:B,MATCH($C78,'Weekly Stats'!$A:$A,0)),"") -> 0 | E78: =IFERROR(INDEX('Weekly Stats'!C:C,MATCH($C78,'Weekly Stats'!$A:$A,0)),"") -> 0 | F78: =IFERROR(INDEX('Weekly Stats'!D:D,MATCH($C78,'Weekly Stats'!$A:$A,0)),"") -> 0 | G78: =IFERROR(INDEX('Weekly Stats'!E:E,MATCH($C78,'Weekly Stats'!$A:$A,0)),"") -> 0 | H78: =IFERROR(INDEX('Weekly Stats'!F:F,MATCH($C78,'Weekly Stats'!$A:$A,0)),"") -> 0 | I78: =IFERROR(INDEX('Weekly Stats'!G:G,MATCH($C78,'Weekly Stats'!$A:$A,0)),"") -> 0 | J78: =IFERROR(INDEX('Weekly Stats'!H:H,MATCH($C78,'Weekly Stats'!$A:$A,0)),"") -> 0 | K78: =IFERROR(INDEX('Weekly Stats'!I:I,MATCH($C78,'Weekly Stats'!$A:$A,0)),"") -> 0 | L78: =IFERROR(INDEX('Weekly Stats'!J:J,MATCH($C78,'Weekly Stats'!$A:$A,0)),"") -> 2 | M78: =IFERROR(INDEX('Weekly Stats'!K:K,MATCH($C78,'Weekly Stats'!$A:$A,0)),"") -> 9 | N78: =IFERROR(INDEX('Weekly Stats'!L:L,MATCH($C78,'Weekly Stats'!$A:$A,0)),"") -> 0 | O78: =IFERROR(INDEX('Weekly Stats'!M:M,MATCH($C78,'Weekly Stats'!$A:$A,0)),"") -> 0 | P78: =IFERROR(INDEX('Weekly Stats'!N:N,MATCH($C78,'Weekly Stats'!$A:$A,0)),"") -> 0 | Q78: =IFERROR(INDEX('Weekly Stats'!O:O,MATCH($C78,'Weekly Stats'!$A:$A,0)),"") -> 0 | R78: =IFERROR(INDEX('Weekly Stats'!P:P,MATCH($C78,'Weekly Stats'!$A:$A,0)),"") -> 0 | S78: =IFERROR(INDEX('Weekly Stats'!Q:Q,MATCH($C78,'Weekly Stats'!$A:$A,0)),"") -> 0 | T78: =IFERROR(INDEX('Weekly Stats'!R:R,MATCH($C78,'Weekly Stats'!$A:$A,0)),"") -> 0 | U78: =IFERROR(INDEX('Weekly Stats'!S:S,MATCH($C78,'Weekly Stats'!$A:$A,0)),"") -> 0 | V78: =IFERROR(INDEX('Weekly Stats'!T:T,MATCH($C78,'Weekly Stats'!$A:$A,0)),"") -> 0 | W78: =IFERROR((Q78*3)+V78,0) -> 0 | X78: =IFERROR(ROUND(D78/E78,3),"") | Y78: =IFERROR(ROUND(J78/I78,2),"") | Z78: =IFERROR(ROUND(M78/L78,2),"") -> 4.5
B79: B_RC2: | C79: {=IFERROR(INDEX(Lineups!D:D,MATCH(B$71&B79,Lineups!A:A&Lineups!B:B,0)),"")} -> Khalil Shakir | D79: =IFERROR(INDEX('Weekly Stats'!B:B,MATCH($C79,'Weekly Stats'!$A:$A,0)),"") -> 0 | E79: =IFERROR(INDEX('Weekly Stats'!C:C,MATCH($C79,'Weekly Stats'!$A:$A,0)),"") -> 0 | F79: =IFERROR(INDEX('Weekly Stats'!D:D,MATCH($C79,'Weekly Stats'!$A:$A,0)),"") -> 0 | G79: =IFERROR(INDEX('Weekly Stats'!E:E,MATCH($C79,'Weekly Stats'!$A:$A,0)),"") -> 0 | H79: =IFERROR(INDEX('Weekly Stats'!F:F,MATCH($C79,'Weekly Stats'!$A:$A,0)),"") -> 0 | I79: =IFERROR(INDEX('Weekly Stats'!G:G,MATCH($C79,'Weekly Stats'!$A:$A,0)),"") -> 0 | J79: =IFERROR(INDEX('Weekly Stats'!H:H,MATCH($C79,'Weekly Stats'!$A:$A,0)),"") -> 0 | K79: =IFERROR(INDEX('Weekly Stats'!I:I,MATCH($C79,'Weekly Stats'!$A:$A,0)),"") -> 0 | L79: =IFERROR(INDEX('Weekly Stats'!J:J,MATCH($C79,'Weekly Stats'!$A:$A,0)),"") -> 3 | M79: =IFERROR(INDEX('Weekly Stats'!K:K,MATCH($C79,'Weekly Stats'!$A:$A,0)),"") -> 80 | N79: =IFERROR(INDEX('Weekly Stats'!L:L,MATCH($C79,'Weekly Stats'!$A:$A,0)),"") -> 0 | O79: =IFERROR(INDEX('Weekly Stats'!M:M,MATCH($C79,'Weekly Stats'!$A:$A,0)),"") -> 0 | P79: =IFERROR(INDEX('Weekly Stats'!N:N,MATCH($C79,'Weekly Stats'!$A:$A,0)),"") -> 0 | Q79: =IFERROR(INDEX('Weekly Stats'!O:O,MATCH($C79,'Weekly Stats'!$A:$A,0)),"") -> 0 | R79: =IFERROR(INDEX('Weekly Stats'!P:P,MATCH($C79,'Weekly Stats'!$A:$A,0)),"") -> 0 | S79: =IFERROR(INDEX('Weekly Stats'!Q:Q,MATCH($C79,'Weekly Stats'!$A:$A,0)),"") -> 0 | T79: =IFERROR(INDEX('Weekly Stats'!R:R,MATCH($C79,'Weekly Stats'!$A:$A,0)),"") -> 0 | U79: =IFERROR(INDEX('Weekly Stats'!S:S,MATCH($C79,'Weekly Stats'!$A:$A,0)),"") -> 0 | V79: =IFERROR(INDEX('Weekly Stats'!T:T,MATCH($C79,'Weekly Stats'!$A:$A,0)),"") -> 0 | W79: =IFERROR((Q79*3)+V79,0) -> 0 | X79: =IFERROR(ROUND(D79/E79,3),"") | Y79: =IFERROR(ROUND(J79/I79,2),"") | Z79: =IFERROR(ROUND(M79/L79,2),"") -> 26.67
B80: B_RC3: | C80: {=IFERROR(INDEX(Lineups!D:D,MATCH(B$71&B80,Lineups!A:A&Lineups!B:B,0)),"")} -> Makai Lemon | D80: =IFERROR(INDEX('Weekly Stats'!B:B,MATCH($C80,'Weekly Stats'!$A:$A,0)),"") -> 0 | E80: =IFERROR(INDEX('Weekly Stats'!C:C,MATCH($C80,'Weekly Stats'!$A:$A,0)),"") -> 0 | F80: =IFERROR(INDEX('Weekly Stats'!D:D,MATCH($C80,'Weekly Stats'!$A:$A,0)),"") -> 0 | G80: =IFERROR(INDEX('Weekly Stats'!E:E,MATCH($C80,'Weekly Stats'!$A:$A,0)),"") -> 0 | H80: =IFERROR(INDEX('Weekly Stats'!F:F,MATCH($C80,'Weekly Stats'!$A:$A,0)),"") -> 0 | I80: =IFERROR(INDEX('Weekly Stats'!G:G,MATCH($C80,'Weekly Stats'!$A:$A,0)),"") -> 0 | J80: =IFERROR(INDEX('Weekly Stats'!H:H,MATCH($C80,'Weekly Stats'!$A:$A,0)),"") -> 0 | K80: =IFERROR(INDEX('Weekly Stats'!I:I,MATCH($C80,'Weekly Stats'!$A:$A,0)),"") -> 0 | L80: =IFERROR(INDEX('Weekly Stats'!J:J,MATCH($C80,'Weekly Stats'!$A:$A,0)),"") -> 5 | M80: =IFERROR(INDEX('Weekly Stats'!K:K,MATCH($C80,'Weekly Stats'!$A:$A,0)),"") -> 43 | N80: =IFERROR(INDEX('Weekly Stats'!L:L,MATCH($C80,'Weekly Stats'!$A:$A,0)),"") -> 0 | O80: =IFERROR(INDEX('Weekly Stats'!M:M,MATCH($C80,'Weekly Stats'!$A:$A,0)),"") -> 0 | P80: =IFERROR(INDEX('Weekly Stats'!N:N,MATCH($C80,'Weekly Stats'!$A:$A,0)),"") -> 0 | Q80: =IFERROR(INDEX('Weekly Stats'!O:O,MATCH($C80,'Weekly Stats'!$A:$A,0)),"") -> 0 | R80: =IFERROR(INDEX('Weekly Stats'!P:P,MATCH($C80,'Weekly Stats'!$A:$A,0)),"") -> 0 | S80: =IFERROR(INDEX('Weekly Stats'!Q:Q,MATCH($C80,'Weekly Stats'!$A:$A,0)),"") -> 0 | T80: =IFERROR(INDEX('Weekly Stats'!R:R,MATCH($C80,'Weekly Stats'!$A:$A,0)),"") -> 0 | U80: =IFERROR(INDEX('Weekly Stats'!S:S,MATCH($C80,'Weekly Stats'!$A:$A,0)),"") -> 0 | V80: =IFERROR(INDEX('Weekly Stats'!T:T,MATCH($C80,'Weekly Stats'!$A:$A,0)),"") -> 0 | W80: =IFERROR((Q80*3)+V80,0) -> 0 | X80: =IFERROR(ROUND(D80/E80,3),"") | Y80: =IFERROR(ROUND(J80/I80,2),"") | Z80: =IFERROR(ROUND(M80/L80,2),"") -> 8.6
B81: B_PK1: | C81: {=IFERROR(INDEX(Lineups!D:D,MATCH(B$71&B81,Lineups!A:A&Lineups!B:B,0)),"")} -> Harrison Mevis | D81: =IFERROR(INDEX('Weekly Stats'!B:B,MATCH($C81,'Weekly Stats'!$A:$A,0)),"") -> 0 | E81: =IFERROR(INDEX('Weekly Stats'!C:C,MATCH($C81,'Weekly Stats'!$A:$A,0)),"") -> 0 | F81: =IFERROR(INDEX('Weekly Stats'!D:D,MATCH($C81,'Weekly Stats'!$A:$A,0)),"") -> 0 | G81: =IFERROR(INDEX('Weekly Stats'!E:E,MATCH($C81,'Weekly Stats'!$A:$A,0)),"") -> 0 | H81: =IFERROR(INDEX('Weekly Stats'!F:F,MATCH($C81,'Weekly Stats'!$A:$A,0)),"") -> 0 | I81: =IFERROR(INDEX('Weekly Stats'!G:G,MATCH($C81,'Weekly Stats'!$A:$A,0)),"") -> 0 | J81: =IFERROR(INDEX('Weekly Stats'!H:H,MATCH($C81,'Weekly Stats'!$A:$A,0)),"") -> 0 | K81: =IFERROR(INDEX('Weekly Stats'!I:I,MATCH($C81,'Weekly Stats'!$A:$A,0)),"") -> 0 | L81: =IFERROR(INDEX('Weekly Stats'!J:J,MATCH($C81,'Weekly Stats'!$A:$A,0)),"") -> 0 | M81: =IFERROR(INDEX('Weekly Stats'!K:K,MATCH($C81,'Weekly Stats'!$A:$A,0)),"") -> 0 | N81: =IFERROR(INDEX('Weekly Stats'!L:L,MATCH($C81,'Weekly Stats'!$A:$A,0)),"") -> 0 | O81: =IFERROR(INDEX('Weekly Stats'!M:M,MATCH($C81,'Weekly Stats'!$A:$A,0)),"") -> 0 | P81: =IFERROR(INDEX('Weekly Stats'!N:N,MATCH($C81,'Weekly Stats'!$A:$A,0)),"") -> 0 | Q81: =IFERROR(INDEX('Weekly Stats'!O:O,MATCH($C81,'Weekly Stats'!$A:$A,0)),"") -> 0 | R81: =IFERROR(INDEX('Weekly Stats'!P:P,MATCH($C81,'Weekly Stats'!$A:$A,0)),"") -> 0 | S81: =IFERROR(INDEX('Weekly Stats'!Q:Q,MATCH($C81,'Weekly Stats'!$A:$A,0)),"") -> 0 | T81: =IFERROR(INDEX('Weekly Stats'!R:R,MATCH($C81,'Weekly Stats'!$A:$A,0)),"") -> 0 | U81: =IFERROR(INDEX('Weekly Stats'!S:S,MATCH($C81,'Weekly Stats'!$A:$A,0)),"") -> 0 | V81: =IFERROR(INDEX('Weekly Stats'!T:T,MATCH($C81,'Weekly Stats'!$A:$A,0)),"") -> 4 | W81: =IFERROR((Q81*3)+V81,0) -> 4 | X81: =IFERROR(ROUND(D81/E81,3),"") | Y81: =IFERROR(ROUND(J81/I81,2),"") | Z81: =IFERROR(ROUND(M81/L81,2),"")
C82: Totals | D82: =SUM(D73:D81) -> 24 | E82: =SUM(E73:E81) -> 44 | F82: =SUM(F73:F81) -> 267 | G82: =SUM(G73:G81) -> 0 | H82: =SUM(H73:H81) -> 0 | I82: =SUM(I73:I81) -> 35 | J82: =SUM(J73:J81) -> 184 | K82: =SUM(K73:K81) -> 2 | ... W82: =SUM(W73:W81) -> 4 | X82: =IFERROR(ROUND(D82/E82,3),0) -> 0.545 | Y82: =IFERROR(ROUND(J82/I82,2),0) -> 5.26 | Z82: =IFERROR(ROUND(M82/L82,2),0) -> 11.83
C83: Team | D83: Sacks | E83: Fumble Rec. | F83: Interceptions | G83: Yards Allowed | H83: Pts. Scored | I83: Pts. Allowed
B84: B_DU1: | C84: {=IFERROR(INDEX(Lineups!D:D,MATCH(B$71&B84,Lineups!A:A&Lineups!B:B,0)),"")} -> Minnesota Vikings | D84: =IFERROR(INDEX('Weekly Stats'!C:C,MATCH($C84,'Weekly Stats'!$A:$A,0)),"") -> 1 | E84: =IFERROR(INDEX('Weekly Stats'!D:D,MATCH($C84,'Weekly Stats'!$A:$A,0)),"") -> 1 | F84: =IFERROR(INDEX('Weekly Stats'!E:E,MATCH($C84,'Weekly Stats'!$A:$A,0)),"") -> 2 | G84: =IFERROR(INDEX('Weekly Stats'!F:F,MATCH($C84,'Weekly Stats'!$A:$A,0)),"") -> 142 | H84: =IFERROR(INDEX('Weekly Stats'!K:K,MATCH($C84,'Weekly Stats'!$A:$A,0)),"") -> 0 | I84: =IFERROR(INDEX('Weekly Stats'!G:G,MATCH($C84,'Weekly Stats'!$A:$A,0)),"") -> 13
C85: Head Coach | D85: Pts. Differential
B86: Coach: | C86: {=IFERROR(INDEX(Lineups!D:D,MATCH(B$71&B86,Lineups!A:A&Lineups!B:B,0)),"")} -> Nick Sirianni | D86: =IFERROR(INDEX('Weekly Stats'!AC:AC,MATCH(C86,'Weekly Stats'!AB:AB,0))-INDEX('Weekly Stats'!AD:AD,MATCH(C86,'Weekly Stats'!AB:AB,0)),"") -> -2

Sheet Rough Rodgers Goes Riding
C1: GBRFL | E1: Back to Results | G1: Rosters | H1: Standings | I1: Schedule | J1: Rules/Scoring | K1: Lineups | L1: Transactions
A2: 2 | B2: =IFERROR(INDEX(Data!I:I,MATCH(A2,Data!H:H,0)),"") -> Rough Rodgers Goes Riding
C3: Player | D3: Completions | E3: Passes | F3: Yards | G3: TD's | H3: INT's | I3: Rushes | J3: Yards | K3: TD's | L3: Receptions | M3: Yards | N3: TD's | O3: Fum Lost | P3: 2Pt | Q3: FG's Made | R3: ="10-39" -> 10-39 | S3: 40-49 | T3: 50+ | U3: 60+ | V3: Extra pts. | W3: Total pts. | X3: Comp. % | Y3: Yards/Rush | Z3: Yards/Rec.
B4: A_QB1: | C4: {=IFERROR(INDEX(Lineups!D:D,MATCH(B$2&B4,Lineups!A:A&Lineups!B:B,0)),"")} -> Aaron Rodgers | D4: =IFERROR(INDEX('Weekly Stats'!B:B,MATCH($C4,'Weekly Stats'!$A:$A,0)),"") -> 22 | E4: =IFERROR(INDEX('Weekly Stats'!C:C,MATCH($C4,'Weekly Stats'!$A:$A,0)),"") -> 31 | F4: =IFERROR(INDEX('Weekly Stats'!D:D,MATCH($C4,'Weekly Stats'!$A:$A,0)),"") -> 235 | G4: =IFERROR(INDEX('Weekly Stats'!E:E,MATCH($C4,'Weekly Stats'!$A:$A,0)),"") -> 3 | H4: =IFERROR(INDEX('Weekly Stats'!F:F,MATCH($C4,'Weekly Stats'!$A:$A,0)),"") -> 0 | I4: =IFERROR(INDEX('Weekly Stats'!G:G,MATCH($C4,'Weekly Stats'!$A:$A,0)),"") -> 1 | J4: =IFERROR(INDEX('Weekly Stats'!H:H,MATCH($C4,'Weekly Stats'!$A:$A,0)),"") -> 6 | K4: =IFERROR(INDEX('Weekly Stats'!I:I,MATCH($C4,'Weekly Stats'!$A:$A,0)),"") -> 0 | L4: =IFERROR(INDEX('Weekly Stats'!J:J,MATCH($C4,'Weekly Stats'!$A:$A,0)),"") -> 0 | M4: =IFERROR(INDEX('Weekly Stats'!K:K,MATCH($C4,'Weekly Stats'!$A:$A,0)),"") -> 0 | N4: =IFERROR(INDEX('Weekly Stats'!L:L,MATCH($C4,'Weekly Stats'!$A:$A,0)),"") -> 0 | O4: =IFERROR(INDEX('Weekly Stats'!M:M,MATCH($C4,'Weekly Stats'!$A:$A,0)),"") -> 0 | P4: =IFERROR(INDEX('Weekly Stats'!N:N,MATCH($C4,'Weekly Stats'!$A:$A,0)),"") -> 0 | Q4: =IFERROR(INDEX('Weekly Stats'!O:O,MATCH($C4,'Weekly Stats'!$A:$A,0)),"") -> 0 | R4: =IFERROR(INDEX('Weekly Stats'!P:P,MATCH($C4,'Weekly Stats'!$A:$A,0)),"") -> 0 | S4: =IFERROR(INDEX('Weekly Stats'!Q:Q,MATCH($C4,'Weekly Stats'!$A:$A,0)),"") -> 0 | T4: =IFERROR(INDEX('Weekly Stats'!R:R,MATCH($C4,'Weekly Stats'!$A:$A,0)),"") -> 0 | U4: =IFERROR(INDEX('Weekly Stats'!S:S,MATCH($C4,'Weekly Stats'!$A:$A,0)),"") -> 0 | V4: =IFERROR(INDEX('Weekly Stats'!T:T,MATCH($C4,'Weekly Stats'!$A:$A,0)),"") -> 0 | W4: =IFERROR((Q4*3)+V4,0) -> 0 | X4: =IFERROR(ROUND(D4/E4,3),"") -> 0.71 | Y4: =IFERROR(ROUND(J4/I4,2),"") -> 6 | Z4: =IFERROR(ROUND(M4/L4,2),"")
B5: A_QB2: | C5: {=IFERROR(INDEX(Lineups!D:D,MATCH(B$2&B5,Lineups!A:A&Lineups!B:B,0)),"")} -> Joe Burrow | D5: =IFERROR(INDEX('Weekly Stats'!B:B,MATCH($C5,'Weekly Stats'!$A:$A,0)),"") -> 23 | E5: =IFERROR(INDEX('Weekly Stats'!C:C,MATCH($C5,'Weekly Stats'!$A:$A,0)),"") -> 32 | F5: =IFERROR(INDEX('Weekly Stats'!D:D,MATCH($C5,'Weekly Stats'!$A:$A,0)),"") -> 190 | G5: =IFERROR(INDEX('Weekly Stats'!E:E,MATCH($C5,'Weekly Stats'!$A:$A,0)),"") -> 4 | H5: =IFERROR(INDEX('Weekly Stats'!F:F,MATCH($C5,'Weekly Stats'!$A:$A,0)),"") -> 0 | I5: =IFERROR(INDEX('Weekly Stats'!G:G,MATCH($C5,'Weekly Stats'!$A:$A,0)),"") -> 4 | J5: =IFERROR(INDEX('Weekly Stats'!H:H,MATCH($C5,'Weekly Stats'!$A:$A,0)),"") -> 10 | K5: =IFERROR(INDEX('Weekly Stats'!I:I,MATCH($C5,'Weekly Stats'!$A:$A,0)),"") -> 0 | L5: =IFERROR(INDEX('Weekly Stats'!J:J,MATCH($C5,'Weekly Stats'!$A:$A,0)),"") -> 0 | M5: =IFERROR(INDEX('Weekly Stats'!K:K,MATCH($C5,'Weekly Stats'!$A:$A,0)),"") -> 0 | N5: =IFERROR(INDEX('Weekly Stats'!L:L,MATCH($C5,'Weekly Stats'!$A:$A,0)),"") -> 0 | O5: =IFERROR(INDEX('Weekly Stats'!M:M,MATCH($C5,'Weekly Stats'!$A:$A,0)),"") -> 0 | P5: =IFERROR(INDEX('Weekly Stats'!N:N,MATCH($C5,'Weekly Stats'!$A:$A,0)),"") -> 0 | Q5: =IFERROR(INDEX('Weekly Stats'!O:O,MATCH($C5,'Weekly Stats'!$A:$A,0)),"") -> 0 | R5: =IFERROR(INDEX('Weekly Stats'!P:P,MATCH($C5,'Weekly Stats'!$A:$A,0)),"") -> 0 | S5: =IFERROR(INDEX('Weekly Stats'!Q:Q,MATCH($C5,'Weekly Stats'!$A:$A,0)),"") -> 0 | T5: =IFERROR(INDEX('Weekly Stats'!R:R,MATCH($C5,'Weekly Stats'!$A:$A,0)),"") -> 0 | U5: =IFERROR(INDEX('Weekly Stats'!S:S,MATCH($C5,'Weekly Stats'!$A:$A,0)),"") -> 0 | V5: =IFERROR(INDEX('Weekly Stats'!T:T,MATCH($C5,'Weekly Stats'!$A:$A,0)),"") -> 0 | W5: =IFERROR((Q5*3)+V5,0) -> 0 | X5: =IFERROR(ROUND(D5/E5,3),"") -> 0.719 | Y5: =IFERROR(ROUND(J5/I5,2),"") -> 2.5 | Z5: =IFERROR(ROUND(M5/L5,2),"")
B6: A_RB1: | C6: {=IFERROR(INDEX(Lineups!D:D,MATCH(B$2&B6,Lineups!A:A&Lineups!B:B,0)),"")} -> Christian McCaffrey | D6: =IFERROR(INDEX('Weekly Stats'!B:B,MATCH($C6,'Weekly Stats'!$A:$A,0)),"") -> 0 | E6: =IFERROR(INDEX('Weekly Stats'!C:C,MATCH($C6,'Weekly Stats'!$A:$A,0)),"") -> 0 | F6: =IFERROR(INDEX('Weekly Stats'!D:D,MATCH($C6,'Weekly Stats'!$A:$A,0)),"") -> 0 | G6: =IFERROR(INDEX('Weekly Stats'!E:E,MATCH($C6,'Weekly Stats'!$A:$A,0)),"") -> 0 | H6: =IFERROR(INDEX('Weekly Stats'!F:F,MATCH($C6,'Weekly Stats'!$A:$A,0)),"") -> 0 | I6: =IFERROR(INDEX('Weekly Stats'!G:G,MATCH($C6,'Weekly Stats'!$A:$A,0)),"") -> 11 | J6: =IFERROR(INDEX('Weekly Stats'!H:H,MATCH($C6,'Weekly Stats'!$A:$A,0)),"") -> 68 | K6: =IFERROR(INDEX('Weekly Stats'!I:I,MATCH($C6,'Weekly Stats'!$A:$A,0)),"") -> 1 | L6: =IFERROR(INDEX('Weekly Stats'!J:J,MATCH($C6,'Weekly Stats'!$A:$A,0)),"") -> 3 | M6: =IFERROR(INDEX('Weekly Stats'!K:K,MATCH($C6,'Weekly Stats'!$A:$A,0)),"") -> 15 | N6: =IFERROR(INDEX('Weekly Stats'!L:L,MATCH($C6,'Weekly Stats'!$A:$A,0)),"") -> 0 | O6: =IFERROR(INDEX('Weekly Stats'!M:M,MATCH($C6,'Weekly Stats'!$A:$A,0)),"") -> 0 | P6: =IFERROR(INDEX('Weekly Stats'!N:N,MATCH($C6,'Weekly Stats'!$A:$A,0)),"") -> 0 | Q6: =IFERROR(INDEX('Weekly Stats'!O:O,MATCH($C6,'Weekly Stats'!$A:$A,0)),"") -> 0 | R6: =IFERROR(INDEX('Weekly Stats'!P:P,MATCH($C6,'Weekly Stats'!$A:$A,0)),"") -> 0 | S6: =IFERROR(INDEX('Weekly Stats'!Q:Q,MATCH($C6,'Weekly Stats'!$A:$A,0)),"") -> 0 | T6: =IFERROR(INDEX('Weekly Stats'!R:R,MATCH($C6,'Weekly Stats'!$A:$A,0)),"") -> 0 | U6: =IFERROR(INDEX('Weekly Stats'!S:S,MATCH($C6,'Weekly Stats'!$A:$A,0)),"") -> 0 | V6: =IFERROR(INDEX('Weekly Stats'!T:T,MATCH($C6,'Weekly Stats'!$A:$A,0)),"") -> 0 | W6: =IFERROR((Q6*3)+V6,0) -> 0 | X6: =IFERROR(ROUND(D6/E6,3),"") | Y6: =IFERROR(ROUND(J6/I6,2),"") -> 6.18 | Z6: =IFERROR(ROUND(M6/L6,2),"") -> 5
B7: A_RB2: | C7: {=IFERROR(INDEX(Lineups!D:D,MATCH(B$2&B7,Lineups!A:A&Lineups!B:B,0)),"")} -> Bucky Irving | D7: =IFERROR(INDEX('Weekly Stats'!B:B,MATCH($C7,'Weekly Stats'!$A:$A,0)),"") -> 0 | E7: =IFERROR(INDEX('Weekly Stats'!C:C,MATCH($C7,'Weekly Stats'!$A:$A,0)),"") -> 0 | F7: =IFERROR(INDEX('Weekly Stats'!D:D,MATCH($C7,'Weekly Stats'!$A:$A,0)),"") -> 0 | G7: =IFERROR(INDEX('Weekly Stats'!E:E,MATCH($C7,'Weekly Stats'!$A:$A,0)),"") -> 0 | H7: =IFERROR(INDEX('Weekly Stats'!F:F,MATCH($C7,'Weekly Stats'!$A:$A,0)),"") -> 0 | I7: =IFERROR(INDEX('Weekly Stats'!G:G,MATCH($C7,'Weekly Stats'!$A:$A,0)),"") -> 21 | J7: =IFERROR(INDEX('Weekly Stats'!H:H,MATCH($C7,'Weekly Stats'!$A:$A,0)),"") -> 165 | K7: =IFERROR(INDEX('Weekly Stats'!I:I,MATCH($C7,'Weekly Stats'!$A:$A,0)),"") -> 1 | L7: =IFERROR(INDEX('Weekly Stats'!J:J,MATCH($C7,'Weekly Stats'!$A:$A,0)),"") -> 2 | M7: =IFERROR(INDEX('Weekly Stats'!K:K,MATCH($C7,'Weekly Stats'!$A:$A,0)),"") -> 10 | N7: =IFERROR(INDEX('Weekly Stats'!L:L,MATCH($C7,'Weekly Stats'!$A:$A,0)),"") -> 1 | O7: =IFERROR(INDEX('Weekly Stats'!M:M,MATCH($C7,'Weekly Stats'!$A:$A,0)),"") -> 0 | P7: =IFERROR(INDEX('Weekly Stats'!N:N,MATCH($C7,'Weekly Stats'!$A:$A,0)),"") -> 0 | Q7: =IFERROR(INDEX('Weekly Stats'!O:O,MATCH($C7,'Weekly Stats'!$A:$A,0)),"") -> 0 | R7: =IFERROR(INDEX('Weekly Stats'!P:P,MATCH($C7,'Weekly Stats'!$A:$A,0)),"") -> 0 | S7: =IFERROR(INDEX('Weekly Stats'!Q:Q,MATCH($C7,'Weekly Stats'!$A:$A,0)),"") -> 0 | T7: =IFERROR(INDEX('Weekly Stats'!R:R,MATCH($C7,'Weekly Stats'!$A:$A,0)),"") -> 0 | U7: =IFERROR(INDEX('Weekly Stats'!S:S,MATCH($C7,'Weekly Stats'!$A:$A,0)),"") -> 0 | V7: =IFERROR(INDEX('Weekly Stats'!T:T,MATCH($C7,'Weekly Stats'!$A:$A,0)),"") -> 0 | W7: =IFERROR((Q7*3)+V7,0) -> 0 | X7: =IFERROR(ROUND(D7/E7,3),"") | Y7: =IFERROR(ROUND(J7/I7,2),"") -> 7.86 | Z7: =IFERROR(ROUND(M7/L7,2),"") -> 5
B8: A_RB3: | C8: {=IFERROR(INDEX(Lineups!D:D,MATCH(B$2&B8,Lineups!A:A&Lineups!B:B,0)),"")} -> Kendre Miller | D8: =IFERROR(INDEX('Weekly Stats'!B:B,MATCH($C8,'Weekly Stats'!$A:$A,0)),"") -> 0 | E8: =IFERROR(INDEX('Weekly Stats'!C:C,MATCH($C8,'Weekly Stats'!$A:$A,0)),"") -> 0 | F8: =IFERROR(INDEX('Weekly Stats'!D:D,MATCH($C8,'Weekly Stats'!$A:$A,0)),"") -> 0 | G8: =IFERROR(INDEX('Weekly Stats'!E:E,MATCH($C8,'Weekly Stats'!$A:$A,0)),"") -> 0 | H8: =IFERROR(INDEX('Weekly Stats'!F:F,MATCH($C8,'Weekly Stats'!$A:$A,0)),"") -> 0 | I8: =IFERROR(INDEX('Weekly Stats'!G:G,MATCH($C8,'Weekly Stats'!$A:$A,0)),"") -> 10 | J8: =IFERROR(INDEX('Weekly Stats'!H:H,MATCH($C8,'Weekly Stats'!$A:$A,0)),"") -> 30 | K8: =IFERROR(INDEX('Weekly Stats'!I:I,MATCH($C8,'Weekly Stats'!$A:$A,0)),"") -> 1 | L8: =IFERROR(INDEX('Weekly Stats'!J:J,MATCH($C8,'Weekly Stats'!$A:$A,0)),"") -> 0 | M8: =IFERROR(INDEX('Weekly Stats'!K:K,MATCH($C8,'Weekly Stats'!$A:$A,0)),"") -> 0 | N8: =IFERROR(INDEX('Weekly Stats'!L:L,MATCH($C8,'Weekly Stats'!$A:$A,0)),"") -> 0 | O8: =IFERROR(INDEX('Weekly Stats'!M:M,MATCH($C8,'Weekly Stats'!$A:$A,0)),"") -> 0 | P8: =IFERROR(INDEX('Weekly Stats'!N:N,MATCH($C8,'Weekly Stats'!$A:$A,0)),"") -> 0 | Q8: =IFERROR(INDEX('Weekly Stats'!O:O,MATCH($C8,'Weekly Stats'!$A:$A,0)),"") -> 0 | R8: =IFERROR(INDEX('Weekly Stats'!P:P,MATCH($C8,'Weekly Stats'!$A:$A,0)),"") -> 0 | S8: =IFERROR(INDEX('Weekly Stats'!Q:Q,MATCH($C8,'Weekly Stats'!$A:$A,0)),"") -> 0 | T8: =IFERROR(INDEX('Weekly Stats'!R:R,MATCH($C8,'Weekly Stats'!$A:$A,0)),"") -> 0 | U8: =IFERROR(INDEX('Weekly Stats'!S:S,MATCH($C8,'Weekly Stats'!$A:$A,0)),"") -> 0 | V8: =IFERROR(INDEX('Weekly Stats'!T:T,MATCH($C8,'Weekly Stats'!$A:$A,0)),"") -> 0 | W8: =IFERROR((Q8*3)+V8,0) -> 0 | X8: =IFERROR(ROUND(D8/E8,3),"") | Y8: =IFERROR(ROUND(J8/I8,2),"") -> 3 | Z8: =IFERROR(ROUND(M8/L8,2),"")
B9: A_RC1: | C9: {=IFERROR(INDEX(Lineups!D:D,MATCH(B$2&B9,Lineups!A:A&Lineups!B:B,0)),"")} -> Amon-Ra St. Brown | D9: =IFERROR(INDEX('Weekly Stats'!B:B,MATCH($C9,'Weekly Stats'!$A:$A,0)),"") -> 0 | E9: =IFERROR(INDEX('Weekly Stats'!C:C,MATCH($C9,'Weekly Stats'!$A:$A,0)),"") -> 0 | F9: =IFERROR(INDEX('Weekly Stats'!D:D,MATCH($C9,'Weekly Stats'!$A:$A,0)),"") -> 0 | G9: =IFERROR(INDEX('Weekly Stats'!E:E,MATCH($C9,'Weekly Stats'!$A:$A,0)),"") -> 0 | H9: =IFERROR(INDEX('Weekly Stats'!F:F,MATCH($C9,'Weekly Stats'!$A:$A,0)),"") -> 0 | I9: =IFERROR(INDEX('Weekly Stats'!G:G,MATCH($C9,'Weekly Stats'!$A:$A,0)),"") -> 0 | J9: =IFERROR(INDEX('Weekly Stats'!H:H,MATCH($C9,'Weekly Stats'!$A:$A,0)),"") -> 0 | K9: =IFERROR(INDEX('Weekly Stats'!I:I,MATCH($C9,'Weekly Stats'!$A:$A,0)),"") -> 0 | L9: =IFERROR(INDEX('Weekly Stats'!J:J,MATCH($C9,'Weekly Stats'!$A:$A,0)),"") -> 6 | M9: =IFERROR(INDEX('Weekly Stats'!K:K,MATCH($C9,'Weekly Stats'!$A:$A,0)),"") -> 69 | N9: =IFERROR(INDEX('Weekly Stats'!L:L,MATCH($C9,'Weekly Stats'!$A:$A,0)),"") -> 0 | O9: =IFERROR(INDEX('Weekly Stats'!M:M,MATCH($C9,'Weekly Stats'!$A:$A,0)),"") -> 0 | P9: =IFERROR(INDEX('Weekly Stats'!N:N,MATCH($C9,'Weekly Stats'!$A:$A,0)),"") -> 0 | Q9: =IFERROR(INDEX('Weekly Stats'!O:O,MATCH($C9,'Weekly Stats'!$A:$A,0)),"") -> 0 | R9: =IFERROR(INDEX('Weekly Stats'!P:P,MATCH($C9,'Weekly Stats'!$A:$A,0)),"") -> 0 | S9: =IFERROR(INDEX('Weekly Stats'!Q:Q,MATCH($C9,'Weekly Stats'!$A:$A,0)),"") -> 0 | T9: =IFERROR(INDEX('Weekly Stats'!R:R,MATCH($C9,'Weekly Stats'!$A:$A,0)),"") -> 0 | U9: =IFERROR(INDEX('Weekly Stats'!S:S,MATCH($C9,'Weekly Stats'!$A:$A,0)),"") -> 0 | V9: =IFERROR(INDEX('Weekly Stats'!T:T,MATCH($C9,'Weekly Stats'!$A:$A,0)),"") -> 0 | W9: =IFERROR((Q9*3)+V9,0) -> 0 | X9: =IFERROR(ROUND(D9/E9,3),"") | Y9: =IFERROR(ROUND(J9/I9,2),"") | Z9: =IFERROR(ROUND(M9/L9,2),"") -> 11.5
B10: A_RC2: | C10: {=IFERROR(INDEX(Lineups!D:D,MATCH(B$2&B10,Lineups!A:A&Lineups!B:B,0)),"")} -> Jaylen Waddle | D10: =IFERROR(INDEX('Weekly Stats'!B:B,MATCH($C10,'Weekly Stats'!$A:$A,0)),"") -> 0 | E10: =IFERROR(INDEX('Weekly Stats'!C:C,MATCH($C10,'Weekly Stats'!$A:$A,0)),"") -> 0 | F10: =IFERROR(INDEX('Weekly Stats'!D:D,MATCH($C10,'Weekly Stats'!$A:$A,0)),"") -> 0 | G10: =IFERROR(INDEX('Weekly Stats'!E:E,MATCH($C10,'Weekly Stats'!$A:$A,0)),"") -> 0 | H10: =IFERROR(INDEX('Weekly Stats'!F:F,MATCH($C10,'Weekly Stats'!$A:$A,0)),"") -> 0 | I10: =IFERROR(INDEX('Weekly Stats'!G:G,MATCH($C10,'Weekly Stats'!$A:$A,0)),"") -> 1 | J10: =IFERROR(INDEX('Weekly Stats'!H:H,MATCH($C10,'Weekly Stats'!$A:$A,0)),"") -> 9 | K10: =IFERROR(INDEX('Weekly Stats'!I:I,MATCH($C10,'Weekly Stats'!$A:$A,0)),"") -> 0 | L10: =IFERROR(INDEX('Weekly Stats'!J:J,MATCH($C10,'Weekly Stats'!$A:$A,0)),"") -> 2 | M10: =IFERROR(INDEX('Weekly Stats'!K:K,MATCH($C10,'Weekly Stats'!$A:$A,0)),"") -> 19 | N10: =IFERROR(INDEX('Weekly Stats'!L:L,MATCH($C10,'Weekly Stats'!$A:$A,0)),"") -> 0 | O10: =IFERROR(INDEX('Weekly Stats'!M:M,MATCH($C10,'Weekly Stats'!$A:$A,0)),"") -> 0 | P10: =IFERROR(INDEX('Weekly Stats'!N:N,MATCH($C10,'Weekly Stats'!$A:$A,0)),"") -> 0 | Q10: =IFERROR(INDEX('Weekly Stats'!O:O,MATCH($C10,'Weekly Stats'!$A:$A,0)),"") -> 0 | R10: =IFERROR(INDEX('Weekly Stats'!P:P,MATCH($C10,'Weekly Stats'!$A:$A,0)),"") -> 0 | S10: =IFERROR(INDEX('Weekly Stats'!Q:Q,MATCH($C10,'Weekly Stats'!$A:$A,0)),"") -> 0 | T10: =IFERROR(INDEX('Weekly Stats'!R:R,MATCH($C10,'Weekly Stats'!$A:$A,0)),"") -> 0 | U10: =IFERROR(INDEX('Weekly Stats'!S:S,MATCH($C10,'Weekly Stats'!$A:$A,0)),"") -> 0 | V10: =IFERROR(INDEX('Weekly Stats'!T:T,MATCH($C10,'Weekly Stats'!$A:$A,0)),"") -> 0 | W10: =IFERROR((Q10*3)+V10,0) -> 0 | X10: =IFERROR(ROUND(D10/E10,3),"") | Y10: =IFERROR(ROUND(J10/I10,2),"") -> 9 | Z10: =IFERROR(ROUND(M10/L10,2),"") -> 9.5
B11: A_RC3: | C11: {=IFERROR(INDEX(Lineups!D:D,MATCH(B$2&B11,Lineups!A:A&Lineups!B:B,0)),"")} -> Trey McBride | D11: =IFERROR(INDEX('Weekly Stats'!B:B,MATCH($C11,'Weekly Stats'!$A:$A,0)),"") -> 0 | E11: =IFERROR(INDEX('Weekly Stats'!C:C,MATCH($C11,'Weekly Stats'!$A:$A,0)),"") -> 0 | F11: =IFERROR(INDEX('Weekly Stats'!D:D,MATCH($C11,'Weekly Stats'!$A:$A,0)),"") -> 0 | G11: =IFERROR(INDEX('Weekly Stats'!E:E,MATCH($C11,'Weekly Stats'!$A:$A,0)),"") -> 0 | H11: =IFERROR(INDEX('Weekly Stats'!F:F,MATCH($C11,'Weekly Stats'!$A:$A,0)),"") -> 0 | I11: =IFERROR(INDEX('Weekly Stats'!G:G,MATCH($C11,'Weekly Stats'!$A:$A,0)),"") -> 0 | J11: =IFERROR(INDEX('Weekly Stats'!H:H,MATCH($C11,'Weekly Stats'!$A:$A,0)),"") -> 0 | K11: =IFERROR(INDEX('Weekly Stats'!I:I,MATCH($C11,'Weekly Stats'!$A:$A,0)),"") -> 0 | L11: =IFERROR(INDEX('Weekly Stats'!J:J,MATCH($C11,'Weekly Stats'!$A:$A,0)),"") -> 9 | M11: =IFERROR(INDEX('Weekly Stats'!K:K,MATCH($C11,'Weekly Stats'!$A:$A,0)),"") -> 66 | N11: =IFERROR(INDEX('Weekly Stats'!L:L,MATCH($C11,'Weekly Stats'!$A:$A,0)),"") -> 1 | O11: =IFERROR(INDEX('Weekly Stats'!M:M,MATCH($C11,'Weekly Stats'!$A:$A,0)),"") -> 0 | P11: =IFERROR(INDEX('Weekly Stats'!N:N,MATCH($C11,'Weekly Stats'!$A:$A,0)),"") -> 0 | Q11: =IFERROR(INDEX('Weekly Stats'!O:O,MATCH($C11,'Weekly Stats'!$A:$A,0)),"") -> 0 | R11: =IFERROR(INDEX('Weekly Stats'!P:P,MATCH($C11,'Weekly Stats'!$A:$A,0)),"") -> 0 | S11: =IFERROR(INDEX('Weekly Stats'!Q:Q,MATCH($C11,'Weekly Stats'!$A:$A,0)),"") -> 0 | T11: =IFERROR(INDEX('Weekly Stats'!R:R,MATCH($C11,'Weekly Stats'!$A:$A,0)),"") -> 0 | U11: =IFERROR(INDEX('Weekly Stats'!S:S,MATCH($C11,'Weekly Stats'!$A:$A,0)),"") -> 0 | V11: =IFERROR(INDEX('Weekly Stats'!T:T,MATCH($C11,'Weekly Stats'!$A:$A,0)),"") -> 0 | W11: =IFERROR((Q11*3)+V11,0) -> 0 | X11: =IFERROR(ROUND(D11/E11,3),"") | Y11: =IFERROR(ROUND(J11/I11,2),"") | Z11: =IFERROR(ROUND(M11/L11,2),"") -> 7.33
B12: A_PK1: | C12: {=IFERROR(INDEX(Lineups!D:D,MATCH(B$2&B12,Lineups!A:A&Lineups!B:B,0)),"")} -> Jason Myers | D12: =IFERROR(INDEX('Weekly Stats'!B:B,MATCH($C12,'Weekly Stats'!$A:$A,0)),"") -> 0 | E12: =IFERROR(INDEX('Weekly Stats'!C:C,MATCH($C12,'Weekly Stats'!$A:$A,0)),"") -> 0 | F12: =IFERROR(INDEX('Weekly Stats'!D:D,MATCH($C12,'Weekly Stats'!$A:$A,0)),"") -> 0 | G12: =IFERROR(INDEX('Weekly Stats'!E:E,MATCH($C12,'Weekly Stats'!$A:$A,0)),"") -> 0 | H12: =IFERROR(INDEX('Weekly Stats'!F:F,MATCH($C12,'Weekly Stats'!$A:$A,0)),"") -> 0 | I12: =IFERROR(INDEX('Weekly Stats'!G:G,MATCH($C12,'Weekly Stats'!$A:$A,0)),"") -> 0 | J12: =IFERROR(INDEX('Weekly Stats'!H:H,MATCH($C12,'Weekly Stats'!$A:$A,0)),"") -> 0 | K12: =IFERROR(INDEX('Weekly Stats'!I:I,MATCH($C12,'Weekly Stats'!$A:$A,0)),"") -> 0 | L12: =IFERROR(INDEX('Weekly Stats'!J:J,MATCH($C12,'Weekly Stats'!$A:$A,0)),"") -> 0 | M12: =IFERROR(INDEX('Weekly Stats'!K:K,MATCH($C12,'Weekly Stats'!$A:$A,0)),"") -> 0 | N12: =IFERROR(INDEX('Weekly Stats'!L:L,MATCH($C12,'Weekly Stats'!$A:$A,0)),"") -> 0 | O12: =IFERROR(INDEX('Weekly Stats'!M:M,MATCH($C12,'Weekly Stats'!$A:$A,0)),"") -> 0 | P12: =IFERROR(INDEX('Weekly Stats'!N:N,MATCH($C12,'Weekly Stats'!$A:$A,0)),"") -> 0 | Q12: =IFERROR(INDEX('Weekly Stats'!O:O,MATCH($C12,'Weekly Stats'!$A:$A,0)),"") -> 5 | R12: =IFERROR(INDEX('Weekly Stats'!P:P,MATCH($C12,'Weekly Stats'!$A:$A,0)),"") -> 0 | S12: =IFERROR(INDEX('Weekly Stats'!Q:Q,MATCH($C12,'Weekly Stats'!$A:$A,0)),"") -> 4 | T12: =IFERROR(INDEX('Weekly Stats'!R:R,MATCH($C12,'Weekly Stats'!$A:$A,0)),"") -> 1 | U12: =IFERROR(INDEX('Weekly Stats'!S:S,MATCH($C12,'Weekly Stats'!$A:$A,0)),"") -> 0 | V12: =IFERROR(INDEX('Weekly Stats'!T:T,MATCH($C12,'Weekly Stats'!$A:$A,0)),"") -> 2 | W12: =IFERROR((Q12*3)+V12,0) -> 17 | X12: =IFERROR(ROUND(D12/E12,3),"") | Y12: =IFERROR(ROUND(J12/I12,2),"") | Z12: =IFERROR(ROUND(M12/L12,2),"")
C13: Totals | D13: =SUM(D4:D12) -> 45 | E13: =SUM(E4:E12) -> 63 | F13: =SUM(F4:F12) -> 425 | G13: =SUM(G4:G12) -> 7 | H13: =SUM(H4:H12) -> 0 | I13: =SUM(I4:I12) -> 48 | J13: =SUM(J4:J12) -> 288 | K13: =SUM(K4:K12) -> 3 | ... W13: =SUM(W4:W12) -> 17 | X13: =IFERROR(ROUND(D13/E13,3),0) -> 0.714 | Y13: =IFERROR(ROUND(J13/I13,2),0) -> 6 | Z13: =IFERROR(ROUND(M13/L13,2),0) -> 8.14
C14: Team | D14: Sacks | E14: Fumble Rec. | F14: Interceptions | G14: Yards Allowed | H14: Pts. Scored | I14: Pts. Allowed
B15: A_DU1: | C15: {=IFERROR(INDEX(Lineups!D:D,MATCH(B$2&B15,Lineups!A:A&Lineups!B:B,0)),"")} -> Los Angeles Rams | D15: =IFERROR(INDEX('Weekly Stats'!C:C,MATCH($C15,'Weekly Stats'!$A:$A,0)),"") -> 1 | E15: =IFERROR(INDEX('Weekly Stats'!D:D,MATCH($C15,'Weekly Stats'!$A:$A,0)),"") -> 1 | F15: =IFERROR(INDEX('Weekly Stats'!E:E,MATCH($C15,'Weekly Stats'!$A:$A,0)),"") -> 1 | G15: =IFERROR(INDEX('Weekly Stats'!F:F,MATCH($C15,'Weekly Stats'!$A:$A,0)),"") -> 436 | H15: =IFERROR(INDEX('Weekly Stats'!K:K,MATCH($C15,'Weekly Stats'!$A:$A,0)),"") -> 0 | I15: =IFERROR(INDEX('Weekly Stats'!G:G,MATCH($C15,'Weekly Stats'!$A:$A,0)),"") -> 37
C16: Head Coach | D16: Pts. Differential
B17: Coach: | C17: {=IFERROR(INDEX(Lineups!D:D,MATCH(B$2&B17,Lineups!A:A&Lineups!B:B,0)),"")} -> Kyle Shanahan | D17: =IFERROR(INDEX('Weekly Stats'!AC:AC,MATCH(C17,'Weekly Stats'!AB:AB,0))-INDEX('Weekly Stats'!AD:AD,MATCH(C17,'Weekly Stats'!AB:AB,0)),"") -> 3
D19: Passing | H19: Rushing | K19: Receiving | O19: Other | Q19: Kicking | V19: Defense
C20: Total | D20: =SUM(D21:D22) -> 4 | E20: =SUM(E21:E22) -> 0 | F20: =SUM(F21:F22) -> 8 | G20: =SUM(G21:G22) -> 2 | H20: =SUM(H21:H22) -> 9 | I20: =SUM(I21:I22) -> 6 | J20: =SUM(J21:J22) -> 5 | K20: =SUM(K21:K22) -> 0 | ... AA20: =SUM(AA21:AA22) -> 0 | AB20: =SUM(D20:AA20) -> 37 | AC20: =IF(AB20=AB25,IF(D17>D42,AB20+3,AB20+0),0) -> 0 | AD20: =IF(AB20=AB25,IF(AC20=AC25,IF(G13+K13+N13>G38+K38+N38, AC20+3,AC20)),0) -> 0 | AE20: =IF(AB20=AB25,IF(AC20=AC25,IF(AD20=AD25,IF(F13+J13+M13>F38+J38+M38, AD20+3,AD20))),0) -> 0 | AF20: =IF(AB20=AB25,IF(AC20=AC25,IF(AD20=AD25,IF(AE20=AE25,AB20,AE20),AD20),AC20),IF(AB20<0,0,IF(AB25<0,AB20-AB25,AB20))) -> 37
C21: Bonus | D21: =IFERROR(IF(X13>=0.69,2,0),0) -> 2 | E21: =IF(F13>=575,2,0) -> 0 | F21: =IF(G13>=6,2,0) -> 2 | G21: X | H21: =IF(J13>=250,3,0) -> 3 | I21: =IF(K13>=4,2,0) -> 0 | J21: =IFERROR(IF(Y13>=4.5,2,0),0) -> 2 | K21: =IF(M13>=325,3,0) -> 0 | L21: =IF(N13>=4,2,0) -> 0 | M21: =IFERROR(IF(Z13>=12,2,0),0) -> 0 | N21: =IF(L13>=30,2,0) -> 0 | O21: X | P21: X | Q21: =IFERROR(IF(W13>=12,2,0),0) -> 2 | R21: X | S21: X | T21: =IF(T13>=2,1,0) -> 0 | U21: =IF(U13>=1,2,0) -> 0 | V21: =IF(I40<=14,-2,0) -> 0 | W21: =IF(G40<=275,-2,0) -> 0 | X21: =IF(B27="",0,IF(D40>=5,-1,0)) -> 0 | Y21: =IF(B27="",0,IF(E40>=3,-1,0)) -> 0 | Z21: =IF(B27="",0,IF(F40>=3,-1,0)) -> 0 | AA21: =IF(B27="",0,IF(H40>=8,-2,0)) -> 0 | AF21: =IF(AF20>AF25,"WIN!",IF(AF20=AF25,"Tie","Loss")) -> WIN!
C22: Head-to-Head | D22: =IFERROR(IF(X13>X38,2,0),0) -> 2 | E22: =IF(F13>F38,6,0) -> 0 | F22: =IF(G13>G38,6,0) -> 6 | G22: =IF(H13<H38,2,0) -> 2 | H22: =IF(J13>J38,6,0) -> 6 | I22: =IF(K13>K38,6,0) -> 6 | J22: =IFERROR(IF(Y13>Y38,3,0),0) -> 3 | K22: =IF(M13>M38,6,0) -> 0 | L22: =IF(N13>N38,6,0) -> 6 | M22: =IFERROR(IF(Z13>Z38,2,0),0) -> 0 | N22: =IF(L13>L38,2,0) -> 0 | O22: =IF(P13>P38,2,0) -> 0 | P22: =IF(O13<O38,3,0) -> 3 | Q22: =IFERROR(IF(W13>W38,3,0),0) -> 3 | R22: =IF(R13>R38,1,0) -> 0 | S22: =IF(S13>S38,2,0) -> 2 | T22: =IF((T13+U13)>(T38+U38),3,0) -> 0 | U22: X | V22: =IF(I15<=I40,0,-6) -> -6 | W22: =IF(G15<=G40,0,-3) -> -3 | X22: =IF(D15>=D40,0,-2) -> -2 | Y22: =IF(E15>=E40,0,-2) -> -2 | Z22: =IF(F15>=F40,0,-2) -> 0 | AA22: =IF(H15>=H40,0,-5) -> 0
C23: Head-to-Head | D23: =IFERROR(IF(X38>X13,2,0),0) -> 0 | E23: =IF(F38>F13,6,0) -> 6 | F23: =IF(G38>G13,6,0) -> 0 | G23: =IF(H38<H13,2,0) -> 0 | H23: =IF(J38>J13,6,0) -> 0 | I23: =IF(K38>K13,6,0) -> 0 | J23: =IFERROR(IF(Y38>Y13,3,0),0) -> 0 | K23: =IF(M38>M13,6,0) -> 6 | L23: =IF(N38>N13,6,0) -> 0 | M23: =IFERROR(IF(Z38>Z13,2,0),0) -> 2 | N23: =IF(L38>L13,2,0) -> 2 | O23: =IF(P38>P13,2,0) -> 0 | P23: =IF(O38<O13,3,0) -> 0 | Q23: =IFERROR(IF(W38>W13,3,0),0) -> 0 | R23: =IF(R38>R13,1,0) -> 1 | S23: =IF(S38>S13,2,0) -> 0 | T23: =IF((T38+U38)>(T13+U13),3,0) -> 0 | U23: X | V23: =IF(I40<=I15,0,-6) -> 0 | W23: =IF(G40<=G15,0,-3) -> 0 | X23: =IF(D40>=D15,0,-2) -> 0 | Y23: =IF(E40>=E15,0,-2) -> 0 | Z23: =IF(F40>=F15,0,-2) -> -2 | AA23: =IF(H40>=H15,0,-5) -> 0
C24: Bonus | D24: =IFERROR(IF(X38>=0.69,2,0),0) -> 0 | E24: =IF(F38>=575,2,0) -> 0 | F24: =IF(G38>=6,2,0) -> 0 | G24: X | H24: =IF(J38>=250,3,0) -> 0 | I24: =IF(K38>=4,2,0) -> 0 | J24: =IFERROR(IF(Y38>=4.5,2,0),0) -> 0 | K24: =IF(M38>=325,3,0) -> 0 | L24: =IF(N38>=4,2,0) -> 0 | M24: =IFERROR(IF(Z38>=12,2,0),0) -> 0 | N24: =IF(L38>=30,2,0) -> 0 | O24: X | P24: X | Q24: =IFERROR(IF(W38>=12,2,0),0) -> 2 | R24: X | S24: X | T24: =IF(T38>=2,1,0) -> 0 | U24: =IF(U38>=1,2,0) -> 0 | V24: =IF(I15<=14,-2,0) -> 0 | W24: =IF(G15<=275,-2,0) -> 0 | X24: =IF(B2="",0,IF(D15>=5,-1,0)) -> 0 | Y24: =IF(B2="",0,IF(E15>=3,-1,0)) -> 0 | Z24: =IF(B2="",0,IF(F15>=3,-1,0)) -> 0 | AA24: =IF(B2="",0,IF(H15>=8,-2,0)) -> 0 | AF24: =IF(AF25>AF20,"WIN!",IF(AF25=AF20,"Tie","Loss")) -> Loss
C25: Total | D25: =SUM(D23:D24) -> 0 | E25: =SUM(E23:E24) -> 6 | F25: =SUM(F23:F24) -> 0 | G25: =SUM(G23:G24) -> 0 | H25: =SUM(H23:H24) -> 0 | I25: =SUM(I23:I24) -> 0 | J25: =SUM(J23:J24) -> 0 | K25: =SUM(K23:K24) -> 6 | ... AA25: =SUM(AA23:AA24) -> 0 | AB25: =SUM(D25:AA25) -> 17 | AC25: =IF(AB25=AB20,IF(D42>D17,AB25+3,AB25+0),0) -> 0 | AD25: =IF(AB25=AB20,IF(AC25=AC20,IF(G38+K38+N38>G13+K13+N13,AC25+3,AC25)),0) -> 0 | AE25: =IF(AB25=AB20,IF(AC25=AC20,IF(AD25=AD20,IF(F38+J38+M38>F13+J13+M13,AD25+3,AD25))),0) -> 0 | AF25: =IF(AB25=AB20,IF(AC25=AC20,IF(AD25=AD20,IF(AE25=AE20,AB25,AE25),AD25),AC25),IF(AB25<0,0,IF(AB20<0,AB25-AB20,AB25))) -> 17
D26: Comp. % | E26: Yards | F26: TD's | G26: INT's | H26: Yards | I26: TD's | J26: Yards/Rush | K26: Yards | L26: TD's | M26: Yards/Rec. | N26: Receptions | O26: 2pt. Con. | P26: Fum Lost | Q26: Total Pts. | R26: ="10-39" -> 10-39 | S26: 40-49 | T26: 50+/50-59 | U26: 60+ | V26: Pts. Allowed | W26: Yards Allowed | X26: Sacks | Y26: Fumble Rec. | Z26: Interceptions | AA26: Pts. Scored | AB26: Raw Score | AC26: Tie-break 1 | AD26: Tie-break 2 | AE26: Tie-break 3 | AF26: Final Score
A27: =_xlfn.MAXIFS(Data!E:E,Data!C:C,Data!A2,Data!D:D,A2,Data!F:F,"A") -> 5 | B27: =IFERROR(INDEX(Data!I:I,MATCH(A27,Data!H:H,0)),"") -> Shmall Boto
C28: Player | D28: Completions | E28: Passes | F28: Yards | G28: TD's | H28: INT's | I28: Rushes | J28: Yards | K28: TD's | L28: Receptions | M28: Yards | N28: TD's | O28: Fum Lost | P28: 2Pt | Q28: FG's Made | R28: ="10-39" -> 10-39 | S28: 40-49 | T28: 50+ | U28: 60+ | V28: Extra pts. | W28: Total pts. | X28: Comp. % | Y28: Yards/Rush | Z28: Yards/Rec.
B29: A_QB1: | C29: {=IFERROR(INDEX(Lineups!D:D,MATCH(B$27&B29,Lineups!A:A&Lineups!B:B,0)),"")} -> Dak Prescott | D29: =IFERROR(INDEX('Weekly Stats'!B:B,MATCH($C29,'Weekly Stats'!$A:$A,0)),"") -> 24 | E29: =IFERROR(INDEX('Weekly Stats'!C:C,MATCH($C29,'Weekly Stats'!$A:$A,0)),"") -> 42 | F29: =IFERROR(INDEX('Weekly Stats'!D:D,MATCH($C29,'Weekly Stats'!$A:$A,0)),"") -> 316 | G29: =IFERROR(INDEX('Weekly Stats'!E:E,MATCH($C29,'Weekly Stats'!$A:$A,0)),"") -> 1 | H29: =IFERROR(INDEX('Weekly Stats'!F:F,MATCH($C29,'Weekly Stats'!$A:$A,0)),"") -> 2 | I29: =IFERROR(INDEX('Weekly Stats'!G:G,MATCH($C29,'Weekly Stats'!$A:$A,0)),"") -> 0 | J29: =IFERROR(INDEX('Weekly Stats'!H:H,MATCH($C29,'Weekly Stats'!$A:$A,0)),"") -> 0 | K29: =IFERROR(INDEX('Weekly Stats'!I:I,MATCH($C29,'Weekly Stats'!$A:$A,0)),"") -> 0 | L29: =IFERROR(INDEX('Weekly Stats'!J:J,MATCH($C29,'Weekly Stats'!$A:$A,0)),"") -> 0 | M29: =IFERROR(INDEX('Weekly Stats'!K:K,MATCH($C29,'Weekly Stats'!$A:$A,0)),"") -> 0 | N29: =IFERROR(INDEX('Weekly Stats'!L:L,MATCH($C29,'Weekly Stats'!$A:$A,0)),"") -> 0 | O29: =IFERROR(INDEX('Weekly Stats'!M:M,MATCH($C29,'Weekly Stats'!$A:$A,0)),"") -> 0 | P29: =IFERROR(INDEX('Weekly Stats'!N:N,MATCH($C29,'Weekly Stats'!$A:$A,0)),"") -> 0 | Q29: =IFERROR(INDEX('Weekly Stats'!O:O,MATCH($C29,'Weekly Stats'!$A:$A,0)),"") -> 0 | R29: =IFERROR(INDEX('Weekly Stats'!P:P,MATCH($C29,'Weekly Stats'!$A:$A,0)),"") -> 0 | S29: =IFERROR(INDEX('Weekly Stats'!Q:Q,MATCH($C29,'Weekly Stats'!$A:$A,0)),"") -> 0 | T29: =IFERROR(INDEX('Weekly Stats'!R:R,MATCH($C29,'Weekly Stats'!$A:$A,0)),"") -> 0 | U29: =IFERROR(INDEX('Weekly Stats'!S:S,MATCH($C29,'Weekly Stats'!$A:$A,0)),"") -> 0 | V29: =IFERROR(INDEX('Weekly Stats'!T:T,MATCH($C29,'Weekly Stats'!$A:$A,0)),"") -> 0 | W29: =IFERROR((Q29*3)+V29,0) -> 0 | X29: =IFERROR(ROUND(D29/E29,3),"") -> 0.571 | Y29: =IFERROR(ROUND(J29/I29,2),"") | Z29: =IFERROR(ROUND(M29/L29,2),"")
B30: A_QB2: | C30: {=IFERROR(INDEX(Lineups!D:D,MATCH(B$27&B30,Lineups!A:A&Lineups!B:B,0)),"")} -> Deshaun Watson | D30: =IFERROR(INDEX('Weekly Stats'!B:B,MATCH($C30,'Weekly Stats'!$A:$A,0)),"") -> 15 | E30: =IFERROR(INDEX('Weekly Stats'!C:C,MATCH($C30,'Weekly Stats'!$A:$A,0)),"") -> 33 | F30: =IFERROR(INDEX('Weekly Stats'!D:D,MATCH($C30,'Weekly Stats'!$A:$A,0)),"") -> 155 | G30: =IFERROR(INDEX('Weekly Stats'!E:E,MATCH($C30,'Weekly Stats'!$A:$A,0)),"") -> 1 | H30: =IFERROR(INDEX('Weekly Stats'!F:F,MATCH($C30,'Weekly Stats'!$A:$A,0)),"") -> 0 | I30: =IFERROR(INDEX('Weekly Stats'!G:G,MATCH($C30,'Weekly Stats'!$A:$A,0)),"") -> 6 | J30: =IFERROR(INDEX('Weekly Stats'!H:H,MATCH($C30,'Weekly Stats'!$A:$A,0)),"") -> 40 | K30: =IFERROR(INDEX('Weekly Stats'!I:I,MATCH($C30,'Weekly Stats'!$A:$A,0)),"") -> 0 | L30: =IFERROR(INDEX('Weekly Stats'!J:J,MATCH($C30,'Weekly Stats'!$A:$A,0)),"") -> 0 | M30: =IFERROR(INDEX('Weekly Stats'!K:K,MATCH($C30,'Weekly Stats'!$A:$A,0)),"") -> 0 | N30: =IFERROR(INDEX('Weekly Stats'!L:L,MATCH($C30,'Weekly Stats'!$A:$A,0)),"") -> 0 | O30: =IFERROR(INDEX('Weekly Stats'!M:M,MATCH($C30,'Weekly Stats'!$A:$A,0)),"") -> 1 | P30: =IFERROR(INDEX('Weekly Stats'!N:N,MATCH($C30,'Weekly Stats'!$A:$A,0)),"") -> 0 | Q30: =IFERROR(INDEX('Weekly Stats'!O:O,MATCH($C30,'Weekly Stats'!$A:$A,0)),"") -> 0 | R30: =IFERROR(INDEX('Weekly Stats'!P:P,MATCH($C30,'Weekly Stats'!$A:$A,0)),"") -> 0 | S30: =IFERROR(INDEX('Weekly Stats'!Q:Q,MATCH($C30,'Weekly Stats'!$A:$A,0)),"") -> 0 | T30: =IFERROR(INDEX('Weekly Stats'!R:R,MATCH($C30,'Weekly Stats'!$A:$A,0)),"") -> 0 | U30: =IFERROR(INDEX('Weekly Stats'!S:S,MATCH($C30,'Weekly Stats'!$A:$A,0)),"") -> 0 | V30: =IFERROR(INDEX('Weekly Stats'!T:T,MATCH($C30,'Weekly Stats'!$A:$A,0)),"") -> 0 | W30: =IFERROR((Q30*3)+V30,0) -> 0 | X30: =IFERROR(ROUND(D30/E30,3),"") -> 0.455 | Y30: =IFERROR(ROUND(J30/I30,2),"") -> 6.67 | Z30: =IFERROR(ROUND(M30/L30,2),"")
B31: A_RB1: | C31: {=IFERROR(INDEX(Lineups!D:D,MATCH(B$27&B31,Lineups!A:A&Lineups!B:B,0)),"")} -> Kyren Williams | D31: =IFERROR(INDEX('Weekly Stats'!B:B,MATCH($C31,'Weekly Stats'!$A:$A,0)),"") -> 0 | E31: =IFERROR(INDEX('Weekly Stats'!C:C,MATCH($C31,'Weekly Stats'!$A:$A,0)),"") -> 0 | F31: =IFERROR(INDEX('Weekly Stats'!D:D,MATCH($C31,'Weekly Stats'!$A:$A,0)),"") -> 0 | G31: =IFERROR(INDEX('Weekly Stats'!E:E,MATCH($C31,'Weekly Stats'!$A:$A,0)),"") -> 0 | H31: =IFERROR(INDEX('Weekly Stats'!F:F,MATCH($C31,'Weekly Stats'!$A:$A,0)),"") -> 0 | I31: =IFERROR(INDEX('Weekly Stats'!G:G,MATCH($C31,'Weekly Stats'!$A:$A,0)),"") -> 16 | J31: =IFERROR(INDEX('Weekly Stats'!H:H,MATCH($C31,'Weekly Stats'!$A:$A,0)),"") -> 49 | K31: =IFERROR(INDEX('Weekly Stats'!I:I,MATCH($C31,'Weekly Stats'!$A:$A,0)),"") -> 1 | L31: =IFERROR(INDEX('Weekly Stats'!J:J,MATCH($C31,'Weekly Stats'!$A:$A,0)),"") -> 6 | M31: =IFERROR(INDEX('Weekly Stats'!K:K,MATCH($C31,'Weekly Stats'!$A:$A,0)),"") -> 27 | N31: =IFERROR(INDEX('Weekly Stats'!L:L,MATCH($C31,'Weekly Stats'!$A:$A,0)),"") -> 0 | O31: =IFERROR(INDEX('Weekly Stats'!M:M,MATCH($C31,'Weekly Stats'!$A:$A,0)),"") -> 0 | P31: =IFERROR(INDEX('Weekly Stats'!N:N,MATCH($C31,'Weekly Stats'!$A:$A,0)),"") -> 0 | Q31: =IFERROR(INDEX('Weekly Stats'!O:O,MATCH($C31,'Weekly Stats'!$A:$A,0)),"") -> 0 | R31: =IFERROR(INDEX('Weekly Stats'!P:P,MATCH($C31,'Weekly Stats'!$A:$A,0)),"") -> 0 | S31: =IFERROR(INDEX('Weekly Stats'!Q:Q,MATCH($C31,'Weekly Stats'!$A:$A,0)),"") -> 0 | T31: =IFERROR(INDEX('Weekly Stats'!R:R,MATCH($C31,'Weekly Stats'!$A:$A,0)),"") -> 0 | U31: =IFERROR(INDEX('Weekly Stats'!S:S,MATCH($C31,'Weekly Stats'!$A:$A,0)),"") -> 0 | V31: =IFERROR(INDEX('Weekly Stats'!T:T,MATCH($C31,'Weekly Stats'!$A:$A,0)),"") -> 0 | W31: =IFERROR((Q31*3)+V31,0) -> 0 | X31: =IFERROR(ROUND(D31/E31,3),"") | Y31: =IFERROR(ROUND(J31/I31,2),"") -> 3.06 | Z31: =IFERROR(ROUND(M31/L31,2),"") -> 4.5
B32: A_RB2: | C32: {=IFERROR(INDEX(Lineups!D:D,MATCH(B$27&B32,Lineups!A:A&Lineups!B:B,0)),"")} -> Jeremiyah Love | D32: =IFERROR(INDEX('Weekly Stats'!B:B,MATCH($C32,'Weekly Stats'!$A:$A,0)),"") -> 0 | E32: =IFERROR(INDEX('Weekly Stats'!C:C,MATCH($C32,'Weekly Stats'!$A:$A,0)),"") -> 0 | F32: =IFERROR(INDEX('Weekly Stats'!D:D,MATCH($C32,'Weekly Stats'!$A:$A,0)),"") -> 0 | G32: =IFERROR(INDEX('Weekly Stats'!E:E,MATCH($C32,'Weekly Stats'!$A:$A,0)),"") -> 0 | H32: =IFERROR(INDEX('Weekly Stats'!F:F,MATCH($C32,'Weekly Stats'!$A:$A,0)),"") -> 0 | I32: =IFERROR(INDEX('Weekly Stats'!G:G,MATCH($C32,'Weekly Stats'!$A:$A,0)),"") -> 12 | J32: =IFERROR(INDEX('Weekly Stats'!H:H,MATCH($C32,'Weekly Stats'!$A:$A,0)),"") -> 22 | K32: =IFERROR(INDEX('Weekly Stats'!I:I,MATCH($C32,'Weekly Stats'!$A:$A,0)),"") -> 0 | L32: =IFERROR(INDEX('Weekly Stats'!J:J,MATCH($C32,'Weekly Stats'!$A:$A,0)),"") -> 0 | M32: =IFERROR(INDEX('Weekly Stats'!K:K,MATCH($C32,'Weekly Stats'!$A:$A,0)),"") -> 0 | N32: =IFERROR(INDEX('Weekly Stats'!L:L,MATCH($C32,'Weekly Stats'!$A:$A,0)),"") -> 0 | O32: =IFERROR(INDEX('Weekly Stats'!M:M,MATCH($C32,'Weekly Stats'!$A:$A,0)),"") -> 0 | P32: =IFERROR(INDEX('Weekly Stats'!N:N,MATCH($C32,'Weekly Stats'!$A:$A,0)),"") -> 0 | Q32: =IFERROR(INDEX('Weekly Stats'!O:O,MATCH($C32,'Weekly Stats'!$A:$A,0)),"") -> 0 | R32: =IFERROR(INDEX('Weekly Stats'!P:P,MATCH($C32,'Weekly Stats'!$A:$A,0)),"") -> 0 | S32: =IFERROR(INDEX('Weekly Stats'!Q:Q,MATCH($C32,'Weekly Stats'!$A:$A,0)),"") -> 0 | T32: =IFERROR(INDEX('Weekly Stats'!R:R,MATCH($C32,'Weekly Stats'!$A:$A,0)),"") -> 0 | U32: =IFERROR(INDEX('Weekly Stats'!S:S,MATCH($C32,'Weekly Stats'!$A:$A,0)),"") -> 0 | V32: =IFERROR(INDEX('Weekly Stats'!T:T,MATCH($C32,'Weekly Stats'!$A:$A,0)),"") -> 0 | W32: =IFERROR((Q32*3)+V32,0) -> 0 | X32: =IFERROR(ROUND(D32/E32,3),"") | Y32: =IFERROR(ROUND(J32/I32,2),"") -> 1.83 | Z32: =IFERROR(ROUND(M32/L32,2),"")
B33: A_RB3: | C33: {=IFERROR(INDEX(Lineups!D:D,MATCH(B$27&B33,Lineups!A:A&Lineups!B:B,0)),"")} -> Woody Marks | D33: =IFERROR(INDEX('Weekly Stats'!B:B,MATCH($C33,'Weekly Stats'!$A:$A,0)),"") -> 0 | E33: =IFERROR(INDEX('Weekly Stats'!C:C,MATCH($C33,'Weekly Stats'!$A:$A,0)),"") -> 0 | F33: =IFERROR(INDEX('Weekly Stats'!D:D,MATCH($C33,'Weekly Stats'!$A:$A,0)),"") -> 0 | G33: =IFERROR(INDEX('Weekly Stats'!E:E,MATCH($C33,'Weekly Stats'!$A:$A,0)),"") -> 0 | H33: =IFERROR(INDEX('Weekly Stats'!F:F,MATCH($C33,'Weekly Stats'!$A:$A,0)),"") -> 0 | I33: =IFERROR(INDEX('Weekly Stats'!G:G,MATCH($C33,'Weekly Stats'!$A:$A,0)),"") -> 15 | J33: =IFERROR(INDEX('Weekly Stats'!H:H,MATCH($C33,'Weekly Stats'!$A:$A,0)),"") -> 62 | K33: =IFERROR(INDEX('Weekly Stats'!I:I,MATCH($C33,'Weekly Stats'!$A:$A,0)),"") -> 0 | L33: =IFERROR(INDEX('Weekly Stats'!J:J,MATCH($C33,'Weekly Stats'!$A:$A,0)),"") -> 4 | M33: =IFERROR(INDEX('Weekly Stats'!K:K,MATCH($C33,'Weekly Stats'!$A:$A,0)),"") -> 23 | N33: =IFERROR(INDEX('Weekly Stats'!L:L,MATCH($C33,'Weekly Stats'!$A:$A,0)),"") -> 0 | O33: =IFERROR(INDEX('Weekly Stats'!M:M,MATCH($C33,'Weekly Stats'!$A:$A,0)),"") -> 0 | P33: =IFERROR(INDEX('Weekly Stats'!N:N,MATCH($C33,'Weekly Stats'!$A:$A,0)),"") -> 0 | Q33: =IFERROR(INDEX('Weekly Stats'!O:O,MATCH($C33,'Weekly Stats'!$A:$A,0)),"") -> 0 | R33: =IFERROR(INDEX('Weekly Stats'!P:P,MATCH($C33,'Weekly Stats'!$A:$A,0)),"") -> 0 | S33: =IFERROR(INDEX('Weekly Stats'!Q:Q,MATCH($C33,'Weekly Stats'!$A:$A,0)),"") -> 0 | T33: =IFERROR(INDEX('Weekly Stats'!R:R,MATCH($C33,'Weekly Stats'!$A:$A,0)),"") -> 0 | U33: =IFERROR(INDEX('Weekly Stats'!S:S,MATCH($C33,'Weekly Stats'!$A:$A,0)),"") -> 0 | V33: =IFERROR(INDEX('Weekly Stats'!T:T,MATCH($C33,'Weekly Stats'!$A:$A,0)),"") -> 0 | W33: =IFERROR((Q33*3)+V33,0) -> 0 | X33: =IFERROR(ROUND(D33/E33,3),"") | Y33: =IFERROR(ROUND(J33/I33,2),"") -> 4.13 | Z33: =IFERROR(ROUND(M33/L33,2),"") -> 5.75
B34: A_RC1: | C34: {=IFERROR(INDEX(Lineups!D:D,MATCH(B$27&B34,Lineups!A:A&Lineups!B:B,0)),"")} -> Ja'Marr Chase | D34: =IFERROR(INDEX('Weekly Stats'!B:B,MATCH($C34,'Weekly Stats'!$A:$A,0)),"") -> 0 | E34: =IFERROR(INDEX('Weekly Stats'!C:C,MATCH($C34,'Weekly Stats'!$A:$A,0)),"") -> 0 | F34: =IFERROR(INDEX('Weekly Stats'!D:D,MATCH($C34,'Weekly Stats'!$A:$A,0)),"") -> 0 | G34: =IFERROR(INDEX('Weekly Stats'!E:E,MATCH($C34,'Weekly Stats'!$A:$A,0)),"") -> 0 | H34: =IFERROR(INDEX('Weekly Stats'!F:F,MATCH($C34,'Weekly Stats'!$A:$A,0)),"") -> 0 | I34: =IFERROR(INDEX('Weekly Stats'!G:G,MATCH($C34,'Weekly Stats'!$A:$A,0)),"") -> 0 | J34: =IFERROR(INDEX('Weekly Stats'!H:H,MATCH($C34,'Weekly Stats'!$A:$A,0)),"") -> 0 | K34: =IFERROR(INDEX('Weekly Stats'!I:I,MATCH($C34,'Weekly Stats'!$A:$A,0)),"") -> 0 | L34: =IFERROR(INDEX('Weekly Stats'!J:J,MATCH($C34,'Weekly Stats'!$A:$A,0)),"") -> 6 | M34: =IFERROR(INDEX('Weekly Stats'!K:K,MATCH($C34,'Weekly Stats'!$A:$A,0)),"") -> 77 | N34: =IFERROR(INDEX('Weekly Stats'!L:L,MATCH($C34,'Weekly Stats'!$A:$A,0)),"") -> 1 | O34: =IFERROR(INDEX('Weekly Stats'!M:M,MATCH($C34,'Weekly Stats'!$A:$A,0)),"") -> 0 | P34: =IFERROR(INDEX('Weekly Stats'!N:N,MATCH($C34,'Weekly Stats'!$A:$A,0)),"") -> 0 | Q34: =IFERROR(INDEX('Weekly Stats'!O:O,MATCH($C34,'Weekly Stats'!$A:$A,0)),"") -> 0 | R34: =IFERROR(INDEX('Weekly Stats'!P:P,MATCH($C34,'Weekly Stats'!$A:$A,0)),"") -> 0 | S34: =IFERROR(INDEX('Weekly Stats'!Q:Q,MATCH($C34,'Weekly Stats'!$A:$A,0)),"") -> 0 | T34: =IFERROR(INDEX('Weekly Stats'!R:R,MATCH($C34,'Weekly Stats'!$A:$A,0)),"") -> 0 | U34: =IFERROR(INDEX('Weekly Stats'!S:S,MATCH($C34,'Weekly Stats'!$A:$A,0)),"") -> 0 | V34: =IFERROR(INDEX('Weekly Stats'!T:T,MATCH($C34,'Weekly Stats'!$A:$A,0)),"") -> 0 | W34: =IFERROR((Q34*3)+V34,0) -> 0 | X34: =IFERROR(ROUND(D34/E34,3),"") | Y34: =IFERROR(ROUND(J34/I34,2),"") | Z34: =IFERROR(ROUND(M34/L34,2),"") -> 12.83
B35: A_RC2: | C35: {=IFERROR(INDEX(Lineups!D:D,MATCH(B$27&B35,Lineups!A:A&Lineups!B:B,0)),"")} -> Tyler Warren | D35: =IFERROR(INDEX('Weekly Stats'!B:B,MATCH($C35,'Weekly Stats'!$A:$A,0)),"") -> 0 | E35: =IFERROR(INDEX('Weekly Stats'!C:C,MATCH($C35,'Weekly Stats'!$A:$A,0)),"") -> 0 | F35: =IFERROR(INDEX('Weekly Stats'!D:D,MATCH($C35,'Weekly Stats'!$A:$A,0)),"") -> 0 | G35: =IFERROR(INDEX('Weekly Stats'!E:E,MATCH($C35,'Weekly Stats'!$A:$A,0)),"") -> 0 | H35: =IFERROR(INDEX('Weekly Stats'!F:F,MATCH($C35,'Weekly Stats'!$A:$A,0)),"") -> 0 | I35: =IFERROR(INDEX('Weekly Stats'!G:G,MATCH($C35,'Weekly Stats'!$A:$A,0)),"") -> 1 | J35: =IFERROR(INDEX('Weekly Stats'!H:H,MATCH($C35,'Weekly Stats'!$A:$A,0)),"") -> 1 | K35: =IFERROR(INDEX('Weekly Stats'!I:I,MATCH($C35,'Weekly Stats'!$A:$A,0)),"") -> 1 | L35: =IFERROR(INDEX('Weekly Stats'!J:J,MATCH($C35,'Weekly Stats'!$A:$A,0)),"") -> 7 | M35: =IFERROR(INDEX('Weekly Stats'!K:K,MATCH($C35,'Weekly Stats'!$A:$A,0)),"") -> 83 | N35: =IFERROR(INDEX('Weekly Stats'!L:L,MATCH($C35,'Weekly Stats'!$A:$A,0)),"") -> 0 | O35: =IFERROR(INDEX('Weekly Stats'!M:M,MATCH($C35,'Weekly Stats'!$A:$A,0)),"") -> 0 | P35: =IFERROR(INDEX('Weekly Stats'!N:N,MATCH($C35,'Weekly Stats'!$A:$A,0)),"") -> 0 | Q35: =IFERROR(INDEX('Weekly Stats'!O:O,MATCH($C35,'Weekly Stats'!$A:$A,0)),"") -> 0 | R35: =IFERROR(INDEX('Weekly Stats'!P:P,MATCH($C35,'Weekly Stats'!$A:$A,0)),"") -> 0 | S35: =IFERROR(INDEX('Weekly Stats'!Q:Q,MATCH($C35,'Weekly Stats'!$A:$A,0)),"") -> 0 | T35: =IFERROR(INDEX('Weekly Stats'!R:R,MATCH($C35,'Weekly Stats'!$A:$A,0)),"") -> 0 | U35: =IFERROR(INDEX('Weekly Stats'!S:S,MATCH($C35,'Weekly Stats'!$A:$A,0)),"") -> 0 | V35: =IFERROR(INDEX('Weekly Stats'!T:T,MATCH($C35,'Weekly Stats'!$A:$A,0)),"") -> 0 | W35: =IFERROR((Q35*3)+V35,0) -> 0 | X35: =IFERROR(ROUND(D35/E35,3),"") | Y35: =IFERROR(ROUND(J35/I35,2),"") -> 1 | Z35: =IFERROR(ROUND(M35/L35,2),"") -> 11.86
B36: A_RC3: | C36: {=IFERROR(INDEX(Lineups!D:D,MATCH(B$27&B36,Lineups!A:A&Lineups!B:B,0)),"")} -> T.J. Hockenson | D36: =IFERROR(INDEX('Weekly Stats'!B:B,MATCH($C36,'Weekly Stats'!$A:$A,0)),"") -> 0 | E36: =IFERROR(INDEX('Weekly Stats'!C:C,MATCH($C36,'Weekly Stats'!$A:$A,0)),"") -> 0 | F36: =IFERROR(INDEX('Weekly Stats'!D:D,MATCH($C36,'Weekly Stats'!$A:$A,0)),"") -> 0 | G36: =IFERROR(INDEX('Weekly Stats'!E:E,MATCH($C36,'Weekly Stats'!$A:$A,0)),"") -> 0 | H36: =IFERROR(INDEX('Weekly Stats'!F:F,MATCH($C36,'Weekly Stats'!$A:$A,0)),"") -> 0 | I36: =IFERROR(INDEX('Weekly Stats'!G:G,MATCH($C36,'Weekly Stats'!$A:$A,0)),"") -> 0 | J36: =IFERROR(INDEX('Weekly Stats'!H:H,MATCH($C36,'Weekly Stats'!$A:$A,0)),"") -> 0 | K36: =IFERROR(INDEX('Weekly Stats'!I:I,MATCH($C36,'Weekly Stats'!$A:$A,0)),"") -> 0 | L36: =IFERROR(INDEX('Weekly Stats'!J:J,MATCH($C36,'Weekly Stats'!$A:$A,0)),"") -> 1 | M36: =IFERROR(INDEX('Weekly Stats'!K:K,MATCH($C36,'Weekly Stats'!$A:$A,0)),"") -> 7 | N36: =IFERROR(INDEX('Weekly Stats'!L:L,MATCH($C36,'Weekly Stats'!$A:$A,0)),"") -> 0 | O36: =IFERROR(INDEX('Weekly Stats'!M:M,MATCH($C36,'Weekly Stats'!$A:$A,0)),"") -> 0 | P36: =IFERROR(INDEX('Weekly Stats'!N:N,MATCH($C36,'Weekly Stats'!$A:$A,0)),"") -> 0 | Q36: =IFERROR(INDEX('Weekly Stats'!O:O,MATCH($C36,'Weekly Stats'!$A:$A,0)),"") -> 0 | R36: =IFERROR(INDEX('Weekly Stats'!P:P,MATCH($C36,'Weekly Stats'!$A:$A,0)),"") -> 0 | S36: =IFERROR(INDEX('Weekly Stats'!Q:Q,MATCH($C36,'Weekly Stats'!$A:$A,0)),"") -> 0 | T36: =IFERROR(INDEX('Weekly Stats'!R:R,MATCH($C36,'Weekly Stats'!$A:$A,0)),"") -> 0 | U36: =IFERROR(INDEX('Weekly Stats'!S:S,MATCH($C36,'Weekly Stats'!$A:$A,0)),"") -> 0 | V36: =IFERROR(INDEX('Weekly Stats'!T:T,MATCH($C36,'Weekly Stats'!$A:$A,0)),"") -> 0 | W36: =IFERROR((Q36*3)+V36,0) -> 0 | X36: =IFERROR(ROUND(D36/E36,3),"") | Y36: =IFERROR(ROUND(J36/I36,2),"") | Z36: =IFERROR(ROUND(M36/L36,2),"") -> 7
B37: A_PK1: | C37: {=IFERROR(INDEX(Lineups!D:D,MATCH(B$27&B37,Lineups!A:A&Lineups!B:B,0)),"")} -> Ka'imi Fairbairn | D37: =IFERROR(INDEX('Weekly Stats'!B:B,MATCH($C37,'Weekly Stats'!$A:$A,0)),"") -> 0 | E37: =IFERROR(INDEX('Weekly Stats'!C:C,MATCH($C37,'Weekly Stats'!$A:$A,0)),"") -> 0 | F37: =IFERROR(INDEX('Weekly Stats'!D:D,MATCH($C37,'Weekly Stats'!$A:$A,0)),"") -> 0 | G37: =IFERROR(INDEX('Weekly Stats'!E:E,MATCH($C37,'Weekly Stats'!$A:$A,0)),"") -> 0 | H37: =IFERROR(INDEX('Weekly Stats'!F:F,MATCH($C37,'Weekly Stats'!$A:$A,0)),"") -> 0 | I37: =IFERROR(INDEX('Weekly Stats'!G:G,MATCH($C37,'Weekly Stats'!$A:$A,0)),"") -> 0 | J37: =IFERROR(INDEX('Weekly Stats'!H:H,MATCH($C37,'Weekly Stats'!$A:$A,0)),"") -> 0 | K37: =IFERROR(INDEX('Weekly Stats'!I:I,MATCH($C37,'Weekly Stats'!$A:$A,0)),"") -> 0 | L37: =IFERROR(INDEX('Weekly Stats'!J:J,MATCH($C37,'Weekly Stats'!$A:$A,0)),"") -> 0 | M37: =IFERROR(INDEX('Weekly Stats'!K:K,MATCH($C37,'Weekly Stats'!$A:$A,0)),"") -> 0 | N37: =IFERROR(INDEX('Weekly Stats'!L:L,MATCH($C37,'Weekly Stats'!$A:$A,0)),"") -> 0 | O37: =IFERROR(INDEX('Weekly Stats'!M:M,MATCH($C37,'Weekly Stats'!$A:$A,0)),"") -> 0 | P37: =IFERROR(INDEX('Weekly Stats'!N:N,MATCH($C37,'Weekly Stats'!$A:$A,0)),"") -> 0 | Q37: =IFERROR(INDEX('Weekly Stats'!O:O,MATCH($C37,'Weekly Stats'!$A:$A,0)),"") -> 4 | R37: =IFERROR(INDEX('Weekly Stats'!P:P,MATCH($C37,'Weekly Stats'!$A:$A,0)),"") -> 2 | S37: =IFERROR(INDEX('Weekly Stats'!Q:Q,MATCH($C37,'Weekly Stats'!$A:$A,0)),"") -> 1 | T37: =IFERROR(INDEX('Weekly Stats'!R:R,MATCH($C37,'Weekly Stats'!$A:$A,0)),"") -> 1 | U37: =IFERROR(INDEX('Weekly Stats'!S:S,MATCH($C37,'Weekly Stats'!$A:$A,0)),"") -> 0 | V37: =IFERROR(INDEX('Weekly Stats'!T:T,MATCH($C37,'Weekly Stats'!$A:$A,0)),"") -> 2 | W37: =IFERROR((Q37*3)+V37,0) -> 14 | X37: =IFERROR(ROUND(D37/E37,3),"") | Y37: =IFERROR(ROUND(J37/I37,2),"") | Z37: =IFERROR(ROUND(M37/L37,2),"")
C38: Totals | D38: =SUM(D29:D37) -> 39 | E38: =SUM(E29:E37) -> 75 | F38: =SUM(F29:F37) -> 471 | G38: =SUM(G29:G37) -> 2 | H38: =SUM(H29:H37) -> 2 | I38: =SUM(I29:I37) -> 50 | J38: =SUM(J29:J37) -> 174 | K38: =SUM(K29:K37) -> 2 | ... W38: =SUM(W29:W37) -> 14 | X38: =IFERROR(ROUND(D38/E38,3),0) -> 0.52 | Y38: =IFERROR(ROUND(J38/I38,2),0) -> 3.48 | Z38: =IFERROR(ROUND(M38/L38,2),0) -> 9.04
C39: Team | D39: Sacks | E39: Fumble Rec. | F39: Interceptions | G39: Yards Allowed | H39: Pts. Scored | I39: Pts. Allowed
B40: A_DU1: | C40: {=IFERROR(INDEX(Lineups!D:D,MATCH(B$27&B40,Lineups!A:A&Lineups!B:B,0)),"")} -> Cleveland Browns | D40: =IFERROR(INDEX('Weekly Stats'!C:C,MATCH($C40,'Weekly Stats'!$A:$A,0)),"") -> 4 | E40: =IFERROR(INDEX('Weekly Stats'!D:D,MATCH($C40,'Weekly Stats'!$A:$A,0)),"") -> 2 | F40: =IFERROR(INDEX('Weekly Stats'!E:E,MATCH($C40,'Weekly Stats'!$A:$A,0)),"") -> 0 | G40: =IFERROR(INDEX('Weekly Stats'!F:F,MATCH($C40,'Weekly Stats'!$A:$A,0)),"") -> 276 | H40: =IFERROR(INDEX('Weekly Stats'!K:K,MATCH($C40,'Weekly Stats'!$A:$A,0)),"") -> 0 | I40: =IFERROR(INDEX('Weekly Stats'!G:G,MATCH($C40,'Weekly Stats'!$A:$A,0)),"") -> 17
C41: Head Coach | D41: Pts. Differential
B42: Coach: | C42: {=IFERROR(INDEX(Lineups!D:D,MATCH(B$27&B42,Lineups!A:A&Lineups!B:B,0)),"")} -> Aaron Glenn | D42: =IFERROR(INDEX('Weekly Stats'!AC:AC,MATCH(C42,'Weekly Stats'!AB:AB,0))-INDEX('Weekly Stats'!AD:AD,MATCH(C42,'Weekly Stats'!AB:AB,0)),"") -> 5
A46: =IF(COUNTIFS(Data!C:C,Data!A2,Data!D:D,A2)>1,A2,"") -> 2 | B46: =IFERROR(INDEX(Data!I:I,MATCH(A46,Data!H:H,0)),"") -> Rough Rodgers Goes Riding
C47: Player | D47: Completions | E47: Passes | F47: Yards | G47: TD's | H47: INT's | I47: Rushes | J47: Yards | K47: TD's | L47: Receptions | M47: Yards | N47: TD's | O47: Fum Lost | P47: 2Pt | Q47: FG's Made | R47: ="10-39" -> 10-39 | S47: 40-49 | T47: 50+ | U47: 60+ | V47: Extra pts. | W47: Total pts. | X47: Comp. % | Y47: Yards/Rush | Z47: Yards/Rec.
B48: B_QB1: | C48: {=IFERROR(INDEX(Lineups!D:D,MATCH(B$46&B48,Lineups!A:A&Lineups!B:B,0)),"")} -> Aaron Rodgers | D48: =IFERROR(INDEX('Weekly Stats'!B:B,MATCH($C48,'Weekly Stats'!$A:$A,0)),"") -> 22 | E48: =IFERROR(INDEX('Weekly Stats'!C:C,MATCH($C48,'Weekly Stats'!$A:$A,0)),"") -> 31 | F48: =IFERROR(INDEX('Weekly Stats'!D:D,MATCH($C48,'Weekly Stats'!$A:$A,0)),"") -> 235 | G48: =IFERROR(INDEX('Weekly Stats'!E:E,MATCH($C48,'Weekly Stats'!$A:$A,0)),"") -> 3 | H48: =IFERROR(INDEX('Weekly Stats'!F:F,MATCH($C48,'Weekly Stats'!$A:$A,0)),"") -> 0 | I48: =IFERROR(INDEX('Weekly Stats'!G:G,MATCH($C48,'Weekly Stats'!$A:$A,0)),"") -> 1 | J48: =IFERROR(INDEX('Weekly Stats'!H:H,MATCH($C48,'Weekly Stats'!$A:$A,0)),"") -> 6 | K48: =IFERROR(INDEX('Weekly Stats'!I:I,MATCH($C48,'Weekly Stats'!$A:$A,0)),"") -> 0 | L48: =IFERROR(INDEX('Weekly Stats'!J:J,MATCH($C48,'Weekly Stats'!$A:$A,0)),"") -> 0 | M48: =IFERROR(INDEX('Weekly Stats'!K:K,MATCH($C48,'Weekly Stats'!$A:$A,0)),"") -> 0 | N48: =IFERROR(INDEX('Weekly Stats'!L:L,MATCH($C48,'Weekly Stats'!$A:$A,0)),"") -> 0 | O48: =IFERROR(INDEX('Weekly Stats'!M:M,MATCH($C48,'Weekly Stats'!$A:$A,0)),"") -> 0 | P48: =IFERROR(INDEX('Weekly Stats'!N:N,MATCH($C48,'Weekly Stats'!$A:$A,0)),"") -> 0 | Q48: =IFERROR(INDEX('Weekly Stats'!O:O,MATCH($C48,'Weekly Stats'!$A:$A,0)),"") -> 0 | R48: =IFERROR(INDEX('Weekly Stats'!P:P,MATCH($C48,'Weekly Stats'!$A:$A,0)),"") -> 0 | S48: =IFERROR(INDEX('Weekly Stats'!Q:Q,MATCH($C48,'Weekly Stats'!$A:$A,0)),"") -> 0 | T48: =IFERROR(INDEX('Weekly Stats'!R:R,MATCH($C48,'Weekly Stats'!$A:$A,0)),"") -> 0 | U48: =IFERROR(INDEX('Weekly Stats'!S:S,MATCH($C48,'Weekly Stats'!$A:$A,0)),"") -> 0 | V48: =IFERROR(INDEX('Weekly Stats'!T:T,MATCH($C48,'Weekly Stats'!$A:$A,0)),"") -> 0 | W48: =IFERROR((Q48*3)+V48,0) -> 0 | X48: =IFERROR(ROUND(D48/E48,3),"") -> 0.71 | Y48: =IFERROR(ROUND(J48/I48,2),"") -> 6 | Z48: =IFERROR(ROUND(M48/L48,2),"")
B49: B_QB2: | C49: {=IFERROR(INDEX(Lineups!D:D,MATCH(B$46&B49,Lineups!A:A&Lineups!B:B,0)),"")} -> Joe Burrow | D49: =IFERROR(INDEX('Weekly Stats'!B:B,MATCH($C49,'Weekly Stats'!$A:$A,0)),"") -> 23 | E49: =IFERROR(INDEX('Weekly Stats'!C:C,MATCH($C49,'Weekly Stats'!$A:$A,0)),"") -> 32 | F49: =IFERROR(INDEX('Weekly Stats'!D:D,MATCH($C49,'Weekly Stats'!$A:$A,0)),"") -> 190 | G49: =IFERROR(INDEX('Weekly Stats'!E:E,MATCH($C49,'Weekly Stats'!$A:$A,0)),"") -> 4 | H49: =IFERROR(INDEX('Weekly Stats'!F:F,MATCH($C49,'Weekly Stats'!$A:$A,0)),"") -> 0 | I49: =IFERROR(INDEX('Weekly Stats'!G:G,MATCH($C49,'Weekly Stats'!$A:$A,0)),"") -> 4 | J49: =IFERROR(INDEX('Weekly Stats'!H:H,MATCH($C49,'Weekly Stats'!$A:$A,0)),"") -> 10 | K49: =IFERROR(INDEX('Weekly Stats'!I:I,MATCH($C49,'Weekly Stats'!$A:$A,0)),"") -> 0 | L49: =IFERROR(INDEX('Weekly Stats'!J:J,MATCH($C49,'Weekly Stats'!$A:$A,0)),"") -> 0 | M49: =IFERROR(INDEX('Weekly Stats'!K:K,MATCH($C49,'Weekly Stats'!$A:$A,0)),"") -> 0 | N49: =IFERROR(INDEX('Weekly Stats'!L:L,MATCH($C49,'Weekly Stats'!$A:$A,0)),"") -> 0 | O49: =IFERROR(INDEX('Weekly Stats'!M:M,MATCH($C49,'Weekly Stats'!$A:$A,0)),"") -> 0 | P49: =IFERROR(INDEX('Weekly Stats'!N:N,MATCH($C49,'Weekly Stats'!$A:$A,0)),"") -> 0 | Q49: =IFERROR(INDEX('Weekly Stats'!O:O,MATCH($C49,'Weekly Stats'!$A:$A,0)),"") -> 0 | R49: =IFERROR(INDEX('Weekly Stats'!P:P,MATCH($C49,'Weekly Stats'!$A:$A,0)),"") -> 0 | S49: =IFERROR(INDEX('Weekly Stats'!Q:Q,MATCH($C49,'Weekly Stats'!$A:$A,0)),"") -> 0 | T49: =IFERROR(INDEX('Weekly Stats'!R:R,MATCH($C49,'Weekly Stats'!$A:$A,0)),"") -> 0 | U49: =IFERROR(INDEX('Weekly Stats'!S:S,MATCH($C49,'Weekly Stats'!$A:$A,0)),"") -> 0 | V49: =IFERROR(INDEX('Weekly Stats'!T:T,MATCH($C49,'Weekly Stats'!$A:$A,0)),"") -> 0 | W49: =IFERROR((Q49*3)+V49,0) -> 0 | X49: =IFERROR(ROUND(D49/E49,3),"") -> 0.719 | Y49: =IFERROR(ROUND(J49/I49,2),"") -> 2.5 | Z49: =IFERROR(ROUND(M49/L49,2),"")
B50: B_RB1: | C50: {=IFERROR(INDEX(Lineups!D:D,MATCH(B$46&B50,Lineups!A:A&Lineups!B:B,0)),"")} -> Christian McCaffrey | D50: =IFERROR(INDEX('Weekly Stats'!B:B,MATCH($C50,'Weekly Stats'!$A:$A,0)),"") -> 0 | E50: =IFERROR(INDEX('Weekly Stats'!C:C,MATCH($C50,'Weekly Stats'!$A:$A,0)),"") -> 0 | F50: =IFERROR(INDEX('Weekly Stats'!D:D,MATCH($C50,'Weekly Stats'!$A:$A,0)),"") -> 0 | G50: =IFERROR(INDEX('Weekly Stats'!E:E,MATCH($C50,'Weekly Stats'!$A:$A,0)),"") -> 0 | H50: =IFERROR(INDEX('Weekly Stats'!F:F,MATCH($C50,'Weekly Stats'!$A:$A,0)),"") -> 0 | I50: =IFERROR(INDEX('Weekly Stats'!G:G,MATCH($C50,'Weekly Stats'!$A:$A,0)),"") -> 11 | J50: =IFERROR(INDEX('Weekly Stats'!H:H,MATCH($C50,'Weekly Stats'!$A:$A,0)),"") -> 68 | K50: =IFERROR(INDEX('Weekly Stats'!I:I,MATCH($C50,'Weekly Stats'!$A:$A,0)),"") -> 1 | L50: =IFERROR(INDEX('Weekly Stats'!J:J,MATCH($C50,'Weekly Stats'!$A:$A,0)),"") -> 3 | M50: =IFERROR(INDEX('Weekly Stats'!K:K,MATCH($C50,'Weekly Stats'!$A:$A,0)),"") -> 15 | N50: =IFERROR(INDEX('Weekly Stats'!L:L,MATCH($C50,'Weekly Stats'!$A:$A,0)),"") -> 0 | O50: =IFERROR(INDEX('Weekly Stats'!M:M,MATCH($C50,'Weekly Stats'!$A:$A,0)),"") -> 0 | P50: =IFERROR(INDEX('Weekly Stats'!N:N,MATCH($C50,'Weekly Stats'!$A:$A,0)),"") -> 0 | Q50: =IFERROR(INDEX('Weekly Stats'!O:O,MATCH($C50,'Weekly Stats'!$A:$A,0)),"") -> 0 | R50: =IFERROR(INDEX('Weekly Stats'!P:P,MATCH($C50,'Weekly Stats'!$A:$A,0)),"") -> 0 | S50: =IFERROR(INDEX('Weekly Stats'!Q:Q,MATCH($C50,'Weekly Stats'!$A:$A,0)),"") -> 0 | T50: =IFERROR(INDEX('Weekly Stats'!R:R,MATCH($C50,'Weekly Stats'!$A:$A,0)),"") -> 0 | U50: =IFERROR(INDEX('Weekly Stats'!S:S,MATCH($C50,'Weekly Stats'!$A:$A,0)),"") -> 0 | V50: =IFERROR(INDEX('Weekly Stats'!T:T,MATCH($C50,'Weekly Stats'!$A:$A,0)),"") -> 0 | W50: =IFERROR((Q50*3)+V50,0) -> 0 | X50: =IFERROR(ROUND(D50/E50,3),"") | Y50: =IFERROR(ROUND(J50/I50,2),"") -> 6.18 | Z50: =IFERROR(ROUND(M50/L50,2),"") -> 5
B51: B_RB2: | C51: {=IFERROR(INDEX(Lineups!D:D,MATCH(B$46&B51,Lineups!A:A&Lineups!B:B,0)),"")} -> Bucky Irving | D51: =IFERROR(INDEX('Weekly Stats'!B:B,MATCH($C51,'Weekly Stats'!$A:$A,0)),"") -> 0 | E51: =IFERROR(INDEX('Weekly Stats'!C:C,MATCH($C51,'Weekly Stats'!$A:$A,0)),"") -> 0 | F51: =IFERROR(INDEX('Weekly Stats'!D:D,MATCH($C51,'Weekly Stats'!$A:$A,0)),"") -> 0 | G51: =IFERROR(INDEX('Weekly Stats'!E:E,MATCH($C51,'Weekly Stats'!$A:$A,0)),"") -> 0 | H51: =IFERROR(INDEX('Weekly Stats'!F:F,MATCH($C51,'Weekly Stats'!$A:$A,0)),"") -> 0 | I51: =IFERROR(INDEX('Weekly Stats'!G:G,MATCH($C51,'Weekly Stats'!$A:$A,0)),"") -> 21 | J51: =IFERROR(INDEX('Weekly Stats'!H:H,MATCH($C51,'Weekly Stats'!$A:$A,0)),"") -> 165 | K51: =IFERROR(INDEX('Weekly Stats'!I:I,MATCH($C51,'Weekly Stats'!$A:$A,0)),"") -> 1 | L51: =IFERROR(INDEX('Weekly Stats'!J:J,MATCH($C51,'Weekly Stats'!$A:$A,0)),"") -> 2 | M51: =IFERROR(INDEX('Weekly Stats'!K:K,MATCH($C51,'Weekly Stats'!$A:$A,0)),"") -> 10 | N51: =IFERROR(INDEX('Weekly Stats'!L:L,MATCH($C51,'Weekly Stats'!$A:$A,0)),"") -> 1 | O51: =IFERROR(INDEX('Weekly Stats'!M:M,MATCH($C51,'Weekly Stats'!$A:$A,0)),"") -> 0 | P51: =IFERROR(INDEX('Weekly Stats'!N:N,MATCH($C51,'Weekly Stats'!$A:$A,0)),"") -> 0 | Q51: =IFERROR(INDEX('Weekly Stats'!O:O,MATCH($C51,'Weekly Stats'!$A:$A,0)),"") -> 0 | R51: =IFERROR(INDEX('Weekly Stats'!P:P,MATCH($C51,'Weekly Stats'!$A:$A,0)),"") -> 0 | S51: =IFERROR(INDEX('Weekly Stats'!Q:Q,MATCH($C51,'Weekly Stats'!$A:$A,0)),"") -> 0 | T51: =IFERROR(INDEX('Weekly Stats'!R:R,MATCH($C51,'Weekly Stats'!$A:$A,0)),"") -> 0 | U51: =IFERROR(INDEX('Weekly Stats'!S:S,MATCH($C51,'Weekly Stats'!$A:$A,0)),"") -> 0 | V51: =IFERROR(INDEX('Weekly Stats'!T:T,MATCH($C51,'Weekly Stats'!$A:$A,0)),"") -> 0 | W51: =IFERROR((Q51*3)+V51,0) -> 0 | X51: =IFERROR(ROUND(D51/E51,3),"") | Y51: =IFERROR(ROUND(J51/I51,2),"") -> 7.86 | Z51: =IFERROR(ROUND(M51/L51,2),"") -> 5
B52: B_RB3: | C52: {=IFERROR(INDEX(Lineups!D:D,MATCH(B$46&B52,Lineups!A:A&Lineups!B:B,0)),"")} -> Kendre Miller | D52: =IFERROR(INDEX('Weekly Stats'!B:B,MATCH($C52,'Weekly Stats'!$A:$A,0)),"") -> 0 | E52: =IFERROR(INDEX('Weekly Stats'!C:C,MATCH($C52,'Weekly Stats'!$A:$A,0)),"") -> 0 | F52: =IFERROR(INDEX('Weekly Stats'!D:D,MATCH($C52,'Weekly Stats'!$A:$A,0)),"") -> 0 | G52: =IFERROR(INDEX('Weekly Stats'!E:E,MATCH($C52,'Weekly Stats'!$A:$A,0)),"") -> 0 | H52: =IFERROR(INDEX('Weekly Stats'!F:F,MATCH($C52,'Weekly Stats'!$A:$A,0)),"") -> 0 | I52: =IFERROR(INDEX('Weekly Stats'!G:G,MATCH($C52,'Weekly Stats'!$A:$A,0)),"") -> 10 | J52: =IFERROR(INDEX('Weekly Stats'!H:H,MATCH($C52,'Weekly Stats'!$A:$A,0)),"") -> 30 | K52: =IFERROR(INDEX('Weekly Stats'!I:I,MATCH($C52,'Weekly Stats'!$A:$A,0)),"") -> 1 | L52: =IFERROR(INDEX('Weekly Stats'!J:J,MATCH($C52,'Weekly Stats'!$A:$A,0)),"") -> 0 | M52: =IFERROR(INDEX('Weekly Stats'!K:K,MATCH($C52,'Weekly Stats'!$A:$A,0)),"") -> 0 | N52: =IFERROR(INDEX('Weekly Stats'!L:L,MATCH($C52,'Weekly Stats'!$A:$A,0)),"") -> 0 | O52: =IFERROR(INDEX('Weekly Stats'!M:M,MATCH($C52,'Weekly Stats'!$A:$A,0)),"") -> 0 | P52: =IFERROR(INDEX('Weekly Stats'!N:N,MATCH($C52,'Weekly Stats'!$A:$A,0)),"") -> 0 | Q52: =IFERROR(INDEX('Weekly Stats'!O:O,MATCH($C52,'Weekly Stats'!$A:$A,0)),"") -> 0 | R52: =IFERROR(INDEX('Weekly Stats'!P:P,MATCH($C52,'Weekly Stats'!$A:$A,0)),"") -> 0 | S52: =IFERROR(INDEX('Weekly Stats'!Q:Q,MATCH($C52,'Weekly Stats'!$A:$A,0)),"") -> 0 | T52: =IFERROR(INDEX('Weekly Stats'!R:R,MATCH($C52,'Weekly Stats'!$A:$A,0)),"") -> 0 | U52: =IFERROR(INDEX('Weekly Stats'!S:S,MATCH($C52,'Weekly Stats'!$A:$A,0)),"") -> 0 | V52: =IFERROR(INDEX('Weekly Stats'!T:T,MATCH($C52,'Weekly Stats'!$A:$A,0)),"") -> 0 | W52: =IFERROR((Q52*3)+V52,0) -> 0 | X52: =IFERROR(ROUND(D52/E52,3),"") | Y52: =IFERROR(ROUND(J52/I52,2),"") -> 3 | Z52: =IFERROR(ROUND(M52/L52,2),"")
B53: B_RC1: | C53: {=IFERROR(INDEX(Lineups!D:D,MATCH(B$46&B53,Lineups!A:A&Lineups!B:B,0)),"")} -> Amon-Ra St. Brown | D53: =IFERROR(INDEX('Weekly Stats'!B:B,MATCH($C53,'Weekly Stats'!$A:$A,0)),"") -> 0 | E53: =IFERROR(INDEX('Weekly Stats'!C:C,MATCH($C53,'Weekly Stats'!$A:$A,0)),"") -> 0 | F53: =IFERROR(INDEX('Weekly Stats'!D:D,MATCH($C53,'Weekly Stats'!$A:$A,0)),"") -> 0 | G53: =IFERROR(INDEX('Weekly Stats'!E:E,MATCH($C53,'Weekly Stats'!$A:$A,0)),"") -> 0 | H53: =IFERROR(INDEX('Weekly Stats'!F:F,MATCH($C53,'Weekly Stats'!$A:$A,0)),"") -> 0 | I53: =IFERROR(INDEX('Weekly Stats'!G:G,MATCH($C53,'Weekly Stats'!$A:$A,0)),"") -> 0 | J53: =IFERROR(INDEX('Weekly Stats'!H:H,MATCH($C53,'Weekly Stats'!$A:$A,0)),"") -> 0 | K53: =IFERROR(INDEX('Weekly Stats'!I:I,MATCH($C53,'Weekly Stats'!$A:$A,0)),"") -> 0 | L53: =IFERROR(INDEX('Weekly Stats'!J:J,MATCH($C53,'Weekly Stats'!$A:$A,0)),"") -> 6 | M53: =IFERROR(INDEX('Weekly Stats'!K:K,MATCH($C53,'Weekly Stats'!$A:$A,0)),"") -> 69 | N53: =IFERROR(INDEX('Weekly Stats'!L:L,MATCH($C53,'Weekly Stats'!$A:$A,0)),"") -> 0 | O53: =IFERROR(INDEX('Weekly Stats'!M:M,MATCH($C53,'Weekly Stats'!$A:$A,0)),"") -> 0 | P53: =IFERROR(INDEX('Weekly Stats'!N:N,MATCH($C53,'Weekly Stats'!$A:$A,0)),"") -> 0 | Q53: =IFERROR(INDEX('Weekly Stats'!O:O,MATCH($C53,'Weekly Stats'!$A:$A,0)),"") -> 0 | R53: =IFERROR(INDEX('Weekly Stats'!P:P,MATCH($C53,'Weekly Stats'!$A:$A,0)),"") -> 0 | S53: =IFERROR(INDEX('Weekly Stats'!Q:Q,MATCH($C53,'Weekly Stats'!$A:$A,0)),"") -> 0 | T53: =IFERROR(INDEX('Weekly Stats'!R:R,MATCH($C53,'Weekly Stats'!$A:$A,0)),"") -> 0 | U53: =IFERROR(INDEX('Weekly Stats'!S:S,MATCH($C53,'Weekly Stats'!$A:$A,0)),"") -> 0 | V53: =IFERROR(INDEX('Weekly Stats'!T:T,MATCH($C53,'Weekly Stats'!$A:$A,0)),"") -> 0 | W53: =IFERROR((Q53*3)+V53,0) -> 0 | X53: =IFERROR(ROUND(D53/E53,3),"") | Y53: =IFERROR(ROUND(J53/I53,2),"") | Z53: =IFERROR(ROUND(M53/L53,2),"") -> 11.5
B54: B_RC2: | C54: {=IFERROR(INDEX(Lineups!D:D,MATCH(B$46&B54,Lineups!A:A&Lineups!B:B,0)),"")} -> Jaylen Waddle | D54: =IFERROR(INDEX('Weekly Stats'!B:B,MATCH($C54,'Weekly Stats'!$A:$A,0)),"") -> 0 | E54: =IFERROR(INDEX('Weekly Stats'!C:C,MATCH($C54,'Weekly Stats'!$A:$A,0)),"") -> 0 | F54: =IFERROR(INDEX('Weekly Stats'!D:D,MATCH($C54,'Weekly Stats'!$A:$A,0)),"") -> 0 | G54: =IFERROR(INDEX('Weekly Stats'!E:E,MATCH($C54,'Weekly Stats'!$A:$A,0)),"") -> 0 | H54: =IFERROR(INDEX('Weekly Stats'!F:F,MATCH($C54,'Weekly Stats'!$A:$A,0)),"") -> 0 | I54: =IFERROR(INDEX('Weekly Stats'!G:G,MATCH($C54,'Weekly Stats'!$A:$A,0)),"") -> 1 | J54: =IFERROR(INDEX('Weekly Stats'!H:H,MATCH($C54,'Weekly Stats'!$A:$A,0)),"") -> 9 | K54: =IFERROR(INDEX('Weekly Stats'!I:I,MATCH($C54,'Weekly Stats'!$A:$A,0)),"") -> 0 | L54: =IFERROR(INDEX('Weekly Stats'!J:J,MATCH($C54,'Weekly Stats'!$A:$A,0)),"") -> 2 | M54: =IFERROR(INDEX('Weekly Stats'!K:K,MATCH($C54,'Weekly Stats'!$A:$A,0)),"") -> 19 | N54: =IFERROR(INDEX('Weekly Stats'!L:L,MATCH($C54,'Weekly Stats'!$A:$A,0)),"") -> 0 | O54: =IFERROR(INDEX('Weekly Stats'!M:M,MATCH($C54,'Weekly Stats'!$A:$A,0)),"") -> 0 | P54: =IFERROR(INDEX('Weekly Stats'!N:N,MATCH($C54,'Weekly Stats'!$A:$A,0)),"") -> 0 | Q54: =IFERROR(INDEX('Weekly Stats'!O:O,MATCH($C54,'Weekly Stats'!$A:$A,0)),"") -> 0 | R54: =IFERROR(INDEX('Weekly Stats'!P:P,MATCH($C54,'Weekly Stats'!$A:$A,0)),"") -> 0 | S54: =IFERROR(INDEX('Weekly Stats'!Q:Q,MATCH($C54,'Weekly Stats'!$A:$A,0)),"") -> 0 | T54: =IFERROR(INDEX('Weekly Stats'!R:R,MATCH($C54,'Weekly Stats'!$A:$A,0)),"") -> 0 | U54: =IFERROR(INDEX('Weekly Stats'!S:S,MATCH($C54,'Weekly Stats'!$A:$A,0)),"") -> 0 | V54: =IFERROR(INDEX('Weekly Stats'!T:T,MATCH($C54,'Weekly Stats'!$A:$A,0)),"") -> 0 | W54: =IFERROR((Q54*3)+V54,0) -> 0 | X54: =IFERROR(ROUND(D54/E54,3),"") | Y54: =IFERROR(ROUND(J54/I54,2),"") -> 9 | Z54: =IFERROR(ROUND(M54/L54,2),"") -> 9.5
B55: B_RC3: | C55: {=IFERROR(INDEX(Lineups!D:D,MATCH(B$46&B55,Lineups!A:A&Lineups!B:B,0)),"")} -> Trey McBride | D55: =IFERROR(INDEX('Weekly Stats'!B:B,MATCH($C55,'Weekly Stats'!$A:$A,0)),"") -> 0 | E55: =IFERROR(INDEX('Weekly Stats'!C:C,MATCH($C55,'Weekly Stats'!$A:$A,0)),"") -> 0 | F55: =IFERROR(INDEX('Weekly Stats'!D:D,MATCH($C55,'Weekly Stats'!$A:$A,0)),"") -> 0 | G55: =IFERROR(INDEX('Weekly Stats'!E:E,MATCH($C55,'Weekly Stats'!$A:$A,0)),"") -> 0 | H55: =IFERROR(INDEX('Weekly Stats'!F:F,MATCH($C55,'Weekly Stats'!$A:$A,0)),"") -> 0 | I55: =IFERROR(INDEX('Weekly Stats'!G:G,MATCH($C55,'Weekly Stats'!$A:$A,0)),"") -> 0 | J55: =IFERROR(INDEX('Weekly Stats'!H:H,MATCH($C55,'Weekly Stats'!$A:$A,0)),"") -> 0 | K55: =IFERROR(INDEX('Weekly Stats'!I:I,MATCH($C55,'Weekly Stats'!$A:$A,0)),"") -> 0 | L55: =IFERROR(INDEX('Weekly Stats'!J:J,MATCH($C55,'Weekly Stats'!$A:$A,0)),"") -> 9 | M55: =IFERROR(INDEX('Weekly Stats'!K:K,MATCH($C55,'Weekly Stats'!$A:$A,0)),"") -> 66 | N55: =IFERROR(INDEX('Weekly Stats'!L:L,MATCH($C55,'Weekly Stats'!$A:$A,0)),"") -> 1 | O55: =IFERROR(INDEX('Weekly Stats'!M:M,MATCH($C55,'Weekly Stats'!$A:$A,0)),"") -> 0 | P55: =IFERROR(INDEX('Weekly Stats'!N:N,MATCH($C55,'Weekly Stats'!$A:$A,0)),"") -> 0 | Q55: =IFERROR(INDEX('Weekly Stats'!O:O,MATCH($C55,'Weekly Stats'!$A:$A,0)),"") -> 0 | R55: =IFERROR(INDEX('Weekly Stats'!P:P,MATCH($C55,'Weekly Stats'!$A:$A,0)),"") -> 0 | S55: =IFERROR(INDEX('Weekly Stats'!Q:Q,MATCH($C55,'Weekly Stats'!$A:$A,0)),"") -> 0 | T55: =IFERROR(INDEX('Weekly Stats'!R:R,MATCH($C55,'Weekly Stats'!$A:$A,0)),"") -> 0 | U55: =IFERROR(INDEX('Weekly Stats'!S:S,MATCH($C55,'Weekly Stats'!$A:$A,0)),"") -> 0 | V55: =IFERROR(INDEX('Weekly Stats'!T:T,MATCH($C55,'Weekly Stats'!$A:$A,0)),"") -> 0 | W55: =IFERROR((Q55*3)+V55,0) -> 0 | X55: =IFERROR(ROUND(D55/E55,3),"") | Y55: =IFERROR(ROUND(J55/I55,2),"") | Z55: =IFERROR(ROUND(M55/L55,2),"") -> 7.33
B56: B_PK1: | C56: {=IFERROR(INDEX(Lineups!D:D,MATCH(B$46&B56,Lineups!A:A&Lineups!B:B,0)),"")} -> Jason Myers | D56: =IFERROR(INDEX('Weekly Stats'!B:B,MATCH($C56,'Weekly Stats'!$A:$A,0)),"") -> 0 | E56: =IFERROR(INDEX('Weekly Stats'!C:C,MATCH($C56,'Weekly Stats'!$A:$A,0)),"") -> 0 | F56: =IFERROR(INDEX('Weekly Stats'!D:D,MATCH($C56,'Weekly Stats'!$A:$A,0)),"") -> 0 | G56: =IFERROR(INDEX('Weekly Stats'!E:E,MATCH($C56,'Weekly Stats'!$A:$A,0)),"") -> 0 | H56: =IFERROR(INDEX('Weekly Stats'!F:F,MATCH($C56,'Weekly Stats'!$A:$A,0)),"") -> 0 | I56: =IFERROR(INDEX('Weekly Stats'!G:G,MATCH($C56,'Weekly Stats'!$A:$A,0)),"") -> 0 | J56: =IFERROR(INDEX('Weekly Stats'!H:H,MATCH($C56,'Weekly Stats'!$A:$A,0)),"") -> 0 | K56: =IFERROR(INDEX('Weekly Stats'!I:I,MATCH($C56,'Weekly Stats'!$A:$A,0)),"") -> 0 | L56: =IFERROR(INDEX('Weekly Stats'!J:J,MATCH($C56,'Weekly Stats'!$A:$A,0)),"") -> 0 | M56: =IFERROR(INDEX('Weekly Stats'!K:K,MATCH($C56,'Weekly Stats'!$A:$A,0)),"") -> 0 | N56: =IFERROR(INDEX('Weekly Stats'!L:L,MATCH($C56,'Weekly Stats'!$A:$A,0)),"") -> 0 | O56: =IFERROR(INDEX('Weekly Stats'!M:M,MATCH($C56,'Weekly Stats'!$A:$A,0)),"") -> 0 | P56: =IFERROR(INDEX('Weekly Stats'!N:N,MATCH($C56,'Weekly Stats'!$A:$A,0)),"") -> 0 | Q56: =IFERROR(INDEX('Weekly Stats'!O:O,MATCH($C56,'Weekly Stats'!$A:$A,0)),"") -> 5 | R56: =IFERROR(INDEX('Weekly Stats'!P:P,MATCH($C56,'Weekly Stats'!$A:$A,0)),"") -> 0 | S56: =IFERROR(INDEX('Weekly Stats'!Q:Q,MATCH($C56,'Weekly Stats'!$A:$A,0)),"") -> 4 | T56: =IFERROR(INDEX('Weekly Stats'!R:R,MATCH($C56,'Weekly Stats'!$A:$A,0)),"") -> 1 | U56: =IFERROR(INDEX('Weekly Stats'!S:S,MATCH($C56,'Weekly Stats'!$A:$A,0)),"") -> 0 | V56: =IFERROR(INDEX('Weekly Stats'!T:T,MATCH($C56,'Weekly Stats'!$A:$A,0)),"") -> 2 | W56: =IFERROR((Q56*3)+V56,0) -> 17 | X56: =IFERROR(ROUND(D56/E56,3),"") | Y56: =IFERROR(ROUND(J56/I56,2),"") | Z56: =IFERROR(ROUND(M56/L56,2),"")
C57: Totals | D57: =SUM(D48:D56) -> 45 | E57: =SUM(E48:E56) -> 63 | F57: =SUM(F48:F56) -> 425 | G57: =SUM(G48:G56) -> 7 | H57: =SUM(H48:H56) -> 0 | I57: =SUM(I48:I56) -> 48 | J57: =SUM(J48:J56) -> 288 | K57: =SUM(K48:K56) -> 3 | ... W57: =SUM(W48:W56) -> 17 | X57: =IFERROR(ROUND(D57/E57,3),0) -> 0.714 | Y57: =IFERROR(ROUND(J57/I57,2),0) -> 6 | Z57: =IFERROR(ROUND(M57/L57,2),0) -> 8.14
C58: Team | D58: Sacks | E58: Fumble Rec. | F58: Interceptions | G58: Yards Allowed | H58: Pts. Scored | I58: Pts. Allowed
B59: B_DU1: | C59: {=IFERROR(INDEX(Lineups!D:D,MATCH(B$46&B59,Lineups!A:A&Lineups!B:B,0)),"")} -> Los Angeles Rams | D59: =IFERROR(INDEX('Weekly Stats'!C:C,MATCH($C59,'Weekly Stats'!$A:$A,0)),"") -> 1 | E59: =IFERROR(INDEX('Weekly Stats'!D:D,MATCH($C59,'Weekly Stats'!$A:$A,0)),"") -> 1 | F59: =IFERROR(INDEX('Weekly Stats'!E:E,MATCH($C59,'Weekly Stats'!$A:$A,0)),"") -> 1 | G59: =IFERROR(INDEX('Weekly Stats'!F:F,MATCH($C59,'Weekly Stats'!$A:$A,0)),"") -> 436 | H59: =IFERROR(INDEX('Weekly Stats'!K:K,MATCH($C59,'Weekly Stats'!$A:$A,0)),"") -> 0 | I59: =IFERROR(INDEX('Weekly Stats'!G:G,MATCH($C59,'Weekly Stats'!$A:$A,0)),"") -> 37
C60: Head Coach | D60: Pts. Differential
B61: Coach: | C61: {=IFERROR(INDEX(Lineups!D:D,MATCH(B$46&B61,Lineups!A:A&Lineups!B:B,0)),"")} -> Kyle Shanahan | D61: =IFERROR(INDEX('Weekly Stats'!AC:AC,MATCH(C61,'Weekly Stats'!AB:AB,0))-INDEX('Weekly Stats'!AD:AD,MATCH(C61,'Weekly Stats'!AB:AB,0)),"") -> 3
D63: Passing | H63: Rushing | K63: Receiving | O63: Other | Q63: Kicking | V63: Defense
C64: Total | D64: =SUM(D65:D66) -> 4 | E64: =SUM(E65:E66) -> 6 | F64: =SUM(F65:F66) -> 8 | G64: =SUM(G65:G66) -> 2 | H64: =SUM(H65:H66) -> 9 | I64: =SUM(I65:I66) -> 6 | J64: =SUM(J65:J66) -> 5 | K64: =SUM(K65:K66) -> 0 | ... AA64: =SUM(AA65:AA66) -> 0 | AB64: =SUM(D64:AA64) -> 50 | AC64: =IF(AB64=AB69,IF(D61>D86,AB64+3,AB64+0),0) -> 0 | AD64: =IF(AB64=AB69,IF(AC64=AC69,IF(G57+K57+N57>G82+K82+N82, AC64+3,AC64)),0) -> 0 | AE64: =IF(AB64=AB69,IF(AC64=AC69,IF(AD64=AD69,IF(F57+J57+M57>F82+J82+M82, AD64+3,AD64))),0) -> 0 | AF64: =IF(AB64=AB69,IF(AC64=AC69,IF(AD64=AD69,IF(AE64=AE69,AB64,AE64),AD64),AC64),IF(AB64<0,0,IF(AB69<0,AB64-AB69,AB64))) -> 50
C65: Bonus | D65: =IFERROR(IF(X57>=0.69,2,0),0) -> 2 | E65: =IF(F57>=575,2,0) -> 0 | F65: =IF(G57>=6,2,0) -> 2 | G65: X | H65: =IF(J57>=250,3,0) -> 3 | I65: =IF(K57>=4,2,0) -> 0 | J65: =IFERROR(IF(Y57>=4.5,2,0),0) -> 2 | K65: =IF(M57>=325,3,0) -> 0 | L65: =IF(N57>=4,2,0) -> 0 | M65: =IFERROR(IF(Z57>=12,2,0),0) -> 0 | N65: =IF(L57>=30,2,0) -> 0 | O65: X | P65: X | Q65: =IFERROR(IF(W57>=12,2,0),0) -> 2 | R65: X | S65: X | T65: =IF(T57>=2,1,0) -> 0 | U65: =IF(U57>=1,2,0) -> 0 | V65: =IF(I84<=14,-2,0) -> 0 | W65: =IF(G84<=275,-2,0) -> -2 | X65: =IF(B71="",0,IF(D84>=5,-1,0)) -> 0 | Y65: =IF(B71="",0,IF(E84>=3,-1,0)) -> 0 | Z65: =IF(B71="",0,IF(F84>=3,-1,0)) -> 0 | AA65: =IF(B71="",0,IF(H84>=8,-2,0)) -> 0 | AF65: =IF(AF64>AF69,"WIN!",IF(AF64=AF69,"Tie","Loss")) -> WIN!
C66: Head-to-Head | D66: =IFERROR(IF(X57>X82,2,0),0) -> 2 | E66: =IF(F57>F82,6,0) -> 6 | F66: =IF(G57>G82,6,0) -> 6 | G66: =IF(H57<H82,2,0) -> 2 | H66: =IF(J57>J82,6,0) -> 6 | I66: =IF(K57>K82,6,0) -> 6 | J66: =IFERROR(IF(Y57>Y82,3,0),0) -> 3 | K66: =IF(M57>M82,6,0) -> 0 | L66: =IF(N57>N82,6,0) -> 6 | M66: =IFERROR(IF(Z57>Z82,2,0),0) -> 2 | N66: =IF(L57>L82,2,0) -> 0 | O66: =IF(P57>P82,2,0) -> 0 | P66: =IF(O57<O82,3,0) -> 3 | Q66: =IFERROR(IF(W57>W82,3,0),0) -> 3 | R66: =IF(R57>R82,1,0) -> 0 | S66: =IF(S57>S82,2,0) -> 2 | T66: =IF((T57+U57)>(T82+U82),3,0) -> 3 | U66: X | V66: =IF(I59<=I84,0,-6) -> -6 | W66: =IF(G59<=G84,0,-3) -> -3 | X66: =IF(D59>=D84,0,-2) -> 0 | Y66: =IF(E59>=E84,0,-2) -> 0 | Z66: =IF(F59>=F84,0,-2) -> 0 | AA66: =IF(H59>=H84,0,-5) -> 0
C67: Head-to-Head | D67: =IFERROR(IF(X82>X57,2,0),0) -> 0 | E67: =IF(F82>F57,6,0) -> 0 | F67: =IF(G82>G57,6,0) -> 0 | G67: =IF(H82<H57,2,0) -> 0 | H67: =IF(J82>J57,6,0) -> 0 | I67: =IF(K82>K57,6,0) -> 0 | J67: =IFERROR(IF(Y82>Y57,3,0),0) -> 0 | K67: =IF(M82>M57,6,0) -> 6 | L67: =IF(N82>N57,6,0) -> 0 | M67: =IFERROR(IF(Z82>Z57,2,0),0) -> 0 | N67: =IF(L82>L57,2,0) -> 2 | O67: =IF(P82>P57,2,0) -> 0 | P67: =IF(O82<O57,3,0) -> 0 | Q67: =IFERROR(IF(W82>W57,3,0),0) -> 0 | R67: =IF(R82>R57,1,0) -> 0 | S67: =IF(S82>S57,2,0) -> 0 | T67: =IF((T82+U82)>(T57+U57),3,0) -> 0 | U67: X | V67: =IF(I84<=I59,0,-6) -> 0 | W67: =IF(G84<=G59,0,-3) -> 0 | X67: =IF(D84>=D59,0,-2) -> 0 | Y67: =IF(E84>=E59,0,-2) -> -2 | Z67: =IF(F84>=F59,0,-2) -> -2 | AA67: =IF(H84>=H59,0,-5) -> 0
C68: Bonus | D68: =IFERROR(IF(X82>=0.69,2,0),0) -> 0 | E68: =IF(F82>=575,2,0) -> 0 | F68: =IF(G82>=6,2,0) -> 0 | G68: X | H68: =IF(J82>=250,3,0) -> 0 | I68: =IF(K82>=4,2,0) -> 0 | J68: =IFERROR(IF(Y82>=4.5,2,0),0) -> 2 | K68: =IF(M82>=325,3,0) -> 0 | L68: =IF(N82>=4,2,0) -> 0 | M68: =IFERROR(IF(Z82>=12,2,0),0) -> 0 | N68: =IF(L82>=30,2,0) -> 2 | O68: X | P68: X | Q68: =IFERROR(IF(W82>=12,2,0),0) -> 0 | R68: X | S68: X | T68: =IF(T82>=2,1,0) -> 0 | U68: =IF(U82>=1,2,0) -> 0 | V68: =IF(I59<=14,-2,0) -> 0 | W68: =IF(G59<=275,-2,0) -> 0 | X68: =IF(B46="",0,IF(D59>=5,-1,0)) -> 0 | Y68: =IF(B46="",0,IF(E59>=3,-1,0)) -> 0 | Z68: =IF(B46="",0,IF(F59>=3,-1,0)) -> 0 | AA68: =IF(B46="",0,IF(H59>=8,-2,0)) -> 0 | AF68: =IF(AF69>AF64,"WIN!",IF(AF69=AF64,"Tie","Loss")) -> Loss
C69: Total | D69: =SUM(D67:D68) -> 0 | E69: =SUM(E67:E68) -> 0 | F69: =SUM(F67:F68) -> 0 | G69: =SUM(G67:G68) -> 0 | H69: =SUM(H67:H68) -> 0 | I69: =SUM(I67:I68) -> 0 | J69: =SUM(J67:J68) -> 2 | K69: =SUM(K67:K68) -> 6 | ... AA69: =SUM(AA67:AA68) -> 0 | AB69: =SUM(D69:AA69) -> 8 | AC69: =IF(AB69=AB64,IF(D86>D61,AB69+3,AB69+0),0) -> 0 | AD69: =IF(AB69=AB64,IF(AC69=AC64,IF(G82+K82+N82>G57+K57+N57,AC69+3,AC69)),0) -> 0 | AE69: =IF(AB69=AB64,IF(AC69=AC64,IF(AD69=AD64,IF(F82+J82+M82>F57+J57+M57,AD69+3,AD69))),0) -> 0 | AF69: =IF(AB69=AB64,IF(AC69=AC64,IF(AD69=AD64,IF(AE69=AE64,AB69,AE69),AD69),AC69),IF(AB69<0,0,IF(AB64<0,AB69-AB64,AB69))) -> 8
D70: Comp. % | E70: Yards | F70: TD's | G70: INT's | H70: Yards | I70: TD's | J70: Yards/Rush | K70: Yards | L70: TD's | M70: Yards/Rec. | N70: Receptions | O70: 2pt. Con. | P70: Fum Lost | Q70: Total Pts. | R70: ="10-39" -> 10-39 | S70: 40-49 | T70: 50+/50-59 | U70: 60+ | V70: Pts. Allowed | W70: Yards Allowed | X70: Sacks | Y70: Fumble Rec. | Z70: Interceptions | AA70: Pts. Scored | AB70: Raw Score | AC70: Tie-break 1 | AD70: Tie-break 2 | AE70: Tie-break 3 | AF70: Final Score
A71: =_xlfn.MAXIFS(Data!E:E,Data!C:C,Data!A2,Data!D:D,A46,Data!F:F,"B") -> 6 | B71: =IFERROR(INDEX(Data!I:I,MATCH(A71,Data!H:H,0)),"") -> Nacua Matata
C72: Player | D72: Completions | E72: Passes | F72: Yards | G72: TD's | H72: INT's | I72: Rushes | J72: Yards | K72: TD's | L72: Receptions | M72: Yards | N72: TD's | O72: Fum Lost | P72: 2Pt | Q72: FG's Made | R72: ="10-39" -> 10-39 | S72: 40-49 | T72: 50+ | U72: 60+ | V72: Extra pts. | W72: Total pts. | X72: Comp. % | Y72: Yards/Rush | Z72: Yards/Rec.
B73: B_QB1: | C73: {=IFERROR(INDEX(Lineups!D:D,MATCH(B$71&B73,Lineups!A:A&Lineups!B:B,0)),"")} -> Justin Herbert | D73: =IFERROR(INDEX('Weekly Stats'!B:B,MATCH($C73,'Weekly Stats'!$A:$A,0)),"") -> 14 | E73: =IFERROR(INDEX('Weekly Stats'!C:C,MATCH($C73,'Weekly Stats'!$A:$A,0)),"") -> 24 | F73: =IFERROR(INDEX('Weekly Stats'!D:D,MATCH($C73,'Weekly Stats'!$A:$A,0)),"") -> 121 | G73: =IFERROR(INDEX('Weekly Stats'!E:E,MATCH($C73,'Weekly Stats'!$A:$A,0)),"") -> 1 | H73: =IFERROR(INDEX('Weekly Stats'!F:F,MATCH($C73,'Weekly Stats'!$A:$A,0)),"") -> 1 | I73: =IFERROR(INDEX('Weekly Stats'!G:G,MATCH($C73,'Weekly Stats'!$A:$A,0)),"") -> 6 | J73: =IFERROR(INDEX('Weekly Stats'!H:H,MATCH($C73,'Weekly Stats'!$A:$A,0)),"") -> 54 | K73: =IFERROR(INDEX('Weekly Stats'!I:I,MATCH($C73,'Weekly Stats'!$A:$A,0)),"") -> 0 | L73: =IFERROR(INDEX('Weekly Stats'!J:J,MATCH($C73,'Weekly Stats'!$A:$A,0)),"") -> 0 | M73: =IFERROR(INDEX('Weekly Stats'!K:K,MATCH($C73,'Weekly Stats'!$A:$A,0)),"") -> 0 | N73: =IFERROR(INDEX('Weekly Stats'!L:L,MATCH($C73,'Weekly Stats'!$A:$A,0)),"") -> 0 | O73: =IFERROR(INDEX('Weekly Stats'!M:M,MATCH($C73,'Weekly Stats'!$A:$A,0)),"") -> 1 | P73: =IFERROR(INDEX('Weekly Stats'!N:N,MATCH($C73,'Weekly Stats'!$A:$A,0)),"") -> 0 | Q73: =IFERROR(INDEX('Weekly Stats'!O:O,MATCH($C73,'Weekly Stats'!$A:$A,0)),"") -> 0 | R73: =IFERROR(INDEX('Weekly Stats'!P:P,MATCH($C73,'Weekly Stats'!$A:$A,0)),"") -> 0 | S73: =IFERROR(INDEX('Weekly Stats'!Q:Q,MATCH($C73,'Weekly Stats'!$A:$A,0)),"") -> 0 | T73: =IFERROR(INDEX('Weekly Stats'!R:R,MATCH($C73,'Weekly Stats'!$A:$A,0)),"") -> 0 | U73: =IFERROR(INDEX('Weekly Stats'!S:S,MATCH($C73,'Weekly Stats'!$A:$A,0)),"") -> 0 | V73: =IFERROR(INDEX('Weekly Stats'!T:T,MATCH($C73,'Weekly Stats'!$A:$A,0)),"") -> 0 | W73: =IFERROR((Q73*3)+V73,0) -> 0 | X73: =IFERROR(ROUND(D73/E73,3),"") -> 0.583 | Y73: =IFERROR(ROUND(J73/I73,2),"") -> 9 | Z73: =IFERROR(ROUND(M73/L73,2),"")
B74: B_QB2: | C74: {=IFERROR(INDEX(Lineups!D:D,MATCH(B$71&B74,Lineups!A:A&Lineups!B:B,0)),"")} -> Cam Ward | D74: =IFERROR(INDEX('Weekly Stats'!B:B,MATCH($C74,'Weekly Stats'!$A:$A,0)),"") -> 23 | E74: =IFERROR(INDEX('Weekly Stats'!C:C,MATCH($C74,'Weekly Stats'!$A:$A,0)),"") -> 36 | F74: =IFERROR(INDEX('Weekly Stats'!D:D,MATCH($C74,'Weekly Stats'!$A:$A,0)),"") -> 170 | G74: =IFERROR(INDEX('Weekly Stats'!E:E,MATCH($C74,'Weekly Stats'!$A:$A,0)),"") -> 0 | H74: =IFERROR(INDEX('Weekly Stats'!F:F,MATCH($C74,'Weekly Stats'!$A:$A,0)),"") -> 1 | I74: =IFERROR(INDEX('Weekly Stats'!G:G,MATCH($C74,'Weekly Stats'!$A:$A,0)),"") -> 1 | J74: =IFERROR(INDEX('Weekly Stats'!H:H,MATCH($C74,'Weekly Stats'!$A:$A,0)),"") -> 2 | K74: =IFERROR(INDEX('Weekly Stats'!I:I,MATCH($C74,'Weekly Stats'!$A:$A,0)),"") -> 0 | L74: =IFERROR(INDEX('Weekly Stats'!J:J,MATCH($C74,'Weekly Stats'!$A:$A,0)),"") -> 0 | M74: =IFERROR(INDEX('Weekly Stats'!K:K,MATCH($C74,'Weekly Stats'!$A:$A,0)),"") -> 0 | N74: =IFERROR(INDEX('Weekly Stats'!L:L,MATCH($C74,'Weekly Stats'!$A:$A,0)),"") -> 0 | O74: =IFERROR(INDEX('Weekly Stats'!M:M,MATCH($C74,'Weekly Stats'!$A:$A,0)),"") -> 0 | P74: =IFERROR(INDEX('Weekly Stats'!N:N,MATCH($C74,'Weekly Stats'!$A:$A,0)),"") -> 0 | Q74: =IFERROR(INDEX('Weekly Stats'!O:O,MATCH($C74,'Weekly Stats'!$A:$A,0)),"") -> 0 | R74: =IFERROR(INDEX('Weekly Stats'!P:P,MATCH($C74,'Weekly Stats'!$A:$A,0)),"") -> 0 | S74: =IFERROR(INDEX('Weekly Stats'!Q:Q,MATCH($C74,'Weekly Stats'!$A:$A,0)),"") -> 0 | T74: =IFERROR(INDEX('Weekly Stats'!R:R,MATCH($C74,'Weekly Stats'!$A:$A,0)),"") -> 0 | U74: =IFERROR(INDEX('Weekly Stats'!S:S,MATCH($C74,'Weekly Stats'!$A:$A,0)),"") -> 0 | V74: =IFERROR(INDEX('Weekly Stats'!T:T,MATCH($C74,'Weekly Stats'!$A:$A,0)),"") -> 0 | W74: =IFERROR((Q74*3)+V74,0) -> 0 | X74: =IFERROR(ROUND(D74/E74,3),"") -> 0.639 | Y74: =IFERROR(ROUND(J74/I74,2),"") -> 2 | Z74: =IFERROR(ROUND(M74/L74,2),"")
B75: B_RB1: | C75: {=IFERROR(INDEX(Lineups!D:D,MATCH(B$71&B75,Lineups!A:A&Lineups!B:B,0)),"")} -> Cam Skattebo | D75: =IFERROR(INDEX('Weekly Stats'!B:B,MATCH($C75,'Weekly Stats'!$A:$A,0)),"") -> 0 | E75: =IFERROR(INDEX('Weekly Stats'!C:C,MATCH($C75,'Weekly Stats'!$A:$A,0)),"") -> 0 | F75: =IFERROR(INDEX('Weekly Stats'!D:D,MATCH($C75,'Weekly Stats'!$A:$A,0)),"") -> 0 | G75: =IFERROR(INDEX('Weekly Stats'!E:E,MATCH($C75,'Weekly Stats'!$A:$A,0)),"") -> 0 | H75: =IFERROR(INDEX('Weekly Stats'!F:F,MATCH($C75,'Weekly Stats'!$A:$A,0)),"") -> 0 | I75: =IFERROR(INDEX('Weekly Stats'!G:G,MATCH($C75,'Weekly Stats'!$A:$A,0)),"") -> 13 | J75: =IFERROR(INDEX('Weekly Stats'!H:H,MATCH($C75,'Weekly Stats'!$A:$A,0)),"") -> 59 | K75: =IFERROR(INDEX('Weekly Stats'!I:I,MATCH($C75,'Weekly Stats'!$A:$A,0)),"") -> 0 | L75: =IFERROR(INDEX('Weekly Stats'!J:J,MATCH($C75,'Weekly Stats'!$A:$A,0)),"") -> 2 | M75: =IFERROR(INDEX('Weekly Stats'!K:K,MATCH($C75,'Weekly Stats'!$A:$A,0)),"") -> 12 | N75: =IFERROR(INDEX('Weekly Stats'!L:L,MATCH($C75,'Weekly Stats'!$A:$A,0)),"") -> 0 | O75: =IFERROR(INDEX('Weekly Stats'!M:M,MATCH($C75,'Weekly Stats'!$A:$A,0)),"") -> 1 | P75: =IFERROR(INDEX('Weekly Stats'!N:N,MATCH($C75,'Weekly Stats'!$A:$A,0)),"") -> 0 | Q75: =IFERROR(INDEX('Weekly Stats'!O:O,MATCH($C75,'Weekly Stats'!$A:$A,0)),"") -> 0 | R75: =IFERROR(INDEX('Weekly Stats'!P:P,MATCH($C75,'Weekly Stats'!$A:$A,0)),"") -> 0 | S75: =IFERROR(INDEX('Weekly Stats'!Q:Q,MATCH($C75,'Weekly Stats'!$A:$A,0)),"") -> 0 | T75: =IFERROR(INDEX('Weekly Stats'!R:R,MATCH($C75,'Weekly Stats'!$A:$A,0)),"") -> 0 | U75: =IFERROR(INDEX('Weekly Stats'!S:S,MATCH($C75,'Weekly Stats'!$A:$A,0)),"") -> 0 | V75: =IFERROR(INDEX('Weekly Stats'!T:T,MATCH($C75,'Weekly Stats'!$A:$A,0)),"") -> 0 | W75: =IFERROR((Q75*3)+V75,0) -> 0 | X75: =IFERROR(ROUND(D75/E75,3),"") | Y75: =IFERROR(ROUND(J75/I75,2),"") -> 4.54 | Z75: =IFERROR(ROUND(M75/L75,2),"") -> 6
B76: B_RB2: | C76: {=IFERROR(INDEX(Lineups!D:D,MATCH(B$71&B76,Lineups!A:A&Lineups!B:B,0)),"")} -> David Montgomery | D76: =IFERROR(INDEX('Weekly Stats'!B:B,MATCH($C76,'Weekly Stats'!$A:$A,0)),"") -> 0 | E76: =IFERROR(INDEX('Weekly Stats'!C:C,MATCH($C76,'Weekly Stats'!$A:$A,0)),"") -> 0 | F76: =IFERROR(INDEX('Weekly Stats'!D:D,MATCH($C76,'Weekly Stats'!$A:$A,0)),"") -> 0 | G76: =IFERROR(INDEX('Weekly Stats'!E:E,MATCH($C76,'Weekly Stats'!$A:$A,0)),"") -> 0 | H76: =IFERROR(INDEX('Weekly Stats'!F:F,MATCH($C76,'Weekly Stats'!$A:$A,0)),"") -> 0 | I76: =IFERROR(INDEX('Weekly Stats'!G:G,MATCH($C76,'Weekly Stats'!$A:$A,0)),"") -> 5 | J76: =IFERROR(INDEX('Weekly Stats'!H:H,MATCH($C76,'Weekly Stats'!$A:$A,0)),"") -> 11 | K76: =IFERROR(INDEX('Weekly Stats'!I:I,MATCH($C76,'Weekly Stats'!$A:$A,0)),"") -> 0 | L76: =IFERROR(INDEX('Weekly Stats'!J:J,MATCH($C76,'Weekly Stats'!$A:$A,0)),"") -> 0 | M76: =IFERROR(INDEX('Weekly Stats'!K:K,MATCH($C76,'Weekly Stats'!$A:$A,0)),"") -> 0 | N76: =IFERROR(INDEX('Weekly Stats'!L:L,MATCH($C76,'Weekly Stats'!$A:$A,0)),"") -> 0 | O76: =IFERROR(INDEX('Weekly Stats'!M:M,MATCH($C76,'Weekly Stats'!$A:$A,0)),"") -> 0 | P76: =IFERROR(INDEX('Weekly Stats'!N:N,MATCH($C76,'Weekly Stats'!$A:$A,0)),"") -> 0 | Q76: =IFERROR(INDEX('Weekly Stats'!O:O,MATCH($C76,'Weekly Stats'!$A:$A,0)),"") -> 0 | R76: =IFERROR(INDEX('Weekly Stats'!P:P,MATCH($C76,'Weekly Stats'!$A:$A,0)),"") -> 0 | S76: =IFERROR(INDEX('Weekly Stats'!Q:Q,MATCH($C76,'Weekly Stats'!$A:$A,0)),"") -> 0 | T76: =IFERROR(INDEX('Weekly Stats'!R:R,MATCH($C76,'Weekly Stats'!$A:$A,0)),"") -> 0 | U76: =IFERROR(INDEX('Weekly Stats'!S:S,MATCH($C76,'Weekly Stats'!$A:$A,0)),"") -> 0 | V76: =IFERROR(INDEX('Weekly Stats'!T:T,MATCH($C76,'Weekly Stats'!$A:$A,0)),"") -> 0 | W76: =IFERROR((Q76*3)+V76,0) -> 0 | X76: =IFERROR(ROUND(D76/E76,3),"") | Y76: =IFERROR(ROUND(J76/I76,2),"") -> 2.2 | Z76: =IFERROR(ROUND(M76/L76,2),"")
B77: B_RB3: | C77: {=IFERROR(INDEX(Lineups!D:D,MATCH(B$71&B77,Lineups!A:A&Lineups!B:B,0)),"")} -> Rhamondre Stevenson | D77: =IFERROR(INDEX('Weekly Stats'!B:B,MATCH($C77,'Weekly Stats'!$A:$A,0)),"") -> 0 | E77: =IFERROR(INDEX('Weekly Stats'!C:C,MATCH($C77,'Weekly Stats'!$A:$A,0)),"") -> 0 | F77: =IFERROR(INDEX('Weekly Stats'!D:D,MATCH($C77,'Weekly Stats'!$A:$A,0)),"") -> 0 | G77: =IFERROR(INDEX('Weekly Stats'!E:E,MATCH($C77,'Weekly Stats'!$A:$A,0)),"") -> 0 | H77: =IFERROR(INDEX('Weekly Stats'!F:F,MATCH($C77,'Weekly Stats'!$A:$A,0)),"") -> 0 | I77: =IFERROR(INDEX('Weekly Stats'!G:G,MATCH($C77,'Weekly Stats'!$A:$A,0)),"") -> 13 | J77: =IFERROR(INDEX('Weekly Stats'!H:H,MATCH($C77,'Weekly Stats'!$A:$A,0)),"") -> 64 | K77: =IFERROR(INDEX('Weekly Stats'!I:I,MATCH($C77,'Weekly Stats'!$A:$A,0)),"") -> 1 | L77: =IFERROR(INDEX('Weekly Stats'!J:J,MATCH($C77,'Weekly Stats'!$A:$A,0)),"") -> 3 | M77: =IFERROR(INDEX('Weekly Stats'!K:K,MATCH($C77,'Weekly Stats'!$A:$A,0)),"") -> 21 | N77: =IFERROR(INDEX('Weekly Stats'!L:L,MATCH($C77,'Weekly Stats'!$A:$A,0)),"") -> 0 | O77: =IFERROR(INDEX('Weekly Stats'!M:M,MATCH($C77,'Weekly Stats'!$A:$A,0)),"") -> 0 | P77: =IFERROR(INDEX('Weekly Stats'!N:N,MATCH($C77,'Weekly Stats'!$A:$A,0)),"") -> 0 | Q77: =IFERROR(INDEX('Weekly Stats'!O:O,MATCH($C77,'Weekly Stats'!$A:$A,0)),"") -> 0 | R77: =IFERROR(INDEX('Weekly Stats'!P:P,MATCH($C77,'Weekly Stats'!$A:$A,0)),"") -> 0 | S77: =IFERROR(INDEX('Weekly Stats'!Q:Q,MATCH($C77,'Weekly Stats'!$A:$A,0)),"") -> 0 | T77: =IFERROR(INDEX('Weekly Stats'!R:R,MATCH($C77,'Weekly Stats'!$A:$A,0)),"") -> 0 | U77: =IFERROR(INDEX('Weekly Stats'!S:S,MATCH($C77,'Weekly Stats'!$A:$A,0)),"") -> 0 | V77: =IFERROR(INDEX('Weekly Stats'!T:T,MATCH($C77,'Weekly Stats'!$A:$A,0)),"") -> 0 | W77: =IFERROR((Q77*3)+V77,0) -> 0 | X77: =IFERROR(ROUND(D77/E77,3),"") | Y77: =IFERROR(ROUND(J77/I77,2),"") -> 4.92 | Z77: =IFERROR(ROUND(M77/L77,2),"") -> 7
B78: B_RC1: | C78: {=IFERROR(INDEX(Lineups!D:D,MATCH(B$71&B78,Lineups!A:A&Lineups!B:B,0)),"")} -> Puka Nacua | D78: =IFERROR(INDEX('Weekly Stats'!B:B,MATCH($C78,'Weekly Stats'!$A:$A,0)),"") -> 0 | E78: =IFERROR(INDEX('Weekly Stats'!C:C,MATCH($C78,'Weekly Stats'!$A:$A,0)),"") -> 0 | F78: =IFERROR(INDEX('Weekly Stats'!D:D,MATCH($C78,'Weekly Stats'!$A:$A,0)),"") -> 0 | G78: =IFERROR(INDEX('Weekly Stats'!E:E,MATCH($C78,'Weekly Stats'!$A:$A,0)),"") -> 0 | H78: =IFERROR(INDEX('Weekly Stats'!F:F,MATCH($C78,'Weekly Stats'!$A:$A,0)),"") -> 0 | I78: =IFERROR(INDEX('Weekly Stats'!G:G,MATCH($C78,'Weekly Stats'!$A:$A,0)),"") -> 2 | J78: =IFERROR(INDEX('Weekly Stats'!H:H,MATCH($C78,'Weekly Stats'!$A:$A,0)),"") -> 9 | K78: =IFERROR(INDEX('Weekly Stats'!I:I,MATCH($C78,'Weekly Stats'!$A:$A,0)),"") -> 0 | L78: =IFERROR(INDEX('Weekly Stats'!J:J,MATCH($C78,'Weekly Stats'!$A:$A,0)),"") -> 17 | M78: =IFERROR(INDEX('Weekly Stats'!K:K,MATCH($C78,'Weekly Stats'!$A:$A,0)),"") -> 138 | N78: =IFERROR(INDEX('Weekly Stats'!L:L,MATCH($C78,'Weekly Stats'!$A:$A,0)),"") -> 1 | O78: =IFERROR(INDEX('Weekly Stats'!M:M,MATCH($C78,'Weekly Stats'!$A:$A,0)),"") -> 0 | P78: =IFERROR(INDEX('Weekly Stats'!N:N,MATCH($C78,'Weekly Stats'!$A:$A,0)),"") -> 0 | Q78: =IFERROR(INDEX('Weekly Stats'!O:O,MATCH($C78,'Weekly Stats'!$A:$A,0)),"") -> 0 | R78: =IFERROR(INDEX('Weekly Stats'!P:P,MATCH($C78,'Weekly Stats'!$A:$A,0)),"") -> 0 | S78: =IFERROR(INDEX('Weekly Stats'!Q:Q,MATCH($C78,'Weekly Stats'!$A:$A,0)),"") -> 0 | T78: =IFERROR(INDEX('Weekly Stats'!R:R,MATCH($C78,'Weekly Stats'!$A:$A,0)),"") -> 0 | U78: =IFERROR(INDEX('Weekly Stats'!S:S,MATCH($C78,'Weekly Stats'!$A:$A,0)),"") -> 0 | V78: =IFERROR(INDEX('Weekly Stats'!T:T,MATCH($C78,'Weekly Stats'!$A:$A,0)),"") -> 0 | W78: =IFERROR((Q78*3)+V78,0) -> 0 | X78: =IFERROR(ROUND(D78/E78,3),"") | Y78: =IFERROR(ROUND(J78/I78,2),"") -> 4.5 | Z78: =IFERROR(ROUND(M78/L78,2),"") -> 8.12
B79: B_RC2: | C79: {=IFERROR(INDEX(Lineups!D:D,MATCH(B$71&B79,Lineups!A:A&Lineups!B:B,0)),"")} -> Zay Flowers | D79: =IFERROR(INDEX('Weekly Stats'!B:B,MATCH($C79,'Weekly Stats'!$A:$A,0)),"") -> 0 | E79: =IFERROR(INDEX('Weekly Stats'!C:C,MATCH($C79,'Weekly Stats'!$A:$A,0)),"") -> 0 | F79: =IFERROR(INDEX('Weekly Stats'!D:D,MATCH($C79,'Weekly Stats'!$A:$A,0)),"") -> 0 | G79: =IFERROR(INDEX('Weekly Stats'!E:E,MATCH($C79,'Weekly Stats'!$A:$A,0)),"") -> 0 | H79: =IFERROR(INDEX('Weekly Stats'!F:F,MATCH($C79,'Weekly Stats'!$A:$A,0)),"") -> 0 | I79: =IFERROR(INDEX('Weekly Stats'!G:G,MATCH($C79,'Weekly Stats'!$A:$A,0)),"") -> 1 | J79: =IFERROR(INDEX('Weekly Stats'!H:H,MATCH($C79,'Weekly Stats'!$A:$A,0)),"") -> 13 | K79: =IFERROR(INDEX('Weekly Stats'!I:I,MATCH($C79,'Weekly Stats'!$A:$A,0)),"") -> 0 | L79: =IFERROR(INDEX('Weekly Stats'!J:J,MATCH($C79,'Weekly Stats'!$A:$A,0)),"") -> 8 | M79: =IFERROR(INDEX('Weekly Stats'!K:K,MATCH($C79,'Weekly Stats'!$A:$A,0)),"") -> 53 | N79: =IFERROR(INDEX('Weekly Stats'!L:L,MATCH($C79,'Weekly Stats'!$A:$A,0)),"") -> 0 | O79: =IFERROR(INDEX('Weekly Stats'!M:M,MATCH($C79,'Weekly Stats'!$A:$A,0)),"") -> 0 | P79: =IFERROR(INDEX('Weekly Stats'!N:N,MATCH($C79,'Weekly Stats'!$A:$A,0)),"") -> 0 | Q79: =IFERROR(INDEX('Weekly Stats'!O:O,MATCH($C79,'Weekly Stats'!$A:$A,0)),"") -> 0 | R79: =IFERROR(INDEX('Weekly Stats'!P:P,MATCH($C79,'Weekly Stats'!$A:$A,0)),"") -> 0 | S79: =IFERROR(INDEX('Weekly Stats'!Q:Q,MATCH($C79,'Weekly Stats'!$A:$A,0)),"") -> 0 | T79: =IFERROR(INDEX('Weekly Stats'!R:R,MATCH($C79,'Weekly Stats'!$A:$A,0)),"") -> 0 | U79: =IFERROR(INDEX('Weekly Stats'!S:S,MATCH($C79,'Weekly Stats'!$A:$A,0)),"") -> 0 | V79: =IFERROR(INDEX('Weekly Stats'!T:T,MATCH($C79,'Weekly Stats'!$A:$A,0)),"") -> 0 | W79: =IFERROR((Q79*3)+V79,0) -> 0 | X79: =IFERROR(ROUND(D79/E79,3),"") | Y79: =IFERROR(ROUND(J79/I79,2),"") -> 13 | Z79: =IFERROR(ROUND(M79/L79,2),"") -> 6.63
B80: B_RC3: | C80: {=IFERROR(INDEX(Lineups!D:D,MATCH(B$71&B80,Lineups!A:A&Lineups!B:B,0)),"")} -> Tee Higgins | D80: =IFERROR(INDEX('Weekly Stats'!B:B,MATCH($C80,'Weekly Stats'!$A:$A,0)),"") -> 0 | E80: =IFERROR(INDEX('Weekly Stats'!C:C,MATCH($C80,'Weekly Stats'!$A:$A,0)),"") -> 0 | F80: =IFERROR(INDEX('Weekly Stats'!D:D,MATCH($C80,'Weekly Stats'!$A:$A,0)),"") -> 0 | G80: =IFERROR(INDEX('Weekly Stats'!E:E,MATCH($C80,'Weekly Stats'!$A:$A,0)),"") -> 0 | H80: =IFERROR(INDEX('Weekly Stats'!F:F,MATCH($C80,'Weekly Stats'!$A:$A,0)),"") -> 0 | I80: =IFERROR(INDEX('Weekly Stats'!G:G,MATCH($C80,'Weekly Stats'!$A:$A,0)),"") -> 0 | J80: =IFERROR(INDEX('Weekly Stats'!H:H,MATCH($C80,'Weekly Stats'!$A:$A,0)),"") -> 0 | K80: =IFERROR(INDEX('Weekly Stats'!I:I,MATCH($C80,'Weekly Stats'!$A:$A,0)),"") -> 0 | L80: =IFERROR(INDEX('Weekly Stats'!J:J,MATCH($C80,'Weekly Stats'!$A:$A,0)),"") -> 2 | M80: =IFERROR(INDEX('Weekly Stats'!K:K,MATCH($C80,'Weekly Stats'!$A:$A,0)),"") -> 22 | N80: =IFERROR(INDEX('Weekly Stats'!L:L,MATCH($C80,'Weekly Stats'!$A:$A,0)),"") -> 0 | O80: =IFERROR(INDEX('Weekly Stats'!M:M,MATCH($C80,'Weekly Stats'!$A:$A,0)),"") -> 0 | P80: =IFERROR(INDEX('Weekly Stats'!N:N,MATCH($C80,'Weekly Stats'!$A:$A,0)),"") -> 0 | Q80: =IFERROR(INDEX('Weekly Stats'!O:O,MATCH($C80,'Weekly Stats'!$A:$A,0)),"") -> 0 | R80: =IFERROR(INDEX('Weekly Stats'!P:P,MATCH($C80,'Weekly Stats'!$A:$A,0)),"") -> 0 | S80: =IFERROR(INDEX('Weekly Stats'!Q:Q,MATCH($C80,'Weekly Stats'!$A:$A,0)),"") -> 0 | T80: =IFERROR(INDEX('Weekly Stats'!R:R,MATCH($C80,'Weekly Stats'!$A:$A,0)),"") -> 0 | U80: =IFERROR(INDEX('Weekly Stats'!S:S,MATCH($C80,'Weekly Stats'!$A:$A,0)),"") -> 0 | V80: =IFERROR(INDEX('Weekly Stats'!T:T,MATCH($C80,'Weekly Stats'!$A:$A,0)),"") -> 0 | W80: =IFERROR((Q80*3)+V80,0) -> 0 | X80: =IFERROR(ROUND(D80/E80,3),"") | Y80: =IFERROR(ROUND(J80/I80,2),"") | Z80: =IFERROR(ROUND(M80/L80,2),"") -> 11
B81: B_PK1: | C81: {=IFERROR(INDEX(Lineups!D:D,MATCH(B$71&B81,Lineups!A:A&Lineups!B:B,0)),"")} -> Brandon Aubrey | D81: =IFERROR(INDEX('Weekly Stats'!B:B,MATCH($C81,'Weekly Stats'!$A:$A,0)),"") -> 0 | E81: =IFERROR(INDEX('Weekly Stats'!C:C,MATCH($C81,'Weekly Stats'!$A:$A,0)),"") -> 0 | F81: =IFERROR(INDEX('Weekly Stats'!D:D,MATCH($C81,'Weekly Stats'!$A:$A,0)),"") -> 0 | G81: =IFERROR(INDEX('Weekly Stats'!E:E,MATCH($C81,'Weekly Stats'!$A:$A,0)),"") -> 0 | H81: =IFERROR(INDEX('Weekly Stats'!F:F,MATCH($C81,'Weekly Stats'!$A:$A,0)),"") -> 0 | I81: =IFERROR(INDEX('Weekly Stats'!G:G,MATCH($C81,'Weekly Stats'!$A:$A,0)),"") -> 0 | J81: =IFERROR(INDEX('Weekly Stats'!H:H,MATCH($C81,'Weekly Stats'!$A:$A,0)),"") -> 0 | K81: =IFERROR(INDEX('Weekly Stats'!I:I,MATCH($C81,'Weekly Stats'!$A:$A,0)),"") -> 0 | L81: =IFERROR(INDEX('Weekly Stats'!J:J,MATCH($C81,'Weekly Stats'!$A:$A,0)),"") -> 0 | M81: =IFERROR(INDEX('Weekly Stats'!K:K,MATCH($C81,'Weekly Stats'!$A:$A,0)),"") -> 0 | N81: =IFERROR(INDEX('Weekly Stats'!L:L,MATCH($C81,'Weekly Stats'!$A:$A,0)),"") -> 0 | O81: =IFERROR(INDEX('Weekly Stats'!M:M,MATCH($C81,'Weekly Stats'!$A:$A,0)),"") -> 0 | P81: =IFERROR(INDEX('Weekly Stats'!N:N,MATCH($C81,'Weekly Stats'!$A:$A,0)),"") -> 0 | Q81: =IFERROR(INDEX('Weekly Stats'!O:O,MATCH($C81,'Weekly Stats'!$A:$A,0)),"") -> 1 | R81: =IFERROR(INDEX('Weekly Stats'!P:P,MATCH($C81,'Weekly Stats'!$A:$A,0)),"") -> 0 | S81: =IFERROR(INDEX('Weekly Stats'!Q:Q,MATCH($C81,'Weekly Stats'!$A:$A,0)),"") -> 1 | T81: =IFERROR(INDEX('Weekly Stats'!R:R,MATCH($C81,'Weekly Stats'!$A:$A,0)),"") -> 0 | U81: =IFERROR(INDEX('Weekly Stats'!S:S,MATCH($C81,'Weekly Stats'!$A:$A,0)),"") -> 0 | V81: =IFERROR(INDEX('Weekly Stats'!T:T,MATCH($C81,'Weekly Stats'!$A:$A,0)),"") -> 1 | W81: =IFERROR((Q81*3)+V81,0) -> 4 | X81: =IFERROR(ROUND(D81/E81,3),"") | Y81: =IFERROR(ROUND(J81/I81,2),"") | Z81: =IFERROR(ROUND(M81/L81,2),"")
C82: Totals | D82: =SUM(D73:D81) -> 37 | E82: =SUM(E73:E81) -> 60 | F82: =SUM(F73:F81) -> 291 | G82: =SUM(G73:G81) -> 1 | H82: =SUM(H73:H81) -> 2 | I82: =SUM(I73:I81) -> 41 | J82: =SUM(J73:J81) -> 212 | K82: =SUM(K73:K81) -> 1 | ... W82: =SUM(W73:W81) -> 4 | X82: =IFERROR(ROUND(D82/E82,3),0) -> 0.617 | Y82: =IFERROR(ROUND(J82/I82,2),0) -> 5.17 | Z82: =IFERROR(ROUND(M82/L82,2),0) -> 7.69
C83: Team | D83: Sacks | E83: Fumble Rec. | F83: Interceptions | G83: Yards Allowed | H83: Pts. Scored | I83: Pts. Allowed
B84: B_DU1: | C84: {=IFERROR(INDEX(Lineups!D:D,MATCH(B$71&B84,Lineups!A:A&Lineups!B:B,0)),"")} -> Jacksonville Jaguars | D84: =IFERROR(INDEX('Weekly Stats'!C:C,MATCH($C84,'Weekly Stats'!$A:$A,0)),"") -> 1 | E84: =IFERROR(INDEX('Weekly Stats'!D:D,MATCH($C84,'Weekly Stats'!$A:$A,0)),"") -> 0 | F84: =IFERROR(INDEX('Weekly Stats'!E:E,MATCH($C84,'Weekly Stats'!$A:$A,0)),"") -> 0 | G84: =IFERROR(INDEX('Weekly Stats'!F:F,MATCH($C84,'Weekly Stats'!$A:$A,0)),"") -> 232 | H84: =IFERROR(INDEX('Weekly Stats'!K:K,MATCH($C84,'Weekly Stats'!$A:$A,0)),"") -> 0 | I84: =IFERROR(INDEX('Weekly Stats'!G:G,MATCH($C84,'Weekly Stats'!$A:$A,0)),"") -> 17
C85: Head Coach | D85: Pts. Differential
B86: Coach: | C86: {=IFERROR(INDEX(Lineups!D:D,MATCH(B$71&B86,Lineups!A:A&Lineups!B:B,0)),"")} -> John Harbaugh | D86: =IFERROR(INDEX('Weekly Stats'!AC:AC,MATCH(C86,'Weekly Stats'!AB:AB,0))-INDEX('Weekly Stats'!AD:AD,MATCH(C86,'Weekly Stats'!AB:AB,0)),"") -> 0

Sheet Jeantymen's Club
C1: GBRFL | E1: Back to Results | G1: Rosters | H1: Standings | I1: Schedule | J1: Rules/Scoring | K1: Lineups | L1: Transactions
A2: 3 | B2: =IFERROR(INDEX(Data!I:I,MATCH(A2,Data!H:H,0)),"") -> Jeantymen's Club
C3: Player | D3: Completions | E3: Passes | F3: Yards | G3: TD's | H3: INT's | I3: Rushes | J3: Yards | K3: TD's | L3: Receptions | M3: Yards | N3: TD's | O3: Fum Lost | P3: 2Pt | Q3: FG's Made | R3: ="10-39" -> 10-39 | S3: 40-49 | T3: 50+ | U3: 60+ | V3: Extra pts. | W3: Total pts. | X3: Comp. % | Y3: Yards/Rush | Z3: Yards/Rec.
B4: A_QB1: | C4: {=IFERROR(INDEX(Lineups!D:D,MATCH(B$2&B4,Lineups!A:A&Lineups!B:B,0)),"")} -> Tyson Bagent | D4: =IFERROR(INDEX('Weekly Stats'!B:B,MATCH($C4,'Weekly Stats'!$A:$A,0)),"") -> 12 | E4: =IFERROR(INDEX('Weekly Stats'!C:C,MATCH($C4,'Weekly Stats'!$A:$A,0)),"") -> 21 | F4: =IFERROR(INDEX('Weekly Stats'!D:D,MATCH($C4,'Weekly Stats'!$A:$A,0)),"") -> 87 | G4: =IFERROR(INDEX('Weekly Stats'!E:E,MATCH($C4,'Weekly Stats'!$A:$A,0)),"") -> 0 | H4: =IFERROR(INDEX('Weekly Stats'!F:F,MATCH($C4,'Weekly Stats'!$A:$A,0)),"") -> 2 | I4: =IFERROR(INDEX('Weekly Stats'!G:G,MATCH($C4,'Weekly Stats'!$A:$A,0)),"") -> 3 | J4: =IFERROR(INDEX('Weekly Stats'!H:H,MATCH($C4,'Weekly Stats'!$A:$A,0)),"") -> 17 | K4: =IFERROR(INDEX('Weekly Stats'!I:I,MATCH($C4,'Weekly Stats'!$A:$A,0)),"") -> 0 | L4: =IFERROR(INDEX('Weekly Stats'!J:J,MATCH($C4,'Weekly Stats'!$A:$A,0)),"") -> 0 | M4: =IFERROR(INDEX('Weekly Stats'!K:K,MATCH($C4,'Weekly Stats'!$A:$A,0)),"") -> 0 | N4: =IFERROR(INDEX('Weekly Stats'!L:L,MATCH($C4,'Weekly Stats'!$A:$A,0)),"") -> 0 | O4: =IFERROR(INDEX('Weekly Stats'!M:M,MATCH($C4,'Weekly Stats'!$A:$A,0)),"") -> 0 | P4: =IFERROR(INDEX('Weekly Stats'!N:N,MATCH($C4,'Weekly Stats'!$A:$A,0)),"") -> 0 | Q4: =IFERROR(INDEX('Weekly Stats'!O:O,MATCH($C4,'Weekly Stats'!$A:$A,0)),"") -> 0 | R4: =IFERROR(INDEX('Weekly Stats'!P:P,MATCH($C4,'Weekly Stats'!$A:$A,0)),"") -> 0 | S4: =IFERROR(INDEX('Weekly Stats'!Q:Q,MATCH($C4,'Weekly Stats'!$A:$A,0)),"") -> 0 | T4: =IFERROR(INDEX('Weekly Stats'!R:R,MATCH($C4,'Weekly Stats'!$A:$A,0)),"") -> 0 | U4: =IFERROR(INDEX('Weekly Stats'!S:S,MATCH($C4,'Weekly Stats'!$A:$A,0)),"") -> 0 | V4: =IFERROR(INDEX('Weekly Stats'!T:T,MATCH($C4,'Weekly Stats'!$A:$A,0)),"") -> 0 | W4: =IFERROR((Q4*3)+V4,0) -> 0 | X4: =IFERROR(ROUND(D4/E4,3),"") -> 0.571 | Y4: =IFERROR(ROUND(J4/I4,2),"") -> 5.67 | Z4: =IFERROR(ROUND(M4/L4,2),"")
B5: A_QB2: | C5: {=IFERROR(INDEX(Lineups!D:D,MATCH(B$2&B5,Lineups!A:A&Lineups!B:B,0)),"")} -> Jalon Daniels | D5: =IFERROR(INDEX('Weekly Stats'!B:B,MATCH($C5,'Weekly Stats'!$A:$A,0)),"") -> 19 | E5: =IFERROR(INDEX('Weekly Stats'!C:C,MATCH($C5,'Weekly Stats'!$A:$A,0)),"") -> 25 | F5: =IFERROR(INDEX('Weekly Stats'!D:D,MATCH($C5,'Weekly Stats'!$A:$A,0)),"") -> 189 | G5: =IFERROR(INDEX('Weekly Stats'!E:E,MATCH($C5,'Weekly Stats'!$A:$A,0)),"") -> 1 | H5: =IFERROR(INDEX('Weekly Stats'!F:F,MATCH($C5,'Weekly Stats'!$A:$A,0)),"") -> 0 | I5: =IFERROR(INDEX('Weekly Stats'!G:G,MATCH($C5,'Weekly Stats'!$A:$A,0)),"") -> 7 | J5: =IFERROR(INDEX('Weekly Stats'!H:H,MATCH($C5,'Weekly Stats'!$A:$A,0)),"") -> 23 | K5: =IFERROR(INDEX('Weekly Stats'!I:I,MATCH($C5,'Weekly Stats'!$A:$A,0)),"") -> 0 | L5: =IFERROR(INDEX('Weekly Stats'!J:J,MATCH($C5,'Weekly Stats'!$A:$A,0)),"") -> 0 | M5: =IFERROR(INDEX('Weekly Stats'!K:K,MATCH($C5,'Weekly Stats'!$A:$A,0)),"") -> 0 | N5: =IFERROR(INDEX('Weekly Stats'!L:L,MATCH($C5,'Weekly Stats'!$A:$A,0)),"") -> 0 | O5: =IFERROR(INDEX('Weekly Stats'!M:M,MATCH($C5,'Weekly Stats'!$A:$A,0)),"") -> 0 | P5: =IFERROR(INDEX('Weekly Stats'!N:N,MATCH($C5,'Weekly Stats'!$A:$A,0)),"") -> 0 | Q5: =IFERROR(INDEX('Weekly Stats'!O:O,MATCH($C5,'Weekly Stats'!$A:$A,0)),"") -> 0 | R5: =IFERROR(INDEX('Weekly Stats'!P:P,MATCH($C5,'Weekly Stats'!$A:$A,0)),"") -> 0 | S5: =IFERROR(INDEX('Weekly Stats'!Q:Q,MATCH($C5,'Weekly Stats'!$A:$A,0)),"") -> 0 | T5: =IFERROR(INDEX('Weekly Stats'!R:R,MATCH($C5,'Weekly Stats'!$A:$A,0)),"") -> 0 | U5: =IFERROR(INDEX('Weekly Stats'!S:S,MATCH($C5,'Weekly Stats'!$A:$A,0)),"") -> 0 | V5: =IFERROR(INDEX('Weekly Stats'!T:T,MATCH($C5,'Weekly Stats'!$A:$A,0)),"") -> 0 | W5: =IFERROR((Q5*3)+V5,0) -> 0 | X5: =IFERROR(ROUND(D5/E5,3),"") -> 0.76 | Y5: =IFERROR(ROUND(J5/I5,2),"") -> 3.29 | Z5: =IFERROR(ROUND(M5/L5,2),"")
B6: A_RB1: | C6: {=IFERROR(INDEX(Lineups!D:D,MATCH(B$2&B6,Lineups!A:A&Lineups!B:B,0)),"")} -> Javonte Williams | D6: =IFERROR(INDEX('Weekly Stats'!B:B,MATCH($C6,'Weekly Stats'!$A:$A,0)),"") -> 0 | E6: =IFERROR(INDEX('Weekly Stats'!C:C,MATCH($C6,'Weekly Stats'!$A:$A,0)),"") -> 0 | F6: =IFERROR(INDEX('Weekly Stats'!D:D,MATCH($C6,'Weekly Stats'!$A:$A,0)),"") -> 0 | G6: =IFERROR(INDEX('Weekly Stats'!E:E,MATCH($C6,'Weekly Stats'!$A:$A,0)),"") -> 0 | H6: =IFERROR(INDEX('Weekly Stats'!F:F,MATCH($C6,'Weekly Stats'!$A:$A,0)),"") -> 0 | I6: =IFERROR(INDEX('Weekly Stats'!G:G,MATCH($C6,'Weekly Stats'!$A:$A,0)),"") -> 12 | J6: =IFERROR(INDEX('Weekly Stats'!H:H,MATCH($C6,'Weekly Stats'!$A:$A,0)),"") -> 45 | K6: =IFERROR(INDEX('Weekly Stats'!I:I,MATCH($C6,'Weekly Stats'!$A:$A,0)),"") -> 1 | L6: =IFERROR(INDEX('Weekly Stats'!J:J,MATCH($C6,'Weekly Stats'!$A:$A,0)),"") -> 2 | M6: =IFERROR(INDEX('Weekly Stats'!K:K,MATCH($C6,'Weekly Stats'!$A:$A,0)),"") -> 17 | N6: =IFERROR(INDEX('Weekly Stats'!L:L,MATCH($C6,'Weekly Stats'!$A:$A,0)),"") -> 0 | O6: =IFERROR(INDEX('Weekly Stats'!M:M,MATCH($C6,'Weekly Stats'!$A:$A,0)),"") -> 0 | P6: =IFERROR(INDEX('Weekly Stats'!N:N,MATCH($C6,'Weekly Stats'!$A:$A,0)),"") -> 0 | Q6: =IFERROR(INDEX('Weekly Stats'!O:O,MATCH($C6,'Weekly Stats'!$A:$A,0)),"") -> 0 | R6: =IFERROR(INDEX('Weekly Stats'!P:P,MATCH($C6,'Weekly Stats'!$A:$A,0)),"") -> 0 | S6: =IFERROR(INDEX('Weekly Stats'!Q:Q,MATCH($C6,'Weekly Stats'!$A:$A,0)),"") -> 0 | T6: =IFERROR(INDEX('Weekly Stats'!R:R,MATCH($C6,'Weekly Stats'!$A:$A,0)),"") -> 0 | U6: =IFERROR(INDEX('Weekly Stats'!S:S,MATCH($C6,'Weekly Stats'!$A:$A,0)),"") -> 0 | V6: =IFERROR(INDEX('Weekly Stats'!T:T,MATCH($C6,'Weekly Stats'!$A:$A,0)),"") -> 0 | W6: =IFERROR((Q6*3)+V6,0) -> 0 | X6: =IFERROR(ROUND(D6/E6,3),"") | Y6: =IFERROR(ROUND(J6/I6,2),"") -> 3.75 | Z6: =IFERROR(ROUND(M6/L6,2),"") -> 8.5
B7: A_RB2: | C7: {=IFERROR(INDEX(Lineups!D:D,MATCH(B$2&B7,Lineups!A:A&Lineups!B:B,0)),"")} -> Ashton Jeanty | D7: =IFERROR(INDEX('Weekly Stats'!B:B,MATCH($C7,'Weekly Stats'!$A:$A,0)),"") -> 0 | E7: =IFERROR(INDEX('Weekly Stats'!C:C,MATCH($C7,'Weekly Stats'!$A:$A,0)),"") -> 0 | F7: =IFERROR(INDEX('Weekly Stats'!D:D,MATCH($C7,'Weekly Stats'!$A:$A,0)),"") -> 0 | G7: =IFERROR(INDEX('Weekly Stats'!E:E,MATCH($C7,'Weekly Stats'!$A:$A,0)),"") -> 0 | H7: =IFERROR(INDEX('Weekly Stats'!F:F,MATCH($C7,'Weekly Stats'!$A:$A,0)),"") -> 0 | I7: =IFERROR(INDEX('Weekly Stats'!G:G,MATCH($C7,'Weekly Stats'!$A:$A,0)),"") -> 10 | J7: =IFERROR(INDEX('Weekly Stats'!H:H,MATCH($C7,'Weekly Stats'!$A:$A,0)),"") -> 27 | K7: =IFERROR(INDEX('Weekly Stats'!I:I,MATCH($C7,'Weekly Stats'!$A:$A,0)),"") -> 0 | L7: =IFERROR(INDEX('Weekly Stats'!J:J,MATCH($C7,'Weekly Stats'!$A:$A,0)),"") -> 3 | M7: =IFERROR(INDEX('Weekly Stats'!K:K,MATCH($C7,'Weekly Stats'!$A:$A,0)),"") -> 50 | N7: =IFERROR(INDEX('Weekly Stats'!L:L,MATCH($C7,'Weekly Stats'!$A:$A,0)),"") -> 0 | O7: =IFERROR(INDEX('Weekly Stats'!M:M,MATCH($C7,'Weekly Stats'!$A:$A,0)),"") -> 0 | P7: =IFERROR(INDEX('Weekly Stats'!N:N,MATCH($C7,'Weekly Stats'!$A:$A,0)),"") -> 0 | Q7: =IFERROR(INDEX('Weekly Stats'!O:O,MATCH($C7,'Weekly Stats'!$A:$A,0)),"") -> 0 | R7: =IFERROR(INDEX('Weekly Stats'!P:P,MATCH($C7,'Weekly Stats'!$A:$A,0)),"") -> 0 | S7: =IFERROR(INDEX('Weekly Stats'!Q:Q,MATCH($C7,'Weekly Stats'!$A:$A,0)),"") -> 0 | T7: =IFERROR(INDEX('Weekly Stats'!R:R,MATCH($C7,'Weekly Stats'!$A:$A,0)),"") -> 0 | U7: =IFERROR(INDEX('Weekly Stats'!S:S,MATCH($C7,'Weekly Stats'!$A:$A,0)),"") -> 0 | V7: =IFERROR(INDEX('Weekly Stats'!T:T,MATCH($C7,'Weekly Stats'!$A:$A,0)),"") -> 0 | W7: =IFERROR((Q7*3)+V7,0) -> 0 | X7: =IFERROR(ROUND(D7/E7,3),"") | Y7: =IFERROR(ROUND(J7/I7,2),"") -> 2.7 | Z7: =IFERROR(ROUND(M7/L7,2),"") -> 16.67
