Workbook

Sheet Data
A1: Week | C1: Week | D1: Team | E1: Opp | F1: Game | H1: TEAM# | I1: NAME | J1: Re columns I and J, from season to season, as necessary: 1) change each team's name and 2) move it to the row that corresponds to its team number for the new season WITH THE SYMBOL in column J.
A2: 5 | C2: 1 | D2: 1 | E2: 10 | F2: A | H2: 1 | I2: Chili's Dawgs | J2: 🚨
C3: 1 | D3: 1 | E3: 7 | F3: B | H3: 2 | I3: Rough Rodgers Goes Riding | J3: 😇
C4: 1 | D4: 2 | E4: 6 | F4: A | H4: 3 | I4: Jeantymen's Club | J4: 🥇
C5: 1 | D5: 2 | E5: 3 | F5: B | H5: 4 | I5: On these Brocks I will ... | J5: 𝕏
C6: 1 | D6: 3 | E6: 5 | F6: A | H6: 5 | I6: Shmall Boto | J6: 🤙
C7: 1 | D7: 3 | E7: 2 | F7: B | H7: 6 | I7: Nacua Matata | J7: 🍆
C8: 1 | D8: 4 | E8: 9 | F8: A | H8: 7 | I8: Bitch-Slapped by my Bi'Johnson | J8: 🤑
C9: 1 | D9: 4 | E9: 10 | F9: B | H9: 8 | I9: Ctrl Alt Defeat | J9: 🤖
C10: 1 | D10: 5 | E10: 3 | F10: A | H10: 9 | I10: Runnin' It Back... Again | J10: 🧐
C11: 1 | D11: 5 | E11: 6 | F11: B | H11: 10 | I11: Sekundeez | J11: 🏝
C12: 1 | D12: 6 | E12: 2 | F12: A
C13: 1 | D13: 6 | E13: 5 | F13: B
C14: 1 | D14: 7 | E14: 8 | F14: A
C15: 1 | D15: 7 | E15: 1 | F15: B
C16: 1 | D16: 8 | E16: 7 | F16: A
C17: 1 | D17: 8 | E17: 9 | F17: B
C18: 1 | D18: 9 | E18: 4 | F18: A
C19: 1 | D19: 9 | E19: 8 | F19: B
C20: 1 | D20: 10 | E20: 1 | F20: A
C21: 1 | D21: 10 | E21: 4 | F21: B
C22: 2 | D22: 1 | E22: 4 | F22: A
C23: 2 | D23: 1 | E23: 2 | F23: B
... C271: 17 | D271: 10 | E271: 8 | F271: A
C272: 18 | D272: TBD | E272: TBD
C273: 18 | D273: TBD | E273: TBD
C274: 18 | D274: TBD | E274: TBD
C275: 18 | D275: TBD | E275: TBD
C276: 18 | D276: TBD | E276: TBD
C277: 18 | D277: TBD | E277: TBD
C278: 18 | D278: TBD | E278: TBD
C279: 18 | D279: TBD | E279: TBD
C280: 18 | D280: TBD | E280: TBD
C281: 18 | D281: TBD | E281: TBD
C282: 18 | D282: TBD | E282: TBD
C283: 18 | D283: TBD | E283: TBD
... C291: 18 | D291: TBD | E291: TBD

Sheet Weekly Stats
A1: Team Name | B1: TNAME Code | C1: Sack | D1: FumL | E1: Int | F1: ToYd | G1: Pts. Allowed | H1: Safety | I1: St2Pt | J1: TDs | K1: Pts. Scored (Calculated) | W1: TNAME Code | X1: Team Name | AA1: TEAM | AB1: HC | AC1: TM PTS | AD1: OPP PTS
A2: =VLOOKUP(B2,$W$1:$X$34,2,0) -> No Defense | B2: NOD | F2: 999 | G2: 99 | K2: =($H2*2)+($I2*2)+($J2*6) -> 0 | W2: ARI | X2: Arizona Cardinals | AA2: ARI | AB2: Mike LaFleur | AC2: 21 | AD2: 45
A3: =INDEX(X:X,MATCH(B3,W:W,0)) -> Arizona Cardinals | B3: ARI | C3: 3 | D3: 0 | E3: 0 | F3: 412 | G3: 45 | H3: 0 | I3: 0 | J3: 0 | K3: =(H3*2)+(I3*2)+(J3*6) -> 0 | W3: ATL | X3: Atlanta Falcons | AA3: ATL | AB3: Kevin Stefanski | AC3: 23 | AD3: 30
A4: =INDEX(X:X,MATCH(B4,W:W,0)) -> Atlanta Falcons | B4: ATL | C4: 4 | D4: 1 | E4: 0 | F4: 391 | G4: 30 | H4: 0 | I4: 0 | J4: 1 | K4: =(H4*2)+(I4*2)+(J4*6) -> 6 | W4: BAL | X4: Baltimore Ravens | AA4: BAL | AB4: Jesse Minter | AC4: 30 | AD4: 23
A5: =INDEX(X:X,MATCH(B5,W:W,0)) -> Baltimore Ravens | B5: BAL | C5: 3 | D5: 0 | E5: 1 | F5: 367 | G5: 23 | H5: 0 | I5: 0 | J5: 0 | K5: =(H5*2)+(I5*2)+(J5*6) -> 0 | W5: BUF | X5: Buffalo Bills | AA5: BUF | AB5: Joe Brady | AC5: 37 | AD5: 34
A6: =INDEX(X:X,MATCH(B6,W:W,0)) -> Buffalo Bills | B6: BUF | C6: 1 | D6: 0 | E6: 0 | F6: 454 | G6: 34 | H6: 0 | I6: 0 | J6: 0 | K6: =(H6*2)+(I6*2)+(J6*6) -> 0 | W6: CAR | X6: Carolina Panthers | AA6: CHI | AB6: Ben Johnson | AC6: 7 | AD6: 31
A7: =INDEX(X:X,MATCH(B7,W:W,0)) -> Chicago Bears | B7: CHI | C7: 2 | D7: 0 | E7: 0 | F7: 428 | G7: 31 | H7: 0 | I7: 0 | J7: 0 | K7: =(H7*2)+(I7*2)+(J7*6) -> 0 | W7: CHI | X7: Chicago Bears | AA7: CIN | AB7: Zac Taylor | AC7: 31 | AD7: 24
A8: =INDEX(X:X,MATCH(B8,W:W,0)) -> Cincinnati Bengals | B8: CIN | C8: 3 | D8: 1 | E8: 2 | F8: 331 | G8: 24 | H8: 0 | I8: 0 | J8: 0 | K8: =(H8*2)+(I8*2)+(J8*6) -> 0 | W8: CIN | X8: Cincinnati Bengals | AA8: CLE | AB8: Todd Monken | AC8: 12 | AD8: 17
A9: =INDEX(X:X,MATCH(B9,W:W,0)) -> Cleveland Browns | B9: CLE | C9: 4 | D9: 2 | E9: 0 | F9: 276 | G9: 17 | H9: 0 | I9: 0 | J9: 0 | K9: =(H9*2)+(I9*2)+(J9*6) -> 0 | W9: CLE | X9: Cleveland Browns | AA9: DAL | AB9: Brian Schottenheimer | AC9: 16 | AD9: 24
A10: =INDEX(X:X,MATCH(B10,W:W,0)) -> Dallas Cowboys | B10: DAL | C10: 1 | D10: 0 | E10: 0 | F10: 419 | G10: 24 | H10: 0 | I10: 0 | J10: 0 | K10: =(H10*2)+(I10*2)+(J10*6) -> 0 | W10: DAL | X10: Dallas Cowboys | AA10: DEN | AB10: Sean Payton | AC10: 23 | AD10: 17
A11: =INDEX(X:X,MATCH(B11,W:W,0)) -> Denver Broncos | B11: DEN | C11: 5 | D11: 2 | E11: 1 | F11: 237 | G11: 17 | H11: 0 | I11: 0 | J11: 0 | K11: =(H11*2)+(I11*2)+(J11*6) -> 0 | W11: DEN | X11: Denver Broncos | AA11: DET | AB11: Dan Campbell | AC11: 45 | AD11: 21
A12: =INDEX(X:X,MATCH(B12,W:W,0)) -> Detroit Lions | B12: DET | C12: 5 | D12: 0 | E12: 1 | F12: 327 | G12: 21 | H12: 0 | I12: 0 | J12: 0 | K12: =(H12*2)+(I12*2)+(J12*6) -> 0 | W12: DET | X12: Detroit Lions | AA12: GNB | AB12: Matt LaFleur | AC12: 31 | AD12: 7
A13: =INDEX(X:X,MATCH(B13,W:W,0)) -> Green Bay Packers | B13: GNB | C13: 4 | D13: 2 | E13: 3 | F13: 246 | G13: 7 | H13: 0 | I13: 0 | J13: 0 | K13: =(H13*2)+(I13*2)+(J13*6) -> 0 | W13: GNB | X13: Green Bay Packers | AA13: HOU | AB13: DeMeco Ryans | AC13: 26 | AD13: 3
A14: =INDEX(X:X,MATCH(B14,W:W,0)) -> Houston Texans | B14: HOU | C14: 4 | D14: 1 | E14: 1 | F14: 187 | G14: 3 | H14: 0 | I14: 0 | J14: 0 | K14: =(H14*2)+(I14*2)+(J14*6) -> 0 | W14: HOU | X14: Houston Texans | AA14: IND | AB14: Shane Steichen | AC14: 22 | AD14: 34
... A31: =INDEX(X:X,MATCH(B31,W:W,0)) -> Tennessee Titans | B31: TEN | C31: 2 | D31: 0 | E31: 0 | F31: 329 | G31: 26 | H31: 0 | I31: 0 | J31: 0 | K31: =(H31*2)+(I31*2)+(J31*6) -> 0 | W31: TAM | X31: Tampa Bay Buccaneers | AA31: WAS | AB31: Dan Quinn | AC31: 27 | AD31: 27
A32: =INDEX(X:X,MATCH(B32,W:W,0)) -> Washington Commanders | B32: WAS | C32: 2 | D32: 2 | E32: 0 | F32: 408 | G32: 27 | H32: 0 | I32: 0 | J32: 0 | K32: =(H32*2)+(I32*2)+(J32*6) -> 0 | W32: TEN | X32: Tennessee Titans
W33: WAS | X33: Washington Commanders
W34: NOD | X34: No Defense | AB34: No Body | AC34: 0 | AD34: 99
K35: This column is calculated =
A45: Name | B45: Comp | C45: ATT | D45: PaYD | E45: PaTD | F45: Intc | G45: Rush | H45: RuYD | I45: RuTD | J45: Rcpt | K45: ReYD | L45: ReTD | M45: FL | N45: 2Pt | O45: FG | P45: FG30 | Q45: FG40 | R45: FG50 | S45: FG60 | T45: XP
A46: Andre Szmyt | B46: 0 | C46: 0 | D46: 0 | E46: 0 | F46: 0 | G46: 0 | H46: 0 | I46: 0 | J46: 0 | K46: 0 | L46: 0 | M46: 0 | N46: 0 | O46: 2 | P46: 1 | Q46: 1 | R46: 0 | S46: 0 | T46: 0
A47: Andy Borregales | B47: 0 | C47: 0 | D47: 0 | E47: 0 | F47: 0 | G47: 0 | H47: 0 | I47: 0 | J47: 0 | K47: 0 | L47: 0 | M47: 0 | N47: 0 | O47: 1 | P47: 1 | Q47: 0 | R47: 0 | S47: 0 | T47: 6
A48: Brandon Aubrey | B48: 0 | C48: 0 | D48: 0 | E48: 0 | F48: 0 | G48: 0 | H48: 0 | I48: 0 | J48: 0 | K48: 0 | L48: 0 | M48: 0 | N48: 0 | O48: 1 | P48: 0 | Q48: 1 | R48: 0 | S48: 0 | T48: 1
A49: Cairo Santos | B49: 0 | C49: 0 | D49: 0 | E49: 0 | F49: 0 | G49: 0 | H49: 0 | I49: 0 | J49: 0 | K49: 0 | L49: 0 | M49: 0 | N49: 0 | O49: 0 | P49: 0 | Q49: 0 | R49: 0 | S49: 0 | T49: 1
A50: Cam Little | B50: 0 | C50: 0 | D50: 0 | E50: 0 | F50: 0 | G50: 0 | H50: 0 | I50: 0 | J50: 0 | K50: 0 | L50: 0 | M50: 0 | N50: 0 | O50: 2 | P50: 1 | Q50: 0 | R50: 1 | S50: 0 | T50: 1
A51: Cameron Dicker | B51: 0 | C51: 0 | D51: 0 | E51: 0 | F51: 0 | G51: 0 | H51: 0 | I51: 0 | J51: 0 | K51: 0 | L51: 0 | M51: 0 | N51: 0 | O51: 1 | P51: 0 | Q51: 1 | R51: 0 | S51: 0 | T51: 2
A52: Chad Ryland | B52: 0 | C52: 0 | D52: 0 | E52: 0 | F52: 0 | G52: 0 | H52: 0 | I52: 0 | J52: 0 | K52: 0 | L52: 0 | M52: 0 | N52: 0 | O52: 0 | P52: 0 | Q52: 0 | R52: 0 | S52: 0 | T52: 3
A53: Chase McLaughlin | B53: 0 | C53: 0 | D53: 0 | E53: 0 | F53: 0 | G53: 0 | H53: 0 | I53: 0 | J53: 0 | K53: 0 | L53: 0 | M53: 0 | N53: 0 | O53: 1 | P53: 0 | Q53: 1 | R53: 0 | S53: 0 | T53: 3
A54: Chris Boswell | B54: 0 | C54: 0 | D54: 0 | E54: 0 | F54: 0 | G54: 0 | H54: 0 | I54: 0 | J54: 0 | K54: 0 | L54: 0 | M54: 0 | N54: 0 | O54: 2 | P54: 0 | Q54: 1 | R54: 1 | S54: 0 | T54: 4
A55: Daniel Carlson | B55: 0 | C55: 0 | D55: 0 | E55: 0 | F55: 0 | G55: 0 | H55: 0 | I55: 0 | J55: 0 | K55: 0 | L55: 0 | M55: 0 | N55: 0 | O55: 0 | P55: 0 | Q55: 0 | R55: 0 | S55: 0 | T55: 1
A56: Dominic Zvada | B56: 0 | C56: 0 | D56: 0 | E56: 0 | F56: 0 | G56: 0 | H56: 0 | I56: 0 | J56: 0 | K56: 0 | L56: 0 | M56: 0 | N56: 0 | O56: 2 | P56: 0 | Q56: 0 | R56: 2 | S56: 0 | T56: 3
A57: Drew Stevens | B57: 0 | C57: 0 | D57: 0 | E57: 0 | F57: 0 | G57: 0 | H57: 0 | I57: 0 | J57: 0 | K57: 0 | L57: 0 | M57: 0 | N57: 0 | O57: 2 | P57: 1 | Q57: 1 | R57: 0 | S57: 0 | T57: 1
... A75: Will Reichard | B75: 0 | C75: 0 | D75: 0 | E75: 0 | F75: 0 | G75: 0 | H75: 0 | I75: 0 | J75: 0 | K75: 0 | L75: 0 | M75: 0 | N75: 0 | O75: 3 | P75: 0 | Q75: 1 | R75: 2 | S75: 0 | T75: 2
A88: Name | B88: Comp | C88: ATT | D88: PaYD | E88: PaTD | F88: Intc | G88: Rush | H88: RuYD | I88: RuTD | J88: Rcpt | K88: ReYD | L88: ReTD | M88: FL | N88: 2Pt
A89: Aaron Jones | B89: 0 | C89: 0 | D89: 0 | E89: 0 | F89: 0 | G89: 25 | H89: 113 | I89: 1 | J89: 3 | K89: 4 | L89: 0 | M89: 1 | N89: 0
A90: Aaron Rodgers | B90: 22 | C90: 31 | D90: 235 | E90: 3 | F90: 0 | G90: 1 | H90: 6 | I90: 0 | J90: 0 | K90: 0 | L90: 0 | M90: 0 | N90: 0
A91: Adam Prentice | B91: 0 | C91: 0 | D91: 0 | E91: 0 | F91: 0 | G91: 1 | H91: 3 | I91: 0 | J91: 0 | K91: 0 | L91: 0 | M91: 0 | N91: 0
A92: AJ Barner | B92: 0 | C92: 0 | D92: 0 | E92: 0 | F92: 0 | G92: 0 | H92: 0 | I92: 0 | J92: 3 | K92: 20 | L92: 0 | M92: 0 | N92: 0
A93: Alvin Kamara | B93: 0 | C93: 0 | D93: 0 | E93: 0 | F93: 0 | G93: 3 | H93: 12 | I93: 0 | J93: 2 | K93: -6 | L93: 0 | M93: 0 | N93: 0
A94: Amon-Ra St. Brown | B94: 0 | C94: 0 | D94: 0 | E94: 0 | F94: 0 | G94: 0 | H94: 0 | I94: 0 | J94: 6 | K94: 69 | L94: 0 | M94: 0 | N94: 0
...

Sheet Lineups
A1: On these Brocks I will ... | B1: Coach: | C1: Sean Payton | D1: Sean Payton | E1: Sean Payton | H1: Z Commissioner's override column
A2: On these Brocks I will ... | B2: A_QB1: | C2: Trevor Lawrence | D2: Trevor Lawrence | E2: Trevor Lawrence | F2: Trevor Lawrence
A3: On these Brocks I will ... | B3: A_QB2: | C3: Sam Darnold | D3: Sam Darnold | E3: Sam Darnold | F3: Sam Darnold
A4: On these Brocks I will ... | B4: A_QB3: | C4: Brock Purdy | D4: Brock Purdy | E4: Brock Purdy
A5: On these Brocks I will ... | B5: A_QB4: | C5: Malik Willis | D5: Malik Willis | E5: Malik Willis
A6: On these Brocks I will ... | B6: A_QB5: | C6: Shedeur Sanders | D6: No Body
A7: On these Brocks I will ... | B7: A_QB6: | C7: N/A | D7: No Body
A8: On these Brocks I will ... | B8: A_Other_QBs: | D8: No Body
A9: On these Brocks I will ... | B9: A_RB1: | C9: Derrick Henry | D9: Derrick Henry | E9: Derrick Henry | F9: Derrick Henry
A10: On these Brocks I will ... | B10: A_RB2: | C10: Jacory Croskey-Merritt | D10: Jacory Croskey-Merritt | E10: Jacory Croskey-Merritt | F10: Jacory Croskey-Merritt
A11: On these Brocks I will ... | B11: A_RB3: | C11: Emanuel Wilson | D11: J.K. Dobbins | F11: J.K. Dobbins
A12: On these Brocks I will ... | B12: A_RB4: | C12: J.K. Dobbins | D12: Chris Rodriguez | E12: J.K. Dobbins
A13: On these Brocks I will ... | B13: A_RB5: | C13: Chris Rodriguez | D13: No Body | E13: Chris Rodriguez
A14: On these Brocks I will ... | B14: A_RB6: | C14: Will Shipley | D14: No Body
A15: On these Brocks I will ... | B15: A_RB7: | C15: Kenneth Walker III | D15: No Body
A16: On these Brocks I will ... | B16: A_Other_RBs: | D16: No Body
A17: On these Brocks I will ... | B17: A_RC1: | C17: Brock Bowers | D17: Brock Bowers | E17: Brock Bowers | F17: Garrett Wilson
A18: On these Brocks I will ... | B18: A_RC2: | C18: Garrett Wilson | D18: Garrett Wilson | E18: Garrett Wilson | F18: Garrett Wilson
A19: On these Brocks I will ... | B19: A_RC3: | C19: (First Free-agent RC Picked Up) | D19: George Kittle | F19: George Kittle
A20: On these Brocks I will ... | B20: A_RC4: | C20: (Second Free-agent RC Picked Up) | D20: No Body
A21: On these Brocks I will ... | B21: A_RC5: | C21: Ladd McConkey | D21: No Body
A22: On these Brocks I will ... | B22: A_RC6: | C22: Alec Pierce | D22: No Body
A23: On these Brocks I will ... | B23: A_RC7: | C23: De'Zhaun Stribling | D23: No Body
A24: On these Brocks I will ... | B24: A_Other_RCs: | D24: No Body
A25: On these Brocks I will ... | B25: A_PK1: | C25: Tyler Loop | D25: Tyler Loop | E25: Tyler Loop | F25: Tyler Loop
A26: On these Brocks I will ... | B26: A_PK2: | C26: N/A | D26: No Body
A27: On these Brocks I will ... | B27: A_Other_PKs: | D27: No Body
A28: On these Brocks I will ... | B28: A_DU1: | C28: Chicago Bears | D28: Chicago Bears | E28: Chicago Bears | F28: New York Jets
A29: On these Brocks I will ... | B29: A_DU2: | C29: New York Jets | D29: New York Jets | E29: New York Jets
A30: On these Brocks I will ... | B30: A_DU3: | C30: N/A | D30: No Defense
A31: On these Brocks I will ... | B31: A_Other_DUs: | D31: No Defense
A32: On these Brocks I will ... | B32: B_QB1: | C32: Trevor Lawrence | D32: Trevor Lawrence | E32: Trevor Lawrence | F32: Trevor Lawrence
A33: On these Brocks I will ... | B33: B_QB2: | C33: Brock Purdy | D33: Brock Purdy | E33: Brock Purdy | F33: Sam Darnold
A34: On these Brocks I will ... | B34: B_QB3: | C34: Sam Darnold | D34: Sam Darnold | E34: Sam Darnold
A35: On these Brocks I will ... | B35: B_QB4: | C35: Malik Willis | D35: Malik Willis | E35: Malik Willis
A36: On these Brocks I will ... | B36: B_QB5: | C36: Shedeur Sanders | D36: No Body
A37: On these Brocks I will ... | B37: B_QB6: | C37: N/A | D37: No Body
A38: On these Brocks I will ... | B38: B_Other_QBs: | D38: No Body
A39: On these Brocks I will ... | B39: B_RB1: | C39: Derrick Henry | D39: Derrick Henry | E39: Derrick Henry | F39: Derrick Henry
A40: On these Brocks I will ... | B40: B_RB2: | C40: Jacory Croskey-Merritt | D40: Jacory Croskey-Merritt | E40: Jacory Croskey-Merritt | F40: Jacory Croskey-Merritt
...

Sheet Chili's Dawgs
C1: GBRFL | E1: Back to Results | G1: Rosters | H1: Standings | I1: Schedule | J1: Rules/Scoring | K1: Lineups | L1: Transactions
A2: 1 | B2: =IFERROR(INDEX(Data!I:I,MATCH(A2,Data!H:H,0)),"") -> Chili's Dawgs
C3: Player | D3: Completions | E3: Passes | F3: Yards | G3: TD's | H3: INT's | I3: Rushes | J3: Yards | K3: TD's | L3: Receptions | M3: Yards | N3: TD's | O3: Fum Lost | P3: 2Pt | Q3: FG's Made | R3: ="10-39" -> 10-39 | S3: 40-49 | T3: 50+ | U3: 60+ | V3: Extra pts. | W3: Total pts. | X3: Comp. % | Y3: Yards/Rush | Z3: Yards/Rec.
B4: A_QB1: | C4: {=IFERROR(INDEX(Lineups!D:D,MATCH(B$2&B4,Lineups!A:A&Lineups!B:B,0)),"")} -> Jordan Love | D4: =IFERROR(INDEX('Weekly Stats'!B:B,MATCH($C4,'Weekly Stats'!$A:$A,0)),"") -> 25 | E4: =IFERROR(INDEX('Weekly Stats'!C:C,MATCH($C4,'Weekly Stats'!$A:$A,0)),"") -> 31 | F4: =IFERROR(INDEX('Weekly Stats'!D:D,MATCH($C4,'Weekly Stats'!$A:$A,0)),"") -> 367 | G4: =IFERROR(INDEX('Weekly Stats'!E:E,MATCH($C4,'Weekly Stats'!$A:$A,0)),"") -> 2 | H4: =IFERROR(INDEX('Weekly Stats'!F:F,MATCH($C4,'Weekly Stats'!$A:$A,0)),"") -> 0 | I4: =IFERROR(INDEX('Weekly Stats'!G:G,MATCH($C4,'Weekly Stats'!$A:$A,0)),"") -> 1 | J4: =IFERROR(INDEX('Weekly Stats'!H:H,MATCH($C4,'Weekly Stats'!$A:$A,0)),"") -> 6 | K4: =IFERROR(INDEX('Weekly Stats'!I:I,MATCH($C4,'Weekly Stats'!$A:$A,0)),"") -> 0 | L4: =IFERROR(INDEX('Weekly Stats'!J:J,MATCH($C4,'Weekly Stats'!$A:$A,0)),"") -> 0 | M4: =IFERROR(INDEX('Weekly Stats'!K:K,MATCH($C4,'Weekly Stats'!$A:$A,0)),"") -> 0 | N4: =IFERROR(INDEX('Weekly Stats'!L:L,MATCH($C4,'Weekly Stats'!$A:$A,0)),"") -> 0 | O4: =IFERROR(INDEX('Weekly Stats'!M:M,MATCH($C4,'Weekly Stats'!$A:$A,0)),"") -> 0 | P4: =IFERROR(INDEX('Weekly Stats'!N:N,MATCH($C4,'Weekly Stats'!$A:$A,0)),"") -> 1 | Q4: =IFERROR(INDEX('Weekly Stats'!O:O,MATCH($C4,'Weekly Stats'!$A:$A,0)),"") -> 0 | R4: =IFERROR(INDEX('Weekly Stats'!P:P,MATCH($C4,'Weekly Stats'!$A:$A,0)),"") -> 0 | S4: =IFERROR(INDEX('Weekly Stats'!Q:Q,MATCH($C4,'Weekly Stats'!$A:$A,0)),"") -> 0 | T4: =IFERROR(INDEX('Weekly Stats'!R:R,MATCH($C4,'Weekly Stats'!$A:$A,0)),"") -> 0 | U4: =IFERROR(INDEX('Weekly Stats'!S:S,MATCH($C4,'Weekly Stats'!$A:$A,0)),"") -> 0 | V4: =IFERROR(INDEX('Weekly Stats'!T:T,MATCH($C4,'Weekly Stats'!$A:$A,0)),"") -> 0 | W4: =IFERROR((Q4*3)+V4,0) -> 0 | X4: =IFERROR(ROUND(D4/E4,3),"") -> 0.806 | Y4: =IFERROR(ROUND(J4/I4,2),"") -> 6 | Z4: =IFERROR(ROUND(M4/L4,2),"")
B5: A_QB2: | C5: {=IFERROR(INDEX(Lineups!D:D,MATCH(B$2&B5,Lineups!A:A&Lineups!B:B,0)),"")} -> Drake Maye | D5: =IFERROR(INDEX('Weekly Stats'!B:B,MATCH($C5,'Weekly Stats'!$A:$A,0)),"") -> 26 | E5: =IFERROR(INDEX('Weekly Stats'!C:C,MATCH($C5,'Weekly Stats'!$A:$A,0)),"") -> 34 | F5: =IFERROR(INDEX('Weekly Stats'!D:D,MATCH($C5,'Weekly Stats'!$A:$A,0)),"") -> 374 | G5: =IFERROR(INDEX('Weekly Stats'!E:E,MATCH($C5,'Weekly Stats'!$A:$A,0)),"") -> 4 | H5: =IFERROR(INDEX('Weekly Stats'!F:F,MATCH($C5,'Weekly Stats'!$A:$A,0)),"") -> 0 | I5: =IFERROR(INDEX('Weekly Stats'!G:G,MATCH($C5,'Weekly Stats'!$A:$A,0)),"") -> 7 | J5: =IFERROR(INDEX('Weekly Stats'!H:H,MATCH($C5,'Weekly Stats'!$A:$A,0)),"") -> 25 | K5: =IFERROR(INDEX('Weekly Stats'!I:I,MATCH($C5,'Weekly Stats'!$A:$A,0)),"") -> 1 | L5: =IFERROR(INDEX('Weekly Stats'!J:J,MATCH($C5,'Weekly Stats'!$A:$A,0)),"") -> 0 | M5: =IFERROR(INDEX('Weekly Stats'!K:K,MATCH($C5,'Weekly Stats'!$A:$A,0)),"") -> 0 | N5: =IFERROR(INDEX('Weekly Stats'!L:L,MATCH($C5,'Weekly Stats'!$A:$A,0)),"") -> 0 | O5: =IFERROR(INDEX('Weekly Stats'!M:M,MATCH($C5,'Weekly Stats'!$A:$A,0)),"") -> 0 | P5: =IFERROR(INDEX('Weekly Stats'!N:N,MATCH($C5,'Weekly Stats'!$A:$A,0)),"") -> 0 | Q5: =IFERROR(INDEX('Weekly Stats'!O:O,MATCH($C5,'Weekly Stats'!$A:$A,0)),"") -> 0 | R5: =IFERROR(INDEX('Weekly Stats'!P:P,MATCH($C5,'Weekly Stats'!$A:$A,0)),"") -> 0 | S5: =IFERROR(INDEX('Weekly Stats'!Q:Q,MATCH($C5,'Weekly Stats'!$A:$A,0)),"") -> 0 | T5: =IFERROR(INDEX('Weekly Stats'!R:R,MATCH($C5,'Weekly Stats'!$A:$A,0)),"") -> 0 | U5: =IFERROR(INDEX('Weekly Stats'!S:S,MATCH($C5,'Weekly Stats'!$A:$A,0)),"") -> 0 | V5: =IFERROR(INDEX('Weekly Stats'!T:T,MATCH($C5,'Weekly Stats'!$A:$A,0)),"") -> 0 | W5: =IFERROR((Q5*3)+V5,0) -> 0 | X5: =IFERROR(ROUND(D5/E5,3),"") -> 0.765 | Y5: =IFERROR(ROUND(J5/I5,2),"") -> 3.57 | Z5: =IFERROR(ROUND(M5/L5,2),"")
B6: A_RB1: | C6: {=IFERROR(INDEX(Lineups!D:D,MATCH(B$2&B6,Lineups!A:A&Lineups!B:B,0)),"")} -> D'Andre Swift | D6: =IFERROR(INDEX('Weekly Stats'!B:B,MATCH($C6,'Weekly Stats'!$A:$A,0)),"") -> 0 | E6: =IFERROR(INDEX('Weekly Stats'!C:C,MATCH($C6,'Weekly Stats'!$A:$A,0)),"") -> 0 | F6: =IFERROR(INDEX('Weekly Stats'!D:D,MATCH($C6,'Weekly Stats'!$A:$A,0)),"") -> 0 | G6: =IFERROR(INDEX('Weekly Stats'!E:E,MATCH($C6,'Weekly Stats'!$A:$A,0)),"") -> 0 | H6: =IFERROR(INDEX('Weekly Stats'!F:F,MATCH($C6,'Weekly Stats'!$A:$A,0)),"") -> 0 | I6: =IFERROR(INDEX('Weekly Stats'!G:G,MATCH($C6,'Weekly Stats'!$A:$A,0)),"") -> 9 | J6: =IFERROR(INDEX('Weekly Stats'!H:H,MATCH($C6,'Weekly Stats'!$A:$A,0)),"") -> 43 | K6: =IFERROR(INDEX('Weekly Stats'!I:I,MATCH($C6,'Weekly Stats'!$A:$A,0)),"") -> 1 | L6: =IFERROR(INDEX('Weekly Stats'!J:J,MATCH($C6,'Weekly Stats'!$A:$A,0)),"") -> 4 | M6: =IFERROR(INDEX('Weekly Stats'!K:K,MATCH($C6,'Weekly Stats'!$A:$A,0)),"") -> 30 | N6: =IFERROR(INDEX('Weekly Stats'!L:L,MATCH($C6,'Weekly Stats'!$A:$A,0)),"") -> 0 | O6: =IFERROR(INDEX('Weekly Stats'!M:M,MATCH($C6,'Weekly Stats'!$A:$A,0)),"") -> 0 | P6: =IFERROR(INDEX('Weekly Stats'!N:N,MATCH($C6,'Weekly Stats'!$A:$A,0)),"") -> 0 | Q6: =IFERROR(INDEX('Weekly Stats'!O:O,MATCH($C6,'Weekly Stats'!$A:$A,0)),"") -> 0 | R6: =IFERROR(INDEX('Weekly Stats'!P:P,MATCH($C6,'Weekly Stats'!$A:$A,0)),"") -> 0 | S6: =IFERROR(INDEX('Weekly Stats'!Q:Q,MATCH($C6,'Weekly Stats'!$A:$A,0)),"") -> 0 | T6: =IFERROR(INDEX('Weekly Stats'!R:R,MATCH($C6,'Weekly Stats'!$A:$A,0)),"") -> 0 | U6: =IFERROR(INDEX('Weekly Stats'!S:S,MATCH($C6,'Weekly Stats'!$A:$A,0)),"") -> 0 | V6: =IFERROR(INDEX('Weekly Stats'!T:T,MATCH($C6,'Weekly Stats'!$A:$A,0)),"") -> 0 | W6: =IFERROR((Q6*3)+V6,0) -> 0 | X6: =IFERROR(ROUND(D6/E6,3),"") | Y6: =IFERROR(ROUND(J6/I6,2),"") -> 4.78 | Z6: =IFERROR(ROUND(M6/L6,2),"") -> 7.5
B7: A_RB2: | C7: {=IFERROR(INDEX(Lineups!D:D,MATCH(B$2&B7,Lineups!A:A&Lineups!B:B,0)),"")} -> Quinshon Judkins | D7: =IFERROR(INDEX('Weekly Stats'!B:B,MATCH($C7,'Weekly Stats'!$A:$A,0)),"") -> 0 | E7: =IFERROR(INDEX('Weekly Stats'!C:C,MATCH($C7,'Weekly Stats'!$A:$A,0)),"") -> 0 | F7: =IFERROR(INDEX('Weekly Stats'!D:D,MATCH($C7,'Weekly Stats'!$A:$A,0)),"") -> 0 | G7: =IFERROR(INDEX('Weekly Stats'!E:E,MATCH($C7,'Weekly Stats'!$A:$A,0)),"") -> 0 | H7: =IFERROR(INDEX('Weekly Stats'!F:F,MATCH($C7,'Weekly Stats'!$A:$A,0)),"") -> 0 | I7: =IFERROR(INDEX('Weekly Stats'!G:G,MATCH($C7,'Weekly Stats'!$A:$A,0)),"") -> 14 | J7: =IFERROR(INDEX('Weekly Stats'!H:H,MATCH($C7,'Weekly Stats'!$A:$A,0)),"") -> 44 | K7: =IFERROR(INDEX('Weekly Stats'!I:I,MATCH($C7,'Weekly Stats'!$A:$A,0)),"") -> 0 | L7: =IFERROR(INDEX('Weekly Stats'!J:J,MATCH($C7,'Weekly Stats'!$A:$A,0)),"") -> 3 | M7: =IFERROR(INDEX('Weekly Stats'!K:K,MATCH($C7,'Weekly Stats'!$A:$A,0)),"") -> 6 | N7: =IFERROR(INDEX('Weekly Stats'!L:L,MATCH($C7,'Weekly Stats'!$A:$A,0)),"") -> 0 | O7: =IFERROR(INDEX('Weekly Stats'!M:M,MATCH($C7,'Weekly Stats'!$A:$A,0)),"") -> 0 | P7: =IFERROR(INDEX('Weekly Stats'!N:N,MATCH($C7,'Weekly Stats'!$A:$A,0)),"") -> 0 | Q7: =IFERROR(INDEX('Weekly Stats'!O:O,MATCH($C7,'Weekly Stats'!$A:$A,0)),"") -> 0 | R7: =IFERROR(INDEX('Weekly Stats'!P:P,MATCH($C7,'Weekly Stats'!$A:$A,0)),"") -> 0 | S7: =IFERROR(INDEX('Weekly Stats'!Q:Q,MATCH($C7,'Weekly Stats'!$A:$A,0)),"") -> 0 | T7: =IFERROR(INDEX('Weekly Stats'!R:R,MATCH($C7,'Weekly Stats'!$A:$A,0)),"") -> 0 | U7: =IFERROR(INDEX('Weekly Stats'!S:S,MATCH($C7,'Weekly Stats'!$A:$A,0)),"") -> 0 | V7: =IFERROR(INDEX('Weekly Stats'!T:T,MATCH($C7,'Weekly Stats'!$A:$A,0)),"") -> 0 | W7: =IFERROR((Q7*3)+V7,0) -> 0 | X7: =IFERROR(ROUND(D7/E7,3),"") | Y7: =IFERROR(ROUND(J7/I7,2),"") -> 3.14 | Z7: =IFERROR(ROUND(M7/L7,2),"") -> 2
B8: A_RB3: | C8: {=IFERROR(INDEX(Lineups!D:D,MATCH(B$2&B8,Lineups!A:A&Lineups!B:B,0)),"")} -> Alvin Kamara | D8: =IFERROR(INDEX('Weekly Stats'!B:B,MATCH($C8,'Weekly Stats'!$A:$A,0)),"") -> 0 | E8: =IFERROR(INDEX('Weekly Stats'!C:C,MATCH($C8,'Weekly Stats'!$A:$A,0)),"") -> 0 | F8: =IFERROR(INDEX('Weekly Stats'!D:D,MATCH($C8,'Weekly Stats'!$A:$A,0)),"") -> 0 | G8: =IFERROR(INDEX('Weekly Stats'!E:E,MATCH($C8,'Weekly Stats'!$A:$A,0)),"") -> 0 | H8: =IFERROR(INDEX('Weekly Stats'!F:F,MATCH($C8,'Weekly Stats'!$A:$A,0)),"") -> 0 | I8: =IFERROR(INDEX('Weekly Stats'!G:G,MATCH($C8,'Weekly Stats'!$A:$A,0)),"") -> 3 | J8: =IFERROR(INDEX('Weekly Stats'!H:H,MATCH($C8,'Weekly Stats'!$A:$A,0)),"") -> 12 | K8: =IFERROR(INDEX('Weekly Stats'!I:I,MATCH($C8,'Weekly Stats'!$A:$A,0)),"") -> 0 | L8: =IFERROR(INDEX('Weekly Stats'!J:J,MATCH($C8,'Weekly Stats'!$A:$A,0)),"") -> 2 | M8: =IFERROR(INDEX('Weekly Stats'!K:K,MATCH($C8,'Weekly Stats'!$A:$A,0)),"") -> -6 | N8: =IFERROR(INDEX('Weekly Stats'!L:L,MATCH($C8,'Weekly Stats'!$A:$A,0)),"") -> 0 | O8: =IFERROR(INDEX('Weekly Stats'!M:M,MATCH($C8,'Weekly Stats'!$A:$A,0)),"") -> 0 | P8: =IFERROR(INDEX('Weekly Stats'!N:N,MATCH($C8,'Weekly Stats'!$A:$A,0)),"") -> 0 | Q8: =IFERROR(INDEX('Weekly Stats'!O:O,MATCH($C8,'Weekly Stats'!$A:$A,0)),"") -> 0 | R8: =IFERROR(INDEX('Weekly Stats'!P:P,MATCH($C8,'Weekly Stats'!$A:$A,0)),"") -> 0 | S8: =IFERROR(INDEX('Weekly Stats'!Q:Q,MATCH($C8,'Weekly Stats'!$A:$A,0)),"") -> 0 | T8: =IFERROR(INDEX('Weekly Stats'!R:R,MATCH($C8,'Weekly Stats'!$A:$A,0)),"") -> 0 | U8: =IFERROR(INDEX('Weekly Stats'!S:S,MATCH($C8,'Weekly Stats'!$A:$A,0)),"") -> 0 | V8: =IFERROR(INDEX('Weekly Stats'!T:T,MATCH($C8,'Weekly Stats'!$A:$A,0)),"") -> 0 | W8: =IFERROR((Q8*3)+V8,0) -> 0 | X8: =IFERROR(ROUND(D8/E8,3),"") | Y8: =IFERROR(ROUND(J8/I8,2),"") -> 4 | Z8: =IFERROR(ROUND(M8/L8,2),"") -> -3
B9: A_RC1: | C9: {=IFERROR(INDEX(Lineups!D:D,MATCH(B$2&B9,Lineups!A:A&Lineups!B:B,0)),"")} -> Jaxon Smith-Njigba | D9: =IFERROR(INDEX('Weekly Stats'!B:B,MATCH($C9,'Weekly Stats'!$A:$A,0)),"") -> 0 | E9: =IFERROR(INDEX('Weekly Stats'!C:C,MATCH($C9,'Weekly Stats'!$A:$A,0)),"") -> 0 | F9: =IFERROR(INDEX('Weekly Stats'!D:D,MATCH($C9,'Weekly Stats'!$A:$A,0)),"") -> 0 | G9: =IFERROR(INDEX('Weekly Stats'!E:E,MATCH($C9,'Weekly Stats'!$A:$A,0)),"") -> 0 | H9: =IFERROR(INDEX('Weekly Stats'!F:F,MATCH($C9,'Weekly Stats'!$A:$A,0)),"") -> 0 | I9: =IFERROR(INDEX('Weekly Stats'!G:G,MATCH($C9,'Weekly Stats'!$A:$A,0)),"") -> 1 | J9: =IFERROR(INDEX('Weekly Stats'!H:H,MATCH($C9,'Weekly Stats'!$A:$A,0)),"") -> 16 | K9: =IFERROR(INDEX('Weekly Stats'!I:I,MATCH($C9,'Weekly Stats'!$A:$A,0)),"") -> 0 | L9: =IFERROR(INDEX('Weekly Stats'!J:J,MATCH($C9,'Weekly Stats'!$A:$A,0)),"") -> 5 | M9: =IFERROR(INDEX('Weekly Stats'!K:K,MATCH($C9,'Weekly Stats'!$A:$A,0)),"") -> 102 | N9: =IFERROR(INDEX('Weekly Stats'!L:L,MATCH($C9,'Weekly Stats'!$A:$A,0)),"") -> 1 | O9: =IFERROR(INDEX('Weekly Stats'!M:M,MATCH($C9,'Weekly Stats'!$A:$A,0)),"") -> 0 | P9: =IFERROR(INDEX('Weekly Stats'!N:N,MATCH($C9,'Weekly Stats'!$A:$A,0)),"") -> 0 | Q9: =IFERROR(INDEX('Weekly Stats'!O:O,MATCH($C9,'Weekly Stats'!$A:$A,0)),"") -> 0 | R9: =IFERROR(INDEX('Weekly Stats'!P:P,MATCH($C9,'Weekly Stats'!$A:$A,0)),"") -> 0 | S9: =IFERROR(INDEX('Weekly Stats'!Q:Q,MATCH($C9,'Weekly Stats'!$A:$A,0)),"") -> 0 | T9: =IFERROR(INDEX('Weekly Stats'!R:R,MATCH($C9,'Weekly Stats'!$A:$A,0)),"") -> 0 | U9: =IFERROR(INDEX('Weekly Stats'!S:S,MATCH($C9,'Weekly Stats'!$A:$A,0)),"") -> 0 | V9: =IFERROR(INDEX('Weekly Stats'!T:T,MATCH($C9,'Weekly Stats'!$A:$A,0)),"") -> 0 | W9: =IFERROR((Q9*3)+V9,0) -> 0 | X9: =IFERROR(ROUND(D9/E9,3),"") | Y9: =IFERROR(ROUND(J9/I9,2),"") -> 16 | Z9: =IFERROR(ROUND(M9/L9,2),"") -> 20.4
B10: A_RC2: | C10: {=IFERROR(INDEX(Lineups!D:D,MATCH(B$2&B10,Lineups!A:A&Lineups!B:B,0)),"")} -> Malik Nabers | D10: =IFERROR(INDEX('Weekly Stats'!B:B,MATCH($C10,'Weekly Stats'!$A:$A,0)),"") -> 0 | E10: =IFERROR(INDEX('Weekly Stats'!C:C,MATCH($C10,'Weekly Stats'!$A:$A,0)),"") -> 0 | F10: =IFERROR(INDEX('Weekly Stats'!D:D,MATCH($C10,'Weekly Stats'!$A:$A,0)),"") -> 0 | G10: =IFERROR(INDEX('Weekly Stats'!E:E,MATCH($C10,'Weekly Stats'!$A:$A,0)),"") -> 0 | H10: =IFERROR(INDEX('Weekly Stats'!F:F,MATCH($C10,'Weekly Stats'!$A:$A,0)),"") -> 0 | I10: =IFERROR(INDEX('Weekly Stats'!G:G,MATCH($C10,'Weekly Stats'!$A:$A,0)),"") -> 0 | J10: =IFERROR(INDEX('Weekly Stats'!H:H,MATCH($C10,'Weekly Stats'!$A:$A,0)),"") -> 0 | K10: =IFERROR(INDEX('Weekly Stats'!I:I,MATCH($C10,'Weekly Stats'!$A:$A,0)),"") -> 0 | L10: =IFERROR(INDEX('Weekly Stats'!J:J,MATCH($C10,'Weekly Stats'!$A:$A,0)),"") -> 11 | M10: =IFERROR(INDEX('Weekly Stats'!K:K,MATCH($C10,'Weekly Stats'!$A:$A,0)),"") -> 121 | N10: =IFERROR(INDEX('Weekly Stats'!L:L,MATCH($C10,'Weekly Stats'!$A:$A,0)),"") -> 1 | O10: =IFERROR(INDEX('Weekly Stats'!M:M,MATCH($C10,'Weekly Stats'!$A:$A,0)),"") -> 0 | P10: =IFERROR(INDEX('Weekly Stats'!N:N,MATCH($C10,'Weekly Stats'!$A:$A,0)),"") -> 0 | Q10: =IFERROR(INDEX('Weekly Stats'!O:O,MATCH($C10,'Weekly Stats'!$A:$A,0)),"") -> 0 | R10: =IFERROR(INDEX('Weekly Stats'!P:P,MATCH($C10,'Weekly Stats'!$A:$A,0)),"") -> 0 | S10: =IFERROR(INDEX('Weekly Stats'!Q:Q,MATCH($C10,'Weekly Stats'!$A:$A,0)),"") -> 0 | T10: =IFERROR(INDEX('Weekly Stats'!R:R,MATCH($C10,'Weekly Stats'!$A:$A,0)),"") -> 0 | U10: =IFERROR(INDEX('Weekly Stats'!S:S,MATCH($C10,'Weekly Stats'!$A:$A,0)),"") -> 0 | V10: =IFERROR(INDEX('Weekly Stats'!T:T,MATCH($C10,'Weekly Stats'!$A:$A,0)),"") -> 0 | W10: =IFERROR((Q10*3)+V10,0) -> 0 | X10: =IFERROR(ROUND(D10/E10,3),"") | Y10: =IFERROR(ROUND(J10/I10,2),"") | Z10: =IFERROR(ROUND(M10/L10,2),"") -> 11
B11: A_RC3: | C11: {=IFERROR(INDEX(Lineups!D:D,MATCH(B$2&B11,Lineups!A:A&Lineups!B:B,0)),"")} -> Davante Adams | D11: =IFERROR(INDEX('Weekly Stats'!B:B,MATCH($C11,'Weekly Stats'!$A:$A,0)),"") -> 0 | E11: =IFERROR(INDEX('Weekly Stats'!C:C,MATCH($C11,'Weekly Stats'!$A:$A,0)),"") -> 0 | F11: =IFERROR(INDEX('Weekly Stats'!D:D,MATCH($C11,'Weekly Stats'!$A:$A,0)),"") -> 0 | G11: =IFERROR(INDEX('Weekly Stats'!E:E,MATCH($C11,'Weekly Stats'!$A:$A,0)),"") -> 0 | H11: =IFERROR(INDEX('Weekly Stats'!F:F,MATCH($C11,'Weekly Stats'!$A:$A,0)),"") -> 0 | I11: =IFERROR(INDEX('Weekly Stats'!G:G,MATCH($C11,'Weekly Stats'!$A:$A,0)),"") -> 0 | J11: =IFERROR(INDEX('Weekly Stats'!H:H,MATCH($C11,'Weekly Stats'!$A:$A,0)),"") -> 0 | K11: =IFERROR(INDEX('Weekly Stats'!I:I,MATCH($C11,'Weekly Stats'!$A:$A,0)),"") -> 0 | L11: =IFERROR(INDEX('Weekly Stats'!J:J,MATCH($C11,'Weekly Stats'!$A:$A,0)),"") -> 5 | M11: =IFERROR(INDEX('Weekly Stats'!K:K,MATCH($C11,'Weekly Stats'!$A:$A,0)),"") -> 51 | N11: =IFERROR(INDEX('Weekly Stats'!L:L,MATCH($C11,'Weekly Stats'!$A:$A,0)),"") -> 2 | O11: =IFERROR(INDEX('Weekly Stats'!M:M,MATCH($C11,'Weekly Stats'!$A:$A,0)),"") -> 0 | P11: =IFERROR(INDEX('Weekly Stats'!N:N,MATCH($C11,'Weekly Stats'!$A:$A,0)),"") -> 0 | Q11: =IFERROR(INDEX('Weekly Stats'!O:O,MATCH($C11,'Weekly Stats'!$A:$A,0)),"") -> 0 | R11: =IFERROR(INDEX('Weekly Stats'!P:P,MATCH($C11,'Weekly Stats'!$A:$A,0)),"") -> 0 | S11: =IFERROR(INDEX('Weekly Stats'!Q:Q,MATCH($C11,'Weekly Stats'!$A:$A,0)),"") -> 0 | T11: =IFERROR(INDEX('Weekly Stats'!R:R,MATCH($C11,'Weekly Stats'!$A:$A,0)),"") -> 0 | U11: =IFERROR(INDEX('Weekly Stats'!S:S,MATCH($C11,'Weekly Stats'!$A:$A,0)),"") -> 0 | V11: =IFERROR(INDEX('Weekly Stats'!T:T,MATCH($C11,'Weekly Stats'!$A:$A,0)),"") -> 0 | W11: =IFERROR((Q11*3)+V11,0) -> 0 | X11: =IFERROR(ROUND(D11/E11,3),"") | Y11: =IFERROR(ROUND(J11/I11,2),"") | Z11: =IFERROR(ROUND(M11/L11,2),"") -> 10.2
B12: A_PK1: | C12: {=IFERROR(INDEX(Lineups!D:D,MATCH(B$2&B12,Lineups!A:A&Lineups!B:B,0)),"")} -> No Body | D12: =IFERROR(INDEX('Weekly Stats'!B:B,MATCH($C12,'Weekly Stats'!$A:$A,0)),"") | E12: =IFERROR(INDEX('Weekly Stats'!C:C,MATCH($C12,'Weekly Stats'!$A:$A,0)),"") | F12: =IFERROR(INDEX('Weekly Stats'!D:D,MATCH($C12,'Weekly Stats'!$A:$A,0)),"") | G12: =IFERROR(INDEX('Weekly Stats'!E:E,MATCH($C12,'Weekly Stats'!$A:$A,0)),"") | H12: =IFERROR(INDEX('Weekly Stats'!F:F,MATCH($C12,'Weekly Stats'!$A:$A,0)),"") | I12: =IFERROR(INDEX('Weekly Stats'!G:G,MATCH($C12,'Weekly Stats'!$A:$A,0)),"") | J12: =IFERROR(INDEX('Weekly Stats'!H:H,MATCH($C12,'Weekly Stats'!$A:$A,0)),"") | K12: =IFERROR(INDEX('Weekly Stats'!I:I,MATCH($C12,'Weekly Stats'!$A:$A,0)),"") | L12: =IFERROR(INDEX('Weekly Stats'!J:J,MATCH($C12,'Weekly Stats'!$A:$A,0)),"") | M12: =IFERROR(INDEX('Weekly Stats'!K:K,MATCH($C12,'Weekly Stats'!$A:$A,0)),"") | N12: =IFERROR(INDEX('Weekly Stats'!L:L,MATCH($C12,'Weekly Stats'!$A:$A,0)),"") | O12: =IFERROR(INDEX('Weekly Stats'!M:M,MATCH($C12,'Weekly Stats'!$A:$A,0)),"") | P12: =IFERROR(INDEX('Weekly Stats'!N:N,MATCH($C12,'Weekly Stats'!$A:$A,0)),"") | Q12: =IFERROR(INDEX('Weekly Stats'!O:O,MATCH($C12,'Weekly Stats'!$A:$A,0)),"") | R12: =IFERROR(INDEX('Weekly Stats'!P:P,MATCH($C12,'Weekly Stats'!$A:$A,0)),"") | S12: =IFERROR(INDEX('Weekly Stats'!Q:Q,MATCH($C12,'Weekly Stats'!$A:$A,0)),"") | T12: =IFERROR(INDEX('Weekly Stats'!R:R,MATCH($C12,'Weekly Stats'!$A:$A,0)),"") | U12: =IFERROR(INDEX('Weekly Stats'!S:S,MATCH($C12,'Weekly Stats'!$A:$A,0)),"") | V12: =IFERROR(INDEX('Weekly Stats'!T:T,MATCH($C12,'Weekly Stats'!$A:$A,0)),"") | W12: =IFERROR((Q12*3)+V12,0) -> 0 | X12: =IFERROR(ROUND(D12/E12,3),"") | Y12: =IFERROR(ROUND(J12/I12,2),"") | Z12: =IFERROR(ROUND(M12/L12,2),"")
C13: Totals | D13: =SUM(D4:D12) -> 51 | E13: =SUM(E4:E12) -> 65 | F13: =SUM(F4:F12) -> 741 | G13: =SUM(G4:G12) -> 6 | H13: =SUM(H4:H12) -> 0 | I13: =SUM(I4:I12) -> 35 | J13: =SUM(J4:J12) -> 146 | K13: =SUM(K4:K12) -> 2 | ... W13: =SUM(W4:W12) -> 0 | X13: =IFERROR(ROUND(D13/E13,3),0) -> 0.785 | Y13: =IFERROR(ROUND(J13/I13,2),0) -> 4.17 | Z13: =IFERROR(ROUND(M13/L13,2),0) -> 10.13
C14: Team | D14: Sacks | E14: Fumble Rec. | F14: Interceptions | G14: Yards Allowed | H14: Pts. Scored | I14: Pts. Allowed
B15: A_DU1: | C15: {=IFERROR(INDEX(Lineups!D:D,MATCH(B$2&B15,Lineups!A:A&Lineups!B:B,0)),"")} -> Cincinnati Bengals | D15: =IFERROR(INDEX('Weekly Stats'!C:C,MATCH($C15,'Weekly Stats'!$A:$A,0)),"") -> 3 | E15: =IFERROR(INDEX('Weekly Stats'!D:D,MATCH($C15,'Weekly Stats'!$A:$A,0)),"") -> 1 | F15: =IFERROR(INDEX('Weekly Stats'!E:E,MATCH($C15,'Weekly Stats'!$A:$A,0)),"") -> 2 | G15: =IFERROR(INDEX('Weekly Stats'!F:F,MATCH($C15,'Weekly Stats'!$A:$A,0)),"") -> 331 | H15: =IFERROR(INDEX('Weekly Stats'!K:K,MATCH($C15,'Weekly Stats'!$A:$A,0)),"") -> 0 | I15: =IFERROR(INDEX('Weekly Stats'!G:G,MATCH($C15,'Weekly Stats'!$A:$A,0)),"") -> 24
C16: Head Coach | D16: Pts. Differential
B17: Coach: | C17: {=IFERROR(INDEX(Lineups!D:D,MATCH(B$2&B17,Lineups!A:A&Lineups!B:B,0)),"")} -> Jim Harbaugh | D17: =IFERROR(INDEX('Weekly Stats'!AC:AC,MATCH(C17,'Weekly Stats'!AB:AB,0))-INDEX('Weekly Stats'!AD:AD,MATCH(C17,'Weekly Stats'!AB:AB,0)),"") -> -6
D19: Passing | H19: Rushing | K19: Receiving | O19: Other | Q19: Kicking | V19: Defense
C20: Total | D20: =SUM(D21:D22) -> 4 | E20: =SUM(E21:E22) -> 8 | F20: =SUM(F21:F22) -> 8 | G20: =SUM(G21:G22) -> 2 | H20: =SUM(H21:H22) -> 0 | I20: =SUM(I21:I22) -> 0 | J20: =SUM(J21:J22) -> 3 | K20: =SUM(K21:K22) -> 6 | ... AA20: =SUM(AA21:AA22) -> 0 | AB20: =SUM(D20:AA20) -> 30 | AC20: =IF(AB20=AB25,IF(D17>D42,AB20+3,AB20+0),0) -> 0 | AD20: =IF(AB20=AB25,IF(AC20=AC25,IF(G13+K13+N13>G38+K38+N38, AC20+3,AC20)),0) -> 0 | AE20: =IF(AB20=AB25,IF(AC20=AC25,IF(AD20=AD25,IF(F13+J13+M13>F38+J38+M38, AD20+3,AD20))),0) -> 0 | AF20: =IF(AB20=AB25,IF(AC20=AC25,IF(AD20=AD25,IF(AE20=AE25,AB20,AE20),AD20),AC20),IF(AB20<0,0,IF(AB25<0,AB20-AB25,AB20))) -> 30
C21: Bonus | D21: =IFERROR(IF(X13>=0.69,2,0),0) -> 2 | E21: =IF(F13>=575,2,0) -> 2 | F21: =IF(G13>=6,2,0) -> 2 | G21: X | H21: =IF(J13>=250,3,0) -> 0 | I21: =IF(K13>=4,2,0) -> 0 | J21: =IFERROR(IF(Y13>=4.5,2,0),0) -> 0 | K21: =IF(M13>=325,3,0) -> 0 | L21: =IF(N13>=4,2,0) -> 2 | M21: =IFERROR(IF(Z13>=12,2,0),0) -> 0 | N21: =IF(L13>=30,2,0) -> 2 | O21: X | P21: X | Q21: =IFERROR(IF(W13>=12,2,0),0) -> 0 | R21: X | S21: X | T21: =IF(T13>=2,1,0) -> 0 | U21: =IF(U13>=1,2,0) -> 0 | V21: =IF(I40<=14,-2,0) -> -2 | W21: =IF(G40<=275,-2,0) -> -2 | X21: =IF(B27="",0,IF(D40>=5,-1,0)) -> 0 | Y21: =IF(B27="",0,IF(E40>=3,-1,0)) -> 0 | Z21: =IF(B27="",0,IF(F40>=3,-1,0)) -> 0 | AA21: =IF(B27="",0,IF(H40>=8,-2,0)) -> 0 | AF21: =IF(AF20>AF25,"WIN!",IF(AF20=AF25,"Tie","Loss")) -> WIN!
C22: Head-to-Head | D22: =IFERROR(IF(X13>X38,2,0),0) -> 2 | E22: =IF(F13>F38,6,0) -> 6 | F22: =IF(G13>G38,6,0) -> 6 | G22: =IF(H13<H38,2,0) -> 2 | H22: =IF(J13>J38,6,0) -> 0 | I22: =IF(K13>K38,6,0) -> 0 | J22: =IFERROR(IF(Y13>Y38,3,0),0) -> 3 | K22: =IF(M13>M38,6,0) -> 6 | L22: =IF(N13>N38,6,0) -> 6 | M22: =IFERROR(IF(Z13>Z38,2,0),0) -> 0 | N22: =IF(L13>L38,2,0) -> 2 | O22: =IF(P13>P38,2,0) -> 2 | P22: =IF(O13<O38,3,0) -> 0 | Q22: =IFERROR(IF(W13>W38,3,0),0) -> 0 | R22: =IF(R13>R38,1,0) -> 0 | S22: =IF(S13>S38,2,0) -> 0 | T22: =IF((T13+U13)>(T38+U38),3,0) -> 0 | U22: X | V22: =IF(I15<=I40,0,-6) -> -6 | W22: =IF(G15<=G40,0,-3) -> -3 | X22: =IF(D15>=D40,0,-2) -> -2 | Y22: =IF(E15>=E40,0,-2) -> 0 | Z22: =IF(F15>=F40,0,-2) -> 0 | AA22: =IF(H15>=H40,0,-5) -> 0
C23: Head-to-Head | D23: =IFERROR(IF(X38>X13,2,0),0) -> 0 | E23: =IF(F38>F13,6,0) -> 0 | F23: =IF(G38>G13,6,0) -> 0 | G23: =IF(H38<H13,2,0) -> 0 | H23: =IF(J38>J13,6,0) -> 6 | I23: =IF(K38>K13,6,0) -> 0 | J23: =IFERROR(IF(Y38>Y13,3,0),0) -> 0 | K23: =IF(M38>M13,6,0) -> 0 | L23: =IF(N38>N13,6,0) -> 0 | M23: =IFERROR(IF(Z38>Z13,2,0),0) -> 2 | N23: =IF(L38>L13,2,0) -> 0 | O23: =IF(P38>P13,2,0) -> 0 | P23: =IF(O38<O13,3,0) -> 0 | Q23: =IFERROR(IF(W38>W13,3,0),0) -> 3 | R23: =IF(R38>R13,1,0) -> 0 | S23: =IF(S38>S13,2,0) -> 2 | T23: =IF((T38+U38)>(T13+U13),3,0) -> 0 | U23: X | V23: =IF(I40<=I15,0,-6) -> 0 | W23: =IF(G40<=G15,0,-3) -> 0 | X23: =IF(D40>=D15,0,-2) -> 0 | Y23: =IF(E40>=E15,0,-2) -> 0 | Z23: =IF(F40>=F15,0,-2) -> -2 | AA23: =IF(H40>=H15,0,-5) -> 0
C24: Bonus | D24: =IFERROR(IF(X38>=0.69,2,0),0) -> 0 | E24: =IF(F38>=575,2,0) -> 0 | F24: =IF(G38>=6,2,0) -> 0 | G24: X | H24: =IF(J38>=250,3,0) -> 0 | I24: =IF(K38>=4,2,0) -> 0 | J24: =IFERROR(IF(Y38>=4.5,2,0),0) -> 0 | K24: =IF(M38>=325,3,0) -> 0 | L24: =IF(N38>=4,2,0) -> 0 | M24: =IFERROR(IF(Z38>=12,2,0),0) -> 0 | N24: =IF(L38>=30,2,0) -> 0 | O24: X | P24: X | Q24: =IFERROR(IF(W38>=12,2,0),0) -> 0 | R24: X | S24: X | T24: =IF(T38>=2,1,0) -> 0 | U24: =IF(U38>=1,2,0) -> 0 | V24: =IF(I15<=14,-2,0) -> 0 | W24: =IF(G15<=275,-2,0) -> 0 | X24: =IF(B2="",0,IF(D15>=5,-1,0)) -> 0 | Y24: =IF(B2="",0,IF(E15>=3,-1,0)) -> 0 | Z24: =IF(B2="",0,IF(F15>=3,-1,0)) -> 0 | AA24: =IF(B2="",0,IF(H15>=8,-2,0)) -> 0 | AF24: =IF(AF25>AF20,"WIN!",IF(AF25=AF20,"Tie","Loss")) -> Loss
C25: Total | D25: =SUM(D23:D24) -> 0 | E25: =SUM(E23:E24) -> 0 | F25: =SUM(F23:F24) -> 0 | G25: =SUM(G23:G24) -> 0 | H25: =SUM(H23:H24) -> 6 | I25: =SUM(I23:I24) -> 0 | J25: =SUM(J23:J24) -> 0 | K25: =SUM(K23:K24) -> 0 | ... AA25: =SUM(AA23:AA24) -> 0 | AB25: =SUM(D25:AA25) -> 11 | AC25: =IF(AB25=AB20,IF(D42>D17,AB25+3,AB25+0),0) -> 0 | AD25: =IF(AB25=AB20,IF(AC25=AC20,IF(G38+K38+N38>G13+K13+N13,AC25+3,AC25)),0) -> 0 | AE25: =IF(AB25=AB20,IF(AC25=AC20,IF(AD25=AD20,IF(F38+J38+M38>F13+J13+M13,AD25+3,AD25))),0) -> 0 | AF25: =IF(AB25=AB20,IF(AC25=AC20,IF(AD25=AD20,IF(AE25=AE20,AB25,AE25),AD25),AC25),IF(AB25<0,0,IF(AB20<0,AB25-AB20,AB25))) -> 11
D26: Comp. % | E26: Yards | F26: TD's | G26: INT's | H26: Yards | I26: TD's | J26: Yards/Rush | K26: Yards | L26: TD's | M26: Yards/Rec. | N26: Receptions | O26: 2pt. Con. | P26: Fum Lost | Q26: Total Pts. | R26: ="10-39" -> 10-39 | S26: 40-49 | T26: 50+/50-59 | U26: 60+ | V26: Pts. Allowed | W26: Yards Allowed | X26: Sacks | Y26: Fumble Rec. | Z26: Interceptions | AA26: Pts. Scored | AB26: Raw Score | AC26: Tie-break 1 | AD26: Tie-break 2 | AE26: Tie-break 3 | AF26: Final Score
A27: =_xlfn.MAXIFS(Data!E:E,Data!C:C,Data!A2,Data!D:D,A2,Data!F:F,"A") -> 3 | B27: =IFERROR(INDEX(Data!I:I,MATCH(A27,Data!H:H,0)),"") -> Jeantymen's Club
C28: Player | D28: Completions | E28: Passes | F28: Yards | G28: TD's | H28: INT's | I28: Rushes | J28: Yards | K28: TD's | L28: Receptions | M28: Yards | N28: TD's | O28: Fum Lost | P28: 2Pt | Q28: FG's Made | R28: ="10-39" -> 10-39 | S28: 40-49 | T28: 50+ | U28: 60+ | V28: Extra pts. | W28: Total pts. | X28: Comp. % | Y28: Yards/Rush | Z28: Yards/Rec.
B29: A_QB1: | C29: {=IFERROR(INDEX(Lineups!D:D,MATCH(B$27&B29,Lineups!A:A&Lineups!B:B,0)),"")} -> Tyson Bagent | D29: =IFERROR(INDEX('Weekly Stats'!B:B,MATCH($C29,'Weekly Stats'!$A:$A,0)),"") -> 12 | E29: =IFERROR(INDEX('Weekly Stats'!C:C,MATCH($C29,'Weekly Stats'!$A:$A,0)),"") -> 21 | F29: =IFERROR(INDEX('Weekly Stats'!D:D,MATCH($C29,'Weekly Stats'!$A:$A,0)),"") -> 87 | G29: =IFERROR(INDEX('Weekly Stats'!E:E,MATCH($C29,'Weekly Stats'!$A:$A,0)),"") -> 0 | H29: =IFERROR(INDEX('Weekly Stats'!F:F,MATCH($C29,'Weekly Stats'!$A:$A,0)),"") -> 2 | I29: =IFERROR(INDEX('Weekly Stats'!G:G,MATCH($C29,'Weekly Stats'!$A:$A,0)),"") -> 3 | J29: =IFERROR(INDEX('Weekly Stats'!H:H,MATCH($C29,'Weekly Stats'!$A:$A,0)),"") -> 17 | K29: =IFERROR(INDEX('Weekly Stats'!I:I,MATCH($C29,'Weekly Stats'!$A:$A,0)),"") -> 0 | L29: =IFERROR(INDEX('Weekly Stats'!J:J,MATCH($C29,'Weekly Stats'!$A:$A,0)),"") -> 0 | M29: =IFERROR(INDEX('Weekly Stats'!K:K,MATCH($C29,'Weekly Stats'!$A:$A,0)),"") -> 0 | N29: =IFERROR(INDEX('Weekly Stats'!L:L,MATCH($C29,'Weekly Stats'!$A:$A,0)),"") -> 0 | O29: =IFERROR(INDEX('Weekly Stats'!M:M,MATCH($C29,'Weekly Stats'!$A:$A,0)),"") -> 0 | P29: =IFERROR(INDEX('Weekly Stats'!N:N,MATCH($C29,'Weekly Stats'!$A:$A,0)),"") -> 0 | Q29: =IFERROR(INDEX('Weekly Stats'!O:O,MATCH($C29,'Weekly Stats'!$A:$A,0)),"") -> 0 | R29: =IFERROR(INDEX('Weekly Stats'!P:P,MATCH($C29,'Weekly Stats'!$A:$A,0)),"") -> 0 | S29: =IFERROR(INDEX('Weekly Stats'!Q:Q,MATCH($C29,'Weekly Stats'!$A:$A,0)),"") -> 0 | T29: =IFERROR(INDEX('Weekly Stats'!R:R,MATCH($C29,'Weekly Stats'!$A:$A,0)),"") -> 0 | U29: =IFERROR(INDEX('Weekly Stats'!S:S,MATCH($C29,'Weekly Stats'!$A:$A,0)),"") -> 0 | V29: =IFERROR(INDEX('Weekly Stats'!T:T,MATCH($C29,'Weekly Stats'!$A:$A,0)),"") -> 0 | W29: =IFERROR((Q29*3)+V29,0) -> 0 | X29: =IFERROR(ROUND(D29/E29,3),"") -> 0.571 | Y29: =IFERROR(ROUND(J29/I29,2),"") -> 5.67 | Z29: =IFERROR(ROUND(M29/L29,2),"")
B30: A_QB2: | C30: {=IFERROR(INDEX(Lineups!D:D,MATCH(B$27&B30,Lineups!A:A&Lineups!B:B,0)),"")} -> Jalon Daniels | D30: =IFERROR(INDEX('Weekly Stats'!B:B,MATCH($C30,'Weekly Stats'!$A:$A,0)),"") -> 19 | E30: =IFERROR(INDEX('Weekly Stats'!C:C,MATCH($C30,'Weekly Stats'!$A:$A,0)),"") -> 25 | F30: =IFERROR(INDEX('Weekly Stats'!D:D,MATCH($C30,'Weekly Stats'!$A:$A,0)),"") -> 189 | G30: =IFERROR(INDEX('Weekly Stats'!E:E,MATCH($C30,'Weekly Stats'!$A:$A,0)),"") -> 1 | H30: =IFERROR(INDEX('Weekly Stats'!F:F,MATCH($C30,'Weekly Stats'!$A:$A,0)),"") -> 0 | I30: =IFERROR(INDEX('Weekly Stats'!G:G,MATCH($C30,'Weekly Stats'!$A:$A,0)),"") -> 7 | J30: =IFERROR(INDEX('Weekly Stats'!H:H,MATCH($C30,'Weekly Stats'!$A:$A,0)),"") -> 23 | K30: =IFERROR(INDEX('Weekly Stats'!I:I,MATCH($C30,'Weekly Stats'!$A:$A,0)),"") -> 0 | L30: =IFERROR(INDEX('Weekly Stats'!J:J,MATCH($C30,'Weekly Stats'!$A:$A,0)),"") -> 0 | M30: =IFERROR(INDEX('Weekly Stats'!K:K,MATCH($C30,'Weekly Stats'!$A:$A,0)),"") -> 0 | N30: =IFERROR(INDEX('Weekly Stats'!L:L,MATCH($C30,'Weekly Stats'!$A:$A,0)),"") -> 0 | O30: =IFERROR(INDEX('Weekly Stats'!M:M,MATCH($C30,'Weekly Stats'!$A:$A,0)),"") -> 0 | P30: =IFERROR(INDEX('Weekly Stats'!N:N,MATCH($C30,'Weekly Stats'!$A:$A,0)),"") -> 0 | Q30: =IFERROR(INDEX('Weekly Stats'!O:O,MATCH($C30,'Weekly Stats'!$A:$A,0)),"") -> 0 | R30: =IFERROR(INDEX('Weekly Stats'!P:P,MATCH($C30,'Weekly Stats'!$A:$A,0)),"") -> 0 | S30: =IFERROR(INDEX('Weekly Stats'!Q:Q,MATCH($C30,'Weekly Stats'!$A:$A,0)),"") -> 0 | T30: =IFERROR(INDEX('Weekly Stats'!R:R,MATCH($C30,'Weekly Stats'!$A:$A,0)),"") -> 0 | U30: =IFERROR(INDEX('Weekly Stats'!S:S,MATCH($C30,'Weekly Stats'!$A:$A,0)),"") -> 0 | V30: =IFERROR(INDEX('Weekly Stats'!T:T,MATCH($C30,'Weekly Stats'!$A:$A,0)),"") -> 0 | W30: =IFERROR((Q30*3)+V30,0) -> 0 | X30: =IFERROR(ROUND(D30/E30,3),"") -> 0.76 | Y30: =IFERROR(ROUND(J30/I30,2),"") -> 3.29 | Z30: =IFERROR(ROUND(M30/L30,2),"")
B31: A_RB1: | C31: {=IFERROR(INDEX(Lineups!D:D,MATCH(B$27&B31,Lineups!A:A&Lineups!B:B,0)),"")} -> Javonte Williams | D31: =IFERROR(INDEX('Weekly Stats'!B:B,MATCH($C31,'Weekly Stats'!$A:$A,0)),"") -> 0 | E31: =IFERROR(INDEX('Weekly Stats'!C:C,MATCH($C31,'Weekly Stats'!$A:$A,0)),"") -> 0 | F31: =IFERROR(INDEX('Weekly Stats'!D:D,MATCH($C31,'Weekly Stats'!$A:$A,0)),"") -> 0 | G31: =IFERROR(INDEX('Weekly Stats'!E:E,MATCH($C31,'Weekly Stats'!$A:$A,0)),"") -> 0 | H31: =IFERROR(INDEX('Weekly Stats'!F:F,MATCH($C31,'Weekly Stats'!$A:$A,0)),"") -> 0 | I31: =IFERROR(INDEX('Weekly Stats'!G:G,MATCH($C31,'Weekly Stats'!$A:$A,0)),"") -> 12 | J31: =IFERROR(INDEX('Weekly Stats'!H:H,MATCH($C31,'Weekly Stats'!$A:$A,0)),"") -> 45 | K31: =IFERROR(INDEX('Weekly Stats'!I:I,MATCH($C31,'Weekly Stats'!$A:$A,0)),"") -> 1 | L31: =IFERROR(INDEX('Weekly Stats'!J:J,MATCH($C31,'Weekly Stats'!$A:$A,0)),"") -> 2 | M31: =IFERROR(INDEX('Weekly Stats'!K:K,MATCH($C31,'Weekly Stats'!$A:$A,0)),"") -> 17 | N31: =IFERROR(INDEX('Weekly Stats'!L:L,MATCH($C31,'Weekly Stats'!$A:$A,0)),"") -> 0 | O31: =IFERROR(INDEX('Weekly Stats'!M:M,MATCH($C31,'Weekly Stats'!$A:$A,0)),"") -> 0 | P31: =IFERROR(INDEX('Weekly Stats'!N:N,MATCH($C31,'Weekly Stats'!$A:$A,0)),"") -> 0 | Q31: =IFERROR(INDEX('Weekly Stats'!O:O,MATCH($C31,'Weekly Stats'!$A:$A,0)),"") -> 0 | R31: =IFERROR(INDEX('Weekly Stats'!P:P,MATCH($C31,'Weekly Stats'!$A:$A,0)),"") -> 0 | S31: =IFERROR(INDEX('Weekly Stats'!Q:Q,MATCH($C31,'Weekly Stats'!$A:$A,0)),"") -> 0 | T31: =IFERROR(INDEX('Weekly Stats'!R:R,MATCH($C31,'Weekly Stats'!$A:$A,0)),"") -> 0 | U31: =IFERROR(INDEX('Weekly Stats'!S:S,MATCH($C31,'Weekly Stats'!$A:$A,0)),"") -> 0 | V31: =IFERROR(INDEX('Weekly Stats'!T:T,MATCH($C31,'Weekly Stats'!$A:$A,0)),"") -> 0 | W31: =IFERROR((Q31*3)+V31,0) -> 0 | X31: =IFERROR(ROUND(D31/E31,3),"") | Y31: =IFERROR(ROUND(J31/I31,2),"") -> 3.75 | Z31: =IFERROR(ROUND(M31/L31,2),"") -> 8.5
B32: A_RB2: | C32: {=IFERROR(INDEX(Lineups!D:D,MATCH(B$27&B32,Lineups!A:A&Lineups!B:B,0)),"")} -> Ashton Jeanty | D32: =IFERROR(INDEX('Weekly Stats'!B:B,MATCH($C32,'Weekly Stats'!$A:$A,0)),"") -> 0 | E32: =IFERROR(INDEX('Weekly Stats'!C:C,MATCH($C32,'Weekly Stats'!$A:$A,0)),"") -> 0 | F32: =IFERROR(INDEX('Weekly Stats'!D:D,MATCH($C32,'Weekly Stats'!$A:$A,0)),"") -> 0 | G32: =IFERROR(INDEX('Weekly Stats'!E:E,MATCH($C32,'Weekly Stats'!$A:$A,0)),"") -> 0 | H32: =IFERROR(INDEX('Weekly Stats'!F:F,MATCH($C32,'Weekly Stats'!$A:$A,0)),"") -> 0 | I32: =IFERROR(INDEX('Weekly Stats'!G:G,MATCH($C32,'Weekly Stats'!$A:$A,0)),"") -> 10 | J32: =IFERROR(INDEX('Weekly Stats'!H:H,MATCH($C32,'Weekly Stats'!$A:$A,0)),"") -> 27 | K32: =IFERROR(INDEX('Weekly Stats'!I:I,MATCH($C32,'Weekly Stats'!$A:$A,0)),"") -> 0 | L32: =IFERROR(INDEX('Weekly Stats'!J:J,MATCH($C32,'Weekly Stats'!$A:$A,0)),"") -> 3 | M32: =IFERROR(INDEX('Weekly Stats'!K:K,MATCH($C32,'Weekly Stats'!$A:$A,0)),"") -> 50 | N32: =IFERROR(INDEX('Weekly Stats'!L:L,MATCH($C32,'Weekly Stats'!$A:$A,0)),"") -> 0 | O32: =IFERROR(INDEX('Weekly Stats'!M:M,MATCH($C32,'Weekly Stats'!$A:$A,0)),"") -> 0 | P32: =IFERROR(INDEX('Weekly Stats'!N:N,MATCH($C32,'Weekly Stats'!$A:$A,0)),"") -> 0 | Q32: =IFERROR(INDEX('Weekly Stats'!O:O,MATCH($C32,'Weekly Stats'!$A:$A,0)),"") -> 0 | R32: =IFERROR(INDEX('Weekly Stats'!P:P,MATCH($C32,'Weekly Stats'!$A:$A,0)),"") -> 0 | S32: =IFERROR(INDEX('Weekly Stats'!Q:Q,MATCH($C32,'Weekly Stats'!$A:$A,0)),"") -> 0 | T32: =IFERROR(INDEX('Weekly Stats'!R:R,MATCH($C32,'Weekly Stats'!$A:$A,0)),"") -> 0 | U32: =IFERROR(INDEX('Weekly Stats'!S:S,MATCH($C32,'Weekly Stats'!$A:$A,0)),"") -> 0 | V32: =IFERROR(INDEX('Weekly Stats'!T:T,MATCH($C32,'Weekly Stats'!$A:$A,0)),"") -> 0 | W32: =IFERROR((Q32*3)+V32,0) -> 0 | X32: =IFERROR(ROUND(D32/E32,3),"") | Y32: =IFERROR(ROUND(J32/I32,2),"") -> 2.7 | Z32: =IFERROR(ROUND(M32/L32,2),"") -> 16.67
B33: A_RB3: | C33: {=IFERROR(INDEX(Lineups!D:D,MATCH(B$27&B33,Lineups!A:A&Lineups!B:B,0)),"")} -> Braelon Allen | D33: =IFERROR(INDEX('Weekly Stats'!B:B,MATCH($C33,'Weekly Stats'!$A:$A,0)),"") -> 0 | E33: =IFERROR(INDEX('Weekly Stats'!C:C,MATCH($C33,'Weekly Stats'!$A:$A,0)),"") -> 0 | F33: =IFERROR(INDEX('Weekly Stats'!D:D,MATCH($C33,'Weekly Stats'!$A:$A,0)),"") -> 0 | G33: =IFERROR(INDEX('Weekly Stats'!E:E,MATCH($C33,'Weekly Stats'!$A:$A,0)),"") -> 0 | H33: =IFERROR(INDEX('Weekly Stats'!F:F,MATCH($C33,'Weekly Stats'!$A:$A,0)),"") -> 0 | I33: =IFERROR(INDEX('Weekly Stats'!G:G,MATCH($C33,'Weekly Stats'!$A:$A,0)),"") -> 24 | J33: =IFERROR(INDEX('Weekly Stats'!H:H,MATCH($C33,'Weekly Stats'!$A:$A,0)),"") -> 116 | K33: =IFERROR(INDEX('Weekly Stats'!I:I,MATCH($C33,'Weekly Stats'!$A:$A,0)),"") -> 1 | L33: =IFERROR(INDEX('Weekly Stats'!J:J,MATCH($C33,'Weekly Stats'!$A:$A,0)),"") -> 1 | M33: =IFERROR(INDEX('Weekly Stats'!K:K,MATCH($C33,'Weekly Stats'!$A:$A,0)),"") -> 0 | N33: =IFERROR(INDEX('Weekly Stats'!L:L,MATCH($C33,'Weekly Stats'!$A:$A,0)),"") -> 0 | O33: =IFERROR(INDEX('Weekly Stats'!M:M,MATCH($C33,'Weekly Stats'!$A:$A,0)),"") -> 0 | P33: =IFERROR(INDEX('Weekly Stats'!N:N,MATCH($C33,'Weekly Stats'!$A:$A,0)),"") -> 0 | Q33: =IFERROR(INDEX('Weekly Stats'!O:O,MATCH($C33,'Weekly Stats'!$A:$A,0)),"") -> 0 | R33: =IFERROR(INDEX('Weekly Stats'!P:P,MATCH($C33,'Weekly Stats'!$A:$A,0)),"") -> 0 | S33: =IFERROR(INDEX('Weekly Stats'!Q:Q,MATCH($C33,'Weekly Stats'!$A:$A,0)),"") -> 0 | T33: =IFERROR(INDEX('Weekly Stats'!R:R,MATCH($C33,'Weekly Stats'!$A:$A,0)),"") -> 0 | U33: =IFERROR(INDEX('Weekly Stats'!S:S,MATCH($C33,'Weekly Stats'!$A:$A,0)),"") -> 0 | V33: =IFERROR(INDEX('Weekly Stats'!T:T,MATCH($C33,'Weekly Stats'!$A:$A,0)),"") -> 0 | W33: =IFERROR((Q33*3)+V33,0) -> 0 | X33: =IFERROR(ROUND(D33/E33,3),"") | Y33: =IFERROR(ROUND(J33/I33,2),"") -> 4.83 | Z33: =IFERROR(ROUND(M33/L33,2),"") -> 0
B34: A_RC1: | C34: {=IFERROR(INDEX(Lineups!D:D,MATCH(B$27&B34,Lineups!A:A&Lineups!B:B,0)),"")} -> Chris Olave | D34: =IFERROR(INDEX('Weekly Stats'!B:B,MATCH($C34,'Weekly Stats'!$A:$A,0)),"") -> 0 | E34: =IFERROR(INDEX('Weekly Stats'!C:C,MATCH($C34,'Weekly Stats'!$A:$A,0)),"") -> 0 | F34: =IFERROR(INDEX('Weekly Stats'!D:D,MATCH($C34,'Weekly Stats'!$A:$A,0)),"") -> 0 | G34: =IFERROR(INDEX('Weekly Stats'!E:E,MATCH($C34,'Weekly Stats'!$A:$A,0)),"") -> 0 | H34: =IFERROR(INDEX('Weekly Stats'!F:F,MATCH($C34,'Weekly Stats'!$A:$A,0)),"") -> 0 | I34: =IFERROR(INDEX('Weekly Stats'!G:G,MATCH($C34,'Weekly Stats'!$A:$A,0)),"") -> 0 | J34: =IFERROR(INDEX('Weekly Stats'!H:H,MATCH($C34,'Weekly Stats'!$A:$A,0)),"") -> 0 | K34: =IFERROR(INDEX('Weekly Stats'!I:I,MATCH($C34,'Weekly Stats'!$A:$A,0)),"") -> 0 | L34: =IFERROR(INDEX('Weekly Stats'!J:J,MATCH($C34,'Weekly Stats'!$A:$A,0)),"") -> 4 | M34: =IFERROR(INDEX('Weekly Stats'!K:K,MATCH($C34,'Weekly Stats'!$A:$A,0)),"") -> 46 | N34: =IFERROR(INDEX('Weekly Stats'!L:L,MATCH($C34,'Weekly Stats'!$A:$A,0)),"") -> 0 | O34: =IFERROR(INDEX('Weekly Stats'!M:M,MATCH($C34,'Weekly Stats'!$A:$A,0)),"") -> 0 | P34: =IFERROR(INDEX('Weekly Stats'!N:N,MATCH($C34,'Weekly Stats'!$A:$A,0)),"") -> 0 | Q34: =IFERROR(INDEX('Weekly Stats'!O:O,MATCH($C34,'Weekly Stats'!$A:$A,0)),"") -> 0 | R34: =IFERROR(INDEX('Weekly Stats'!P:P,MATCH($C34,'Weekly Stats'!$A:$A,0)),"") -> 0 | S34: =IFERROR(INDEX('Weekly Stats'!Q:Q,MATCH($C34,'Weekly Stats'!$A:$A,0)),"") -> 0 | T34: =IFERROR(INDEX('Weekly Stats'!R:R,MATCH($C34,'Weekly Stats'!$A:$A,0)),"") -> 0 | U34: =IFERROR(INDEX('Weekly Stats'!S:S,MATCH($C34,'Weekly Stats'!$A:$A,0)),"") -> 0 | V34: =IFERROR(INDEX('Weekly Stats'!T:T,MATCH($C34,'Weekly Stats'!$A:$A,0)),"") -> 0 | W34: =IFERROR((Q34*3)+V34,0) -> 0 | X34: =IFERROR(ROUND(D34/E34,3),"") | Y34: =IFERROR(ROUND(J34/I34,2),"") | Z34: =IFERROR(ROUND(M34/L34,2),"") -> 11.5
B35: A_RC2: | C35: {=IFERROR(INDEX(Lineups!D:D,MATCH(B$27&B35,Lineups!A:A&Lineups!B:B,0)),"")} -> Michael Wilson | D35: =IFERROR(INDEX('Weekly Stats'!B:B,MATCH($C35,'Weekly Stats'!$A:$A,0)),"") -> 1 | E35: =IFERROR(INDEX('Weekly Stats'!C:C,MATCH($C35,'Weekly Stats'!$A:$A,0)),"") -> 1 | F35: =IFERROR(INDEX('Weekly Stats'!D:D,MATCH($C35,'Weekly Stats'!$A:$A,0)),"") -> 7 | G35: =IFERROR(INDEX('Weekly Stats'!E:E,MATCH($C35,'Weekly Stats'!$A:$A,0)),"") -> 0 | H35: =IFERROR(INDEX('Weekly Stats'!F:F,MATCH($C35,'Weekly Stats'!$A:$A,0)),"") -> 0 | I35: =IFERROR(INDEX('Weekly Stats'!G:G,MATCH($C35,'Weekly Stats'!$A:$A,0)),"") -> 0 | J35: =IFERROR(INDEX('Weekly Stats'!H:H,MATCH($C35,'Weekly Stats'!$A:$A,0)),"") -> 0 | K35: =IFERROR(INDEX('Weekly Stats'!I:I,MATCH($C35,'Weekly Stats'!$A:$A,0)),"") -> 0 | L35: =IFERROR(INDEX('Weekly Stats'!J:J,MATCH($C35,'Weekly Stats'!$A:$A,0)),"") -> 4 | M35: =IFERROR(INDEX('Weekly Stats'!K:K,MATCH($C35,'Weekly Stats'!$A:$A,0)),"") -> 30 | N35: =IFERROR(INDEX('Weekly Stats'!L:L,MATCH($C35,'Weekly Stats'!$A:$A,0)),"") -> 0 | O35: =IFERROR(INDEX('Weekly Stats'!M:M,MATCH($C35,'Weekly Stats'!$A:$A,0)),"") -> 0 | P35: =IFERROR(INDEX('Weekly Stats'!N:N,MATCH($C35,'Weekly Stats'!$A:$A,0)),"") -> 0 | Q35: =IFERROR(INDEX('Weekly Stats'!O:O,MATCH($C35,'Weekly Stats'!$A:$A,0)),"") -> 0 | R35: =IFERROR(INDEX('Weekly Stats'!P:P,MATCH($C35,'Weekly Stats'!$A:$A,0)),"") -> 0 | S35: =IFERROR(INDEX('Weekly Stats'!Q:Q,MATCH($C35,'Weekly Stats'!$A:$A,0)),"") -> 0 | T35: =IFERROR(INDEX('Weekly Stats'!R:R,MATCH($C35,'Weekly Stats'!$A:$A,0)),"") -> 0 | U35: =IFERROR(INDEX('Weekly Stats'!S:S,MATCH($C35,'Weekly Stats'!$A:$A,0)),"") -> 0 | V35: =IFERROR(INDEX('Weekly Stats'!T:T,MATCH($C35,'Weekly Stats'!$A:$A,0)),"") -> 0 | W35: =IFERROR((Q35*3)+V35,0) -> 0 | X35: =IFERROR(ROUND(D35/E35,3),"") -> 1 | Y35: =IFERROR(ROUND(J35/I35,2),"") | Z35: =IFERROR(ROUND(M35/L35,2),"") -> 7.5
B36: A_RC3: | C36: {=IFERROR(INDEX(Lineups!D:D,MATCH(B$27&B36,Lineups!A:A&Lineups!B:B,0)),"")} -> Jameson Williams | D36: =IFERROR(INDEX('Weekly Stats'!B:B,MATCH($C36,'Weekly Stats'!$A:$A,0)),"") -> 0 | E36: =IFERROR(INDEX('Weekly Stats'!C:C,MATCH($C36,'Weekly Stats'!$A:$A,0)),"") -> 0 | F36: =IFERROR(INDEX('Weekly Stats'!D:D,MATCH($C36,'Weekly Stats'!$A:$A,0)),"") -> 0 | G36: =IFERROR(INDEX('Weekly Stats'!E:E,MATCH($C36,'Weekly Stats'!$A:$A,0)),"") -> 0 | H36: =IFERROR(INDEX('Weekly Stats'!F:F,MATCH($C36,'Weekly Stats'!$A:$A,0)),"") -> 0 | I36: =IFERROR(INDEX('Weekly Stats'!G:G,MATCH($C36,'Weekly Stats'!$A:$A,0)),"") -> 0 | J36: =IFERROR(INDEX('Weekly Stats'!H:H,MATCH($C36,'Weekly Stats'!$A:$A,0)),"") -> 0 | K36: =IFERROR(INDEX('Weekly Stats'!I:I,MATCH($C36,'Weekly Stats'!$A:$A,0)),"") -> 0 | L36: =IFERROR(INDEX('Weekly Stats'!J:J,MATCH($C36,'Weekly Stats'!$A:$A,0)),"") -> 2 | M36: =IFERROR(INDEX('Weekly Stats'!K:K,MATCH($C36,'Weekly Stats'!$A:$A,0)),"") -> 47 | N36: =IFERROR(INDEX('Weekly Stats'!L:L,MATCH($C36,'Weekly Stats'!$A:$A,0)),"") -> 2 | O36: =IFERROR(INDEX('Weekly Stats'!M:M,MATCH($C36,'Weekly Stats'!$A:$A,0)),"") -> 0 | P36: =IFERROR(INDEX('Weekly Stats'!N:N,MATCH($C36,'Weekly Stats'!$A:$A,0)),"") -> 0 | Q36: =IFERROR(INDEX('Weekly Stats'!O:O,MATCH($C36,'Weekly Stats'!$A:$A,0)),"") -> 0 | R36: =IFERROR(INDEX('Weekly Stats'!P:P,MATCH($C36,'Weekly Stats'!$A:$A,0)),"") -> 0 | S36: =IFERROR(INDEX('Weekly Stats'!Q:Q,MATCH($C36,'Weekly Stats'!$A:$A,0)),"") -> 0 | T36: =IFERROR(INDEX('Weekly Stats'!R:R,MATCH($C36,'Weekly Stats'!$A:$A,0)),"") -> 0 | U36: =IFERROR(INDEX('Weekly Stats'!S:S,MATCH($C36,'Weekly Stats'!$A:$A,0)),"") -> 0 | V36: =IFERROR(INDEX('Weekly Stats'!T:T,MATCH($C36,'Weekly Stats'!$A:$A,0)),"") -> 0 | W36: =IFERROR((Q36*3)+V36,0) -> 0 | X36: =IFERROR(ROUND(D36/E36,3),"") | Y36: =IFERROR(ROUND(J36/I36,2),"") | Z36: =IFERROR(ROUND(M36/L36,2),"") -> 23.5
B37: A_PK1: | C37: {=IFERROR(INDEX(Lineups!D:D,MATCH(B$27&B37,Lineups!A:A&Lineups!B:B,0)),"")} -> Chase McLaughlin | D37: =IFERROR(INDEX('Weekly Stats'!B:B,MATCH($C37,'Weekly Stats'!$A:$A,0)),"") -> 0 | E37: =IFERROR(INDEX('Weekly Stats'!C:C,MATCH($C37,'Weekly Stats'!$A:$A,0)),"") -> 0 | F37: =IFERROR(INDEX('Weekly Stats'!D:D,MATCH($C37,'Weekly Stats'!$A:$A,0)),"") -> 0 | G37: =IFERROR(INDEX('Weekly Stats'!E:E,MATCH($C37,'Weekly Stats'!$A:$A,0)),"") -> 0 | H37: =IFERROR(INDEX('Weekly Stats'!F:F,MATCH($C37,'Weekly Stats'!$A:$A,0)),"") -> 0 | I37: =IFERROR(INDEX('Weekly Stats'!G:G,MATCH($C37,'Weekly Stats'!$A:$A,0)),"") -> 0 | J37: =IFERROR(INDEX('Weekly Stats'!H:H,MATCH($C37,'Weekly Stats'!$A:$A,0)),"") -> 0 | K37: =IFERROR(INDEX('Weekly Stats'!I:I,MATCH($C37,'Weekly Stats'!$A:$A,0)),"") -> 0 | L37: =IFERROR(INDEX('Weekly Stats'!J:J,MATCH($C37,'Weekly Stats'!$A:$A,0)),"") -> 0 | M37: =IFERROR(INDEX('Weekly Stats'!K:K,MATCH($C37,'Weekly Stats'!$A:$A,0)),"") -> 0 | N37: =IFERROR(INDEX('Weekly Stats'!L:L,MATCH($C37,'Weekly Stats'!$A:$A,0)),"") -> 0 | O37: =IFERROR(INDEX('Weekly Stats'!M:M,MATCH($C37,'Weekly Stats'!$A:$A,0)),"") -> 0 | P37: =IFERROR(INDEX('Weekly Stats'!N:N,MATCH($C37,'Weekly Stats'!$A:$A,0)),"") -> 0 | Q37: =IFERROR(INDEX('Weekly Stats'!O:O,MATCH($C37,'Weekly Stats'!$A:$A,0)),"") -> 1 | R37: =IFERROR(INDEX('Weekly Stats'!P:P,MATCH($C37,'Weekly Stats'!$A:$A,0)),"") -> 0 | S37: =IFERROR(INDEX('Weekly Stats'!Q:Q,MATCH($C37,'Weekly Stats'!$A:$A,0)),"") -> 1 | T37: =IFERROR(INDEX('Weekly Stats'!R:R,MATCH($C37,'Weekly Stats'!$A:$A,0)),"") -> 0 | U37: =IFERROR(INDEX('Weekly Stats'!S:S,MATCH($C37,'Weekly Stats'!$A:$A,0)),"") -> 0 | V37: =IFERROR(INDEX('Weekly Stats'!T:T,MATCH($C37,'Weekly Stats'!$A:$A,0)),"") -> 3 | W37: =IFERROR((Q37*3)+V37,0) -> 6 | X37: =IFERROR(ROUND(D37/E37,3),"") | Y37: =IFERROR(ROUND(J37/I37,2),"") | Z37: =IFERROR(ROUND(M37/L37,2),"")
C38: Totals | D38: =SUM(D29:D37) -> 32 | E38: =SUM(E29:E37) -> 47 | F38: =SUM(F29:F37) -> 283 | G38: =SUM(G29:G37) -> 1 | H38: =SUM(H29:H37) -> 2 | I38: =SUM(I29:I37) -> 56 | J38: =SUM(J29:J37) -> 228 | K38: =SUM(K29:K37) -> 2 | ... W38: =SUM(W29:W37) -> 6 | X38: =IFERROR(ROUND(D38/E38,3),0) -> 0.681 | Y38: =IFERROR(ROUND(J38/I38,2),0) -> 4.07 | Z38: =IFERROR(ROUND(M38/L38,2),0) -> 11.88
C39: Team | D39: Sacks | E39: Fumble Rec. | F39: Interceptions | G39: Yards Allowed | H39: Pts. Scored | I39: Pts. Allowed
B40: A_DU1: | C40: {=IFERROR(INDEX(Lineups!D:D,MATCH(B$27&B40,Lineups!A:A&Lineups!B:B,0)),"")} -> Houston Texans | D40: =IFERROR(INDEX('Weekly Stats'!C:C,MATCH($C40,'Weekly Stats'!$A:$A,0)),"") -> 4 | E40: =IFERROR(INDEX('Weekly Stats'!D:D,MATCH($C40,'Weekly Stats'!$A:$A,0)),"") -> 1 | F40: =IFERROR(INDEX('Weekly Stats'!E:E,MATCH($C40,'Weekly Stats'!$A:$A,0)),"") -> 1 | G40: =IFERROR(INDEX('Weekly Stats'!F:F,MATCH($C40,'Weekly Stats'!$A:$A,0)),"") -> 187 | H40: =IFERROR(INDEX('Weekly Stats'!K:K,MATCH($C40,'Weekly Stats'!$A:$A,0)),"") -> 0 | I40: =IFERROR(INDEX('Weekly Stats'!G:G,MATCH($C40,'Weekly Stats'!$A:$A,0)),"") -> 3
C41: Head Coach | D41: Pts. Differential
...

Sheet Rough Rodgers Goes Riding
C1: GBRFL | E1: Back to Results | G1: Rosters | H1: Standings | I1: Schedule | J1: Rules/Scoring | K1: Lineups | L1: Transactions
A2: 2 | B2: =IFERROR(INDEX(Data!I:I,MATCH(A2,Data!H:H,0)),"") -> Rough Rodgers Goes Riding
C3: Player | D3: Completions | E3: Passes | F3: Yards | G3: TD's | H3: INT's | I3: Rushes | J3: Yards | K3: TD's | L3: Receptions | M3: Yards | N3: TD's | O3: Fum Lost | P3: 2Pt | Q3: FG's Made | R3: ="10-39" -> 10-39 | S3: 40-49 | T3: 50+ | U3: 60+ | V3: Extra pts. | W3: Total pts. | X3: Comp. % | Y3: Yards/Rush | Z3: Yards/Rec.
B4: A_QB1: | C4: {=IFERROR(INDEX(Lineups!D:D,MATCH(B$2&B4,Lineups!A:A&Lineups!B:B,0)),"")} -> Aaron Rodgers | D4: =IFERROR(INDEX('Weekly Stats'!B:B,MATCH($C4,'Weekly Stats'!$A:$A,0)),"") -> 22 | E4: =IFERROR(INDEX('Weekly Stats'!C:C,MATCH($C4,'Weekly Stats'!$A:$A,0)),"") -> 31 | F4: =IFERROR(INDEX('Weekly Stats'!D:D,MATCH($C4,'Weekly Stats'!$A:$A,0)),"") -> 235 | G4: =IFERROR(INDEX('Weekly Stats'!E:E,MATCH($C4,'Weekly Stats'!$A:$A,0)),"") -> 3 | H4: =IFERROR(INDEX('Weekly Stats'!F:F,MATCH($C4,'Weekly Stats'!$A:$A,0)),"") -> 0 | I4: =IFERROR(INDEX('Weekly Stats'!G:G,MATCH($C4,'Weekly Stats'!$A:$A,0)),"") -> 1 | J4: =IFERROR(INDEX('Weekly Stats'!H:H,MATCH($C4,'Weekly Stats'!$A:$A,0)),"") -> 6 | K4: =IFERROR(INDEX('Weekly Stats'!I:I,MATCH($C4,'Weekly Stats'!$A:$A,0)),"") -> 0 | L4: =IFERROR(INDEX('Weekly Stats'!J:J,MATCH($C4,'Weekly Stats'!$A:$A,0)),"") -> 0 | M4: =IFERROR(INDEX('Weekly Stats'!K:K,MATCH($C4,'Weekly Stats'!$A:$A,0)),"") -> 0 | N4: =IFERROR(INDEX('Weekly Stats'!L:L,MATCH($C4,'Weekly Stats'!$A:$A,0)),"") -> 0 | O4: =IFERROR(INDEX('Weekly Stats'!M:M,MATCH($C4,'Weekly Stats'!$A:$A,0)),"") -> 0 | P4: =IFERROR(INDEX('Weekly Stats'!N:N,MATCH($C4,'Weekly Stats'!$A:$A,0)),"") -> 0 | Q4: =IFERROR(INDEX('Weekly Stats'!O:O,MATCH($C4,'Weekly Stats'!$A:$A,0)),"") -> 0 | R4: =IFERROR(INDEX('Weekly Stats'!P:P,MATCH($C4,'Weekly Stats'!$A:$A,0)),"") -> 0 | S4: =IFERROR(INDEX('Weekly Stats'!Q:Q,MATCH($C4,'Weekly Stats'!$A:$A,0)),"") -> 0 | T4: =IFERROR(INDEX('Weekly Stats'!R:R,MATCH($C4,'Weekly Stats'!$A:$A,0)),"") -> 0 | U4: =IFERROR(INDEX('Weekly Stats'!S:S,MATCH($C4,'Weekly Stats'!$A:$A,0)),"") -> 0 | V4: =IFERROR(INDEX('Weekly Stats'!T:T,MATCH($C4,'Weekly Stats'!$A:$A,0)),"") -> 0 | W4: =IFERROR((Q4*3)+V4,0) -> 0 | X4: =IFERROR(ROUND(D4/E4,3),"") -> 0.71 | Y4: =IFERROR(ROUND(J4/I4,2),"") -> 6 | Z4: =IFERROR(ROUND(M4/L4,2),"")
